BEGIN:VCALENDAR
VERSION:2.0
PRODID:-//Peranfood - доставка здорового харчування - ECPv6.15.18//NONSGML v1.0//EN
CALSCALE:GREGORIAN
METHOD:PUBLISH
X-WR-CALNAME:Peranfood - доставка здорового харчування
X-ORIGINAL-URL:https://peranfood.com
X-WR-CALDESC:Події за Peranfood - доставка здорового харчування
REFRESH-INTERVAL;VALUE=DURATION:PT1H
X-Robots-Tag:noindex
X-PUBLISHED-TTL:PT1H
BEGIN:VTIMEZONE
TZID:Europe/Kiev
BEGIN:DAYLIGHT
TZOFFSETFROM:+0200
TZOFFSETTO:+0300
TZNAME:EEST
DTSTART:20250330T010000
END:DAYLIGHT
BEGIN:STANDARD
TZOFFSETFROM:+0300
TZOFFSETTO:+0200
TZNAME:EET
DTSTART:20251026T010000
END:STANDARD
BEGIN:DAYLIGHT
TZOFFSETFROM:+0200
TZOFFSETTO:+0300
TZNAME:EEST
DTSTART:20260329T010000
END:DAYLIGHT
BEGIN:STANDARD
TZOFFSETFROM:+0300
TZOFFSETTO:+0200
TZNAME:EET
DTSTART:20261025T010000
END:STANDARD
BEGIN:DAYLIGHT
TZOFFSETFROM:+0200
TZOFFSETTO:+0300
TZNAME:EEST
DTSTART:20270328T010000
END:DAYLIGHT
BEGIN:STANDARD
TZOFFSETFROM:+0300
TZOFFSETTO:+0200
TZNAME:EET
DTSTART:20271031T010000
END:STANDARD
BEGIN:DAYLIGHT
TZOFFSETFROM:+0200
TZOFFSETTO:+0300
TZNAME:EEST
DTSTART:20280326T010000
END:DAYLIGHT
BEGIN:STANDARD
TZOFFSETFROM:+0300
TZOFFSETTO:+0200
TZNAME:EET
DTSTART:20281029T010000
END:STANDARD
BEGIN:DAYLIGHT
TZOFFSETFROM:+0200
TZOFFSETTO:+0300
TZNAME:EEST
DTSTART:20290325T010000
END:DAYLIGHT
BEGIN:STANDARD
TZOFFSETFROM:+0300
TZOFFSETTO:+0200
TZNAME:EET
DTSTART:20291028T010000
END:STANDARD
END:VTIMEZONE
BEGIN:VEVENT
DTSTART;VALUE=DATE:20260502
DTEND;VALUE=DATE:20260503
DTSTAMP:20260422T153630
CREATED:20260306T102514Z
LAST-MODIFIED:20260306T103821Z
UID:10009599-1777680000-1777766399@peranfood.com
SUMMARY:19
DESCRIPTION:Сніданок:Шпинатні вафлі зі свіжим сиром та тунцем. \nПерекус 1:Батончик Баунті. \nОбід:Картопляні зрази з курячим рієтом. \nПерекус 2:Смузі ананас\, чорниця та м’ята. \nВечеря:Гречка по-Купецьки з грибами та курячими ковбасками з гірчицею.
URL:https://peranfood.com/event/19/2026-05-02/
CATEGORIES:950 ккал
END:VEVENT
BEGIN:VEVENT
DTSTART;VALUE=DATE:20260524
DTEND;VALUE=DATE:20260525
DTSTAMP:20260422T153630
CREATED:20260306T102514Z
LAST-MODIFIED:20260306T103821Z
UID:10009600-1779580800-1779667199@peranfood.com
SUMMARY:19
DESCRIPTION:Сніданок:Шпинатні вафлі зі свіжим сиром та тунцем. \nПерекус 1:Батончик Баунті. \nОбід:Картопляні зрази з курячим рієтом. \nПерекус 2:Смузі ананас\, чорниця та м’ята. \nВечеря:Гречка по-Купецьки з грибами та курячими ковбасками з гірчицею.
URL:https://peranfood.com/event/19/2026-05-24/
CATEGORIES:950 ккал
END:VEVENT
BEGIN:VEVENT
DTSTART;VALUE=DATE:20260615
DTEND;VALUE=DATE:20260616
DTSTAMP:20260422T153630
CREATED:20260306T102514Z
LAST-MODIFIED:20260306T103821Z
UID:10009601-1781481600-1781567999@peranfood.com
SUMMARY:19
DESCRIPTION:Сніданок:Шпинатні вафлі зі свіжим сиром та тунцем. \nПерекус 1:Батончик Баунті. \nОбід:Картопляні зрази з курячим рієтом. \nПерекус 2:Смузі ананас\, чорниця та м’ята. \nВечеря:Гречка по-Купецьки з грибами та курячими ковбасками з гірчицею.
URL:https://peranfood.com/event/19/2026-06-15/
CATEGORIES:950 ккал
END:VEVENT
BEGIN:VEVENT
DTSTART;VALUE=DATE:20260707
DTEND;VALUE=DATE:20260708
DTSTAMP:20260422T153630
CREATED:20260306T102514Z
LAST-MODIFIED:20260306T103821Z
UID:10009602-1783382400-1783468799@peranfood.com
SUMMARY:19
DESCRIPTION:Сніданок:Шпинатні вафлі зі свіжим сиром та тунцем. \nПерекус 1:Батончик Баунті. \nОбід:Картопляні зрази з курячим рієтом. \nПерекус 2:Смузі ананас\, чорниця та м’ята. \nВечеря:Гречка по-Купецьки з грибами та курячими ковбасками з гірчицею.
URL:https://peranfood.com/event/19/2026-07-07/
CATEGORIES:950 ккал
END:VEVENT
BEGIN:VEVENT
DTSTART;VALUE=DATE:20260729
DTEND;VALUE=DATE:20260730
DTSTAMP:20260422T153630
CREATED:20260306T102514Z
LAST-MODIFIED:20260306T103821Z
UID:10009603-1785283200-1785369599@peranfood.com
SUMMARY:19
DESCRIPTION:Сніданок:Шпинатні вафлі зі свіжим сиром та тунцем. \nПерекус 1:Батончик Баунті. \nОбід:Картопляні зрази з курячим рієтом. \nПерекус 2:Смузі ананас\, чорниця та м’ята. \nВечеря:Гречка по-Купецьки з грибами та курячими ковбасками з гірчицею.
URL:https://peranfood.com/event/19/2026-07-29/
CATEGORIES:950 ккал
END:VEVENT
BEGIN:VEVENT
DTSTART;VALUE=DATE:20260820
DTEND;VALUE=DATE:20260821
DTSTAMP:20260422T153630
CREATED:20260306T102514Z
LAST-MODIFIED:20260306T103821Z
UID:10009604-1787184000-1787270399@peranfood.com
SUMMARY:19
DESCRIPTION:Сніданок:Шпинатні вафлі зі свіжим сиром та тунцем. \nПерекус 1:Батончик Баунті. \nОбід:Картопляні зрази з курячим рієтом. \nПерекус 2:Смузі ананас\, чорниця та м’ята. \nВечеря:Гречка по-Купецьки з грибами та курячими ковбасками з гірчицею.
URL:https://peranfood.com/event/19/2026-08-20/
CATEGORIES:950 ккал
END:VEVENT
BEGIN:VEVENT
DTSTART;VALUE=DATE:20260911
DTEND;VALUE=DATE:20260912
DTSTAMP:20260422T153630
CREATED:20260306T102514Z
LAST-MODIFIED:20260306T103821Z
UID:10009605-1789084800-1789171199@peranfood.com
SUMMARY:19
DESCRIPTION:Сніданок:Шпинатні вафлі зі свіжим сиром та тунцем. \nПерекус 1:Батончик Баунті. \nОбід:Картопляні зрази з курячим рієтом. \nПерекус 2:Смузі ананас\, чорниця та м’ята. \nВечеря:Гречка по-Купецьки з грибами та курячими ковбасками з гірчицею.
URL:https://peranfood.com/event/19/2026-09-11/
CATEGORIES:950 ккал
END:VEVENT
BEGIN:VEVENT
DTSTART;VALUE=DATE:20261003
DTEND;VALUE=DATE:20261004
DTSTAMP:20260422T153630
CREATED:20260306T102514Z
LAST-MODIFIED:20260306T103821Z
UID:10009606-1790985600-1791071999@peranfood.com
SUMMARY:19
DESCRIPTION:Сніданок:Шпинатні вафлі зі свіжим сиром та тунцем. \nПерекус 1:Батончик Баунті. \nОбід:Картопляні зрази з курячим рієтом. \nПерекус 2:Смузі ананас\, чорниця та м’ята. \nВечеря:Гречка по-Купецьки з грибами та курячими ковбасками з гірчицею.
URL:https://peranfood.com/event/19/2026-10-03/
CATEGORIES:950 ккал
END:VEVENT
BEGIN:VEVENT
DTSTART;VALUE=DATE:20261025
DTEND;VALUE=DATE:20261026
DTSTAMP:20260422T153630
CREATED:20260306T102514Z
LAST-MODIFIED:20260306T103821Z
UID:10009607-1792886400-1792969199@peranfood.com
SUMMARY:19
DESCRIPTION:Сніданок:Шпинатні вафлі зі свіжим сиром та тунцем. \nПерекус 1:Батончик Баунті. \nОбід:Картопляні зрази з курячим рієтом. \nПерекус 2:Смузі ананас\, чорниця та м’ята. \nВечеря:Гречка по-Купецьки з грибами та курячими ковбасками з гірчицею.
URL:https://peranfood.com/event/19/2026-10-25/
CATEGORIES:950 ккал
END:VEVENT
BEGIN:VEVENT
DTSTART;VALUE=DATE:20261116
DTEND;VALUE=DATE:20261117
DTSTAMP:20260422T153630
CREATED:20260306T102514Z
LAST-MODIFIED:20260306T103821Z
UID:10009608-1794787200-1794873599@peranfood.com
SUMMARY:19
DESCRIPTION:Сніданок:Шпинатні вафлі зі свіжим сиром та тунцем. \nПерекус 1:Батончик Баунті. \nОбід:Картопляні зрази з курячим рієтом. \nПерекус 2:Смузі ананас\, чорниця та м’ята. \nВечеря:Гречка по-Купецьки з грибами та курячими ковбасками з гірчицею.
URL:https://peranfood.com/event/19/2026-11-16/
CATEGORIES:950 ккал
END:VEVENT
BEGIN:VEVENT
DTSTART;VALUE=DATE:20261208
DTEND;VALUE=DATE:20261209
DTSTAMP:20260422T153630
CREATED:20260306T102514Z
LAST-MODIFIED:20260306T103821Z
UID:10009609-1796688000-1796774399@peranfood.com
SUMMARY:19
DESCRIPTION:Сніданок:Шпинатні вафлі зі свіжим сиром та тунцем. \nПерекус 1:Батончик Баунті. \nОбід:Картопляні зрази з курячим рієтом. \nПерекус 2:Смузі ананас\, чорниця та м’ята. \nВечеря:Гречка по-Купецьки з грибами та курячими ковбасками з гірчицею.
URL:https://peranfood.com/event/19/2026-12-08/
CATEGORIES:950 ккал
END:VEVENT
BEGIN:VEVENT
DTSTART;VALUE=DATE:20261230
DTEND;VALUE=DATE:20261231
DTSTAMP:20260422T153630
CREATED:20260306T102514Z
LAST-MODIFIED:20260306T103821Z
UID:10009610-1798588800-1798675199@peranfood.com
SUMMARY:19
DESCRIPTION:Сніданок:Шпинатні вафлі зі свіжим сиром та тунцем. \nПерекус 1:Батончик Баунті. \nОбід:Картопляні зрази з курячим рієтом. \nПерекус 2:Смузі ананас\, чорниця та м’ята. \nВечеря:Гречка по-Купецьки з грибами та курячими ковбасками з гірчицею.
URL:https://peranfood.com/event/19/2026-12-30/
CATEGORIES:950 ккал
END:VEVENT
BEGIN:VEVENT
DTSTART;VALUE=DATE:20270121
DTEND;VALUE=DATE:20270122
DTSTAMP:20260422T153630
CREATED:20260306T102514Z
LAST-MODIFIED:20260306T103821Z
UID:10009611-1800489600-1800575999@peranfood.com
SUMMARY:19
DESCRIPTION:Сніданок:Шпинатні вафлі зі свіжим сиром та тунцем. \nПерекус 1:Батончик Баунті. \nОбід:Картопляні зрази з курячим рієтом. \nПерекус 2:Смузі ананас\, чорниця та м’ята. \nВечеря:Гречка по-Купецьки з грибами та курячими ковбасками з гірчицею.
URL:https://peranfood.com/event/19/2027-01-21/
CATEGORIES:950 ккал
END:VEVENT
BEGIN:VEVENT
DTSTART;VALUE=DATE:20270212
DTEND;VALUE=DATE:20270213
DTSTAMP:20260422T153630
CREATED:20260306T102514Z
LAST-MODIFIED:20260306T103821Z
UID:10009612-1802390400-1802476799@peranfood.com
SUMMARY:19
DESCRIPTION:Сніданок:Шпинатні вафлі зі свіжим сиром та тунцем. \nПерекус 1:Батончик Баунті. \nОбід:Картопляні зрази з курячим рієтом. \nПерекус 2:Смузі ананас\, чорниця та м’ята. \nВечеря:Гречка по-Купецьки з грибами та курячими ковбасками з гірчицею.
URL:https://peranfood.com/event/19/2027-02-12/
CATEGORIES:950 ккал
END:VEVENT
BEGIN:VEVENT
DTSTART;VALUE=DATE:20270306
DTEND;VALUE=DATE:20270307
DTSTAMP:20260422T153630
CREATED:20260306T102514Z
LAST-MODIFIED:20260306T103821Z
UID:10009613-1804291200-1804377599@peranfood.com
SUMMARY:19
DESCRIPTION:Сніданок:Шпинатні вафлі зі свіжим сиром та тунцем. \nПерекус 1:Батончик Баунті. \nОбід:Картопляні зрази з курячим рієтом. \nПерекус 2:Смузі ананас\, чорниця та м’ята. \nВечеря:Гречка по-Купецьки з грибами та курячими ковбасками з гірчицею.
URL:https://peranfood.com/event/19/2027-03-06/
CATEGORIES:950 ккал
END:VEVENT
BEGIN:VEVENT
DTSTART;VALUE=DATE:20270328
DTEND;VALUE=DATE:20270330
DTSTAMP:20260422T153630
CREATED:20260306T102514Z
LAST-MODIFIED:20260306T103821Z
UID:10009614-1806192000-1806281999@peranfood.com
SUMMARY:19
DESCRIPTION:Сніданок:Шпинатні вафлі зі свіжим сиром та тунцем. \nПерекус 1:Батончик Баунті. \nОбід:Картопляні зрази з курячим рієтом. \nПерекус 2:Смузі ананас\, чорниця та м’ята. \nВечеря:Гречка по-Купецьки з грибами та курячими ковбасками з гірчицею.
URL:https://peranfood.com/event/19/2027-03-28/
CATEGORIES:950 ккал
END:VEVENT
BEGIN:VEVENT
DTSTART;VALUE=DATE:20270419
DTEND;VALUE=DATE:20270420
DTSTAMP:20260422T153630
CREATED:20260306T102514Z
LAST-MODIFIED:20260306T103821Z
UID:10009615-1808092800-1808179199@peranfood.com
SUMMARY:19
DESCRIPTION:Сніданок:Шпинатні вафлі зі свіжим сиром та тунцем. \nПерекус 1:Батончик Баунті. \nОбід:Картопляні зрази з курячим рієтом. \nПерекус 2:Смузі ананас\, чорниця та м’ята. \nВечеря:Гречка по-Купецьки з грибами та курячими ковбасками з гірчицею.
URL:https://peranfood.com/event/19/2027-04-19/
CATEGORIES:950 ккал
END:VEVENT
BEGIN:VEVENT
DTSTART;VALUE=DATE:20270511
DTEND;VALUE=DATE:20270512
DTSTAMP:20260422T153630
CREATED:20260306T102514Z
LAST-MODIFIED:20260306T103821Z
UID:10009616-1809993600-1810079999@peranfood.com
SUMMARY:19
DESCRIPTION:Сніданок:Шпинатні вафлі зі свіжим сиром та тунцем. \nПерекус 1:Батончик Баунті. \nОбід:Картопляні зрази з курячим рієтом. \nПерекус 2:Смузі ананас\, чорниця та м’ята. \nВечеря:Гречка по-Купецьки з грибами та курячими ковбасками з гірчицею.
URL:https://peranfood.com/event/19/2027-05-11/
CATEGORIES:950 ккал
END:VEVENT
BEGIN:VEVENT
DTSTART;VALUE=DATE:20270602
DTEND;VALUE=DATE:20270603
DTSTAMP:20260422T153630
CREATED:20260306T102514Z
LAST-MODIFIED:20260306T103821Z
UID:10009617-1811894400-1811980799@peranfood.com
SUMMARY:19
DESCRIPTION:Сніданок:Шпинатні вафлі зі свіжим сиром та тунцем. \nПерекус 1:Батончик Баунті. \nОбід:Картопляні зрази з курячим рієтом. \nПерекус 2:Смузі ананас\, чорниця та м’ята. \nВечеря:Гречка по-Купецьки з грибами та курячими ковбасками з гірчицею.
URL:https://peranfood.com/event/19/2027-06-02/
CATEGORIES:950 ккал
END:VEVENT
BEGIN:VEVENT
DTSTART;VALUE=DATE:20270624
DTEND;VALUE=DATE:20270625
DTSTAMP:20260422T153630
CREATED:20260306T102514Z
LAST-MODIFIED:20260306T103821Z
UID:10009618-1813795200-1813881599@peranfood.com
SUMMARY:19
DESCRIPTION:Сніданок:Шпинатні вафлі зі свіжим сиром та тунцем. \nПерекус 1:Батончик Баунті. \nОбід:Картопляні зрази з курячим рієтом. \nПерекус 2:Смузі ананас\, чорниця та м’ята. \nВечеря:Гречка по-Купецьки з грибами та курячими ковбасками з гірчицею.
URL:https://peranfood.com/event/19/2027-06-24/
CATEGORIES:950 ккал
END:VEVENT
BEGIN:VEVENT
DTSTART;VALUE=DATE:20270716
DTEND;VALUE=DATE:20270717
DTSTAMP:20260422T153630
CREATED:20260306T102514Z
LAST-MODIFIED:20260306T103821Z
UID:10009619-1815696000-1815782399@peranfood.com
SUMMARY:19
DESCRIPTION:Сніданок:Шпинатні вафлі зі свіжим сиром та тунцем. \nПерекус 1:Батончик Баунті. \nОбід:Картопляні зрази з курячим рієтом. \nПерекус 2:Смузі ананас\, чорниця та м’ята. \nВечеря:Гречка по-Купецьки з грибами та курячими ковбасками з гірчицею.
URL:https://peranfood.com/event/19/2027-07-16/
CATEGORIES:950 ккал
END:VEVENT
BEGIN:VEVENT
DTSTART;VALUE=DATE:20270807
DTEND;VALUE=DATE:20270808
DTSTAMP:20260422T153630
CREATED:20260306T102514Z
LAST-MODIFIED:20260306T103821Z
UID:10009620-1817596800-1817683199@peranfood.com
SUMMARY:19
DESCRIPTION:Сніданок:Шпинатні вафлі зі свіжим сиром та тунцем. \nПерекус 1:Батончик Баунті. \nОбід:Картопляні зрази з курячим рієтом. \nПерекус 2:Смузі ананас\, чорниця та м’ята. \nВечеря:Гречка по-Купецьки з грибами та курячими ковбасками з гірчицею.
URL:https://peranfood.com/event/19/2027-08-07/
CATEGORIES:950 ккал
END:VEVENT
BEGIN:VEVENT
DTSTART;VALUE=DATE:20270829
DTEND;VALUE=DATE:20270830
DTSTAMP:20260422T153630
CREATED:20260306T102514Z
LAST-MODIFIED:20260306T103821Z
UID:10009621-1819497600-1819583999@peranfood.com
SUMMARY:19
DESCRIPTION:Сніданок:Шпинатні вафлі зі свіжим сиром та тунцем. \nПерекус 1:Батончик Баунті. \nОбід:Картопляні зрази з курячим рієтом. \nПерекус 2:Смузі ананас\, чорниця та м’ята. \nВечеря:Гречка по-Купецьки з грибами та курячими ковбасками з гірчицею.
URL:https://peranfood.com/event/19/2027-08-29/
CATEGORIES:950 ккал
END:VEVENT
BEGIN:VEVENT
DTSTART;VALUE=DATE:20270920
DTEND;VALUE=DATE:20270921
DTSTAMP:20260422T153630
CREATED:20260306T102514Z
LAST-MODIFIED:20260306T103821Z
UID:10009622-1821398400-1821484799@peranfood.com
SUMMARY:19
DESCRIPTION:Сніданок:Шпинатні вафлі зі свіжим сиром та тунцем. \nПерекус 1:Батончик Баунті. \nОбід:Картопляні зрази з курячим рієтом. \nПерекус 2:Смузі ананас\, чорниця та м’ята. \nВечеря:Гречка по-Купецьки з грибами та курячими ковбасками з гірчицею.
URL:https://peranfood.com/event/19/2027-09-20/
CATEGORIES:950 ккал
END:VEVENT
BEGIN:VEVENT
DTSTART;VALUE=DATE:20271012
DTEND;VALUE=DATE:20271013
DTSTAMP:20260422T153630
CREATED:20260306T102514Z
LAST-MODIFIED:20260306T103821Z
UID:10009623-1823299200-1823385599@peranfood.com
SUMMARY:19
DESCRIPTION:Сніданок:Шпинатні вафлі зі свіжим сиром та тунцем. \nПерекус 1:Батончик Баунті. \nОбід:Картопляні зрази з курячим рієтом. \nПерекус 2:Смузі ананас\, чорниця та м’ята. \nВечеря:Гречка по-Купецьки з грибами та курячими ковбасками з гірчицею.
URL:https://peranfood.com/event/19/2027-10-12/
CATEGORIES:950 ккал
END:VEVENT
BEGIN:VEVENT
DTSTART;VALUE=DATE:20271103
DTEND;VALUE=DATE:20271104
DTSTAMP:20260422T153630
CREATED:20260306T102514Z
LAST-MODIFIED:20260306T103821Z
UID:10009624-1825200000-1825286399@peranfood.com
SUMMARY:19
DESCRIPTION:Сніданок:Шпинатні вафлі зі свіжим сиром та тунцем. \nПерекус 1:Батончик Баунті. \nОбід:Картопляні зрази з курячим рієтом. \nПерекус 2:Смузі ананас\, чорниця та м’ята. \nВечеря:Гречка по-Купецьки з грибами та курячими ковбасками з гірчицею.
URL:https://peranfood.com/event/19/2027-11-03/
CATEGORIES:950 ккал
END:VEVENT
BEGIN:VEVENT
DTSTART;VALUE=DATE:20271125
DTEND;VALUE=DATE:20271126
DTSTAMP:20260422T153630
CREATED:20260306T102514Z
LAST-MODIFIED:20260306T103821Z
UID:10009625-1827100800-1827187199@peranfood.com
SUMMARY:19
DESCRIPTION:Сніданок:Шпинатні вафлі зі свіжим сиром та тунцем. \nПерекус 1:Батончик Баунті. \nОбід:Картопляні зрази з курячим рієтом. \nПерекус 2:Смузі ананас\, чорниця та м’ята. \nВечеря:Гречка по-Купецьки з грибами та курячими ковбасками з гірчицею.
URL:https://peranfood.com/event/19/2027-11-25/
CATEGORIES:950 ккал
END:VEVENT
BEGIN:VEVENT
DTSTART;VALUE=DATE:20271217
DTEND;VALUE=DATE:20271218
DTSTAMP:20260422T153630
CREATED:20260306T102514Z
LAST-MODIFIED:20260306T103821Z
UID:10009626-1829001600-1829087999@peranfood.com
SUMMARY:19
DESCRIPTION:Сніданок:Шпинатні вафлі зі свіжим сиром та тунцем. \nПерекус 1:Батончик Баунті. \nОбід:Картопляні зрази з курячим рієтом. \nПерекус 2:Смузі ананас\, чорниця та м’ята. \nВечеря:Гречка по-Купецьки з грибами та курячими ковбасками з гірчицею.
URL:https://peranfood.com/event/19/2027-12-17/
CATEGORIES:950 ккал
END:VEVENT
BEGIN:VEVENT
DTSTART;VALUE=DATE:20280108
DTEND;VALUE=DATE:20280109
DTSTAMP:20260422T153630
CREATED:20260306T102514Z
LAST-MODIFIED:20260306T103821Z
UID:10009627-1830902400-1830988799@peranfood.com
SUMMARY:19
DESCRIPTION:Сніданок:Шпинатні вафлі зі свіжим сиром та тунцем. \nПерекус 1:Батончик Баунті. \nОбід:Картопляні зрази з курячим рієтом. \nПерекус 2:Смузі ананас\, чорниця та м’ята. \nВечеря:Гречка по-Купецьки з грибами та курячими ковбасками з гірчицею.
URL:https://peranfood.com/event/19/2028-01-08/
CATEGORIES:950 ккал
END:VEVENT
BEGIN:VEVENT
DTSTART;VALUE=DATE:20280130
DTEND;VALUE=DATE:20280131
DTSTAMP:20260422T153630
CREATED:20260306T102514Z
LAST-MODIFIED:20260306T103821Z
UID:10009628-1832803200-1832889599@peranfood.com
SUMMARY:19
DESCRIPTION:Сніданок:Шпинатні вафлі зі свіжим сиром та тунцем. \nПерекус 1:Батончик Баунті. \nОбід:Картопляні зрази з курячим рієтом. \nПерекус 2:Смузі ананас\, чорниця та м’ята. \nВечеря:Гречка по-Купецьки з грибами та курячими ковбасками з гірчицею.
URL:https://peranfood.com/event/19/2028-01-30/
CATEGORIES:950 ккал
END:VEVENT
END:VCALENDAR