BEGIN:VCALENDAR
VERSION:2.0
PRODID:-//Peranfood - доставка здорового харчування - ECPv6.15.18//NONSGML v1.0//EN
CALSCALE:GREGORIAN
METHOD:PUBLISH
X-WR-CALNAME:Peranfood - доставка здорового харчування
X-ORIGINAL-URL:https://peranfood.com
X-WR-CALDESC:Події за Peranfood - доставка здорового харчування
REFRESH-INTERVAL;VALUE=DURATION:PT1H
X-Robots-Tag:noindex
X-PUBLISHED-TTL:PT1H
BEGIN:VTIMEZONE
TZID:Europe/Kiev
BEGIN:DAYLIGHT
TZOFFSETFROM:+0200
TZOFFSETTO:+0300
TZNAME:EEST
DTSTART:20250330T010000
END:DAYLIGHT
BEGIN:STANDARD
TZOFFSETFROM:+0300
TZOFFSETTO:+0200
TZNAME:EET
DTSTART:20251026T010000
END:STANDARD
BEGIN:DAYLIGHT
TZOFFSETFROM:+0200
TZOFFSETTO:+0300
TZNAME:EEST
DTSTART:20260329T010000
END:DAYLIGHT
BEGIN:STANDARD
TZOFFSETFROM:+0300
TZOFFSETTO:+0200
TZNAME:EET
DTSTART:20261025T010000
END:STANDARD
BEGIN:DAYLIGHT
TZOFFSETFROM:+0200
TZOFFSETTO:+0300
TZNAME:EEST
DTSTART:20270328T010000
END:DAYLIGHT
BEGIN:STANDARD
TZOFFSETFROM:+0300
TZOFFSETTO:+0200
TZNAME:EET
DTSTART:20271031T010000
END:STANDARD
BEGIN:DAYLIGHT
TZOFFSETFROM:+0200
TZOFFSETTO:+0300
TZNAME:EEST
DTSTART:20280326T010000
END:DAYLIGHT
BEGIN:STANDARD
TZOFFSETFROM:+0300
TZOFFSETTO:+0200
TZNAME:EET
DTSTART:20281029T010000
END:STANDARD
BEGIN:DAYLIGHT
TZOFFSETFROM:+0200
TZOFFSETTO:+0300
TZNAME:EEST
DTSTART:20290325T010000
END:DAYLIGHT
BEGIN:STANDARD
TZOFFSETFROM:+0300
TZOFFSETTO:+0200
TZNAME:EET
DTSTART:20291028T010000
END:STANDARD
END:VTIMEZONE
BEGIN:VEVENT
DTSTART;VALUE=DATE:20260429
DTEND;VALUE=DATE:20260430
DTSTAMP:20260422T141602
CREATED:20260306T102514Z
LAST-MODIFIED:20260306T103739Z
UID:10009353-1777420800-1777507199@peranfood.com
SUMMARY:16
DESCRIPTION:Сніданок:Скрембл з лососем та гуакамоле. \nПерекус 1:Запечений гарбуз з ванільним кранчем. \nОбід:Кебаб із телятини з салатом та сливовим соусом. \nПерекус 2:Суп Рамен з качкою та локшиною. \nВечеря:Паприка фарширована куркою та булгуром з сирним соусом.
URL:https://peranfood.com/event/16/2026-04-29/
CATEGORIES:950 ккал
END:VEVENT
BEGIN:VEVENT
DTSTART;VALUE=DATE:20260521
DTEND;VALUE=DATE:20260522
DTSTAMP:20260422T141602
CREATED:20260306T102514Z
LAST-MODIFIED:20260306T103739Z
UID:10009354-1779321600-1779407999@peranfood.com
SUMMARY:16
DESCRIPTION:Сніданок:Скрембл з лососем та гуакамоле. \nПерекус 1:Запечений гарбуз з ванільним кранчем. \nОбід:Кебаб із телятини з салатом та сливовим соусом. \nПерекус 2:Суп Рамен з качкою та локшиною. \nВечеря:Паприка фарширована куркою та булгуром з сирним соусом.
URL:https://peranfood.com/event/16/2026-05-21/
CATEGORIES:950 ккал
END:VEVENT
BEGIN:VEVENT
DTSTART;VALUE=DATE:20260612
DTEND;VALUE=DATE:20260613
DTSTAMP:20260422T141602
CREATED:20260306T102514Z
LAST-MODIFIED:20260306T103739Z
UID:10009355-1781222400-1781308799@peranfood.com
SUMMARY:16
DESCRIPTION:Сніданок:Скрембл з лососем та гуакамоле. \nПерекус 1:Запечений гарбуз з ванільним кранчем. \nОбід:Кебаб із телятини з салатом та сливовим соусом. \nПерекус 2:Суп Рамен з качкою та локшиною. \nВечеря:Паприка фарширована куркою та булгуром з сирним соусом.
URL:https://peranfood.com/event/16/2026-06-12/
CATEGORIES:950 ккал
END:VEVENT
BEGIN:VEVENT
DTSTART;VALUE=DATE:20260704
DTEND;VALUE=DATE:20260705
DTSTAMP:20260422T141602
CREATED:20260306T102514Z
LAST-MODIFIED:20260306T103739Z
UID:10009356-1783123200-1783209599@peranfood.com
SUMMARY:16
DESCRIPTION:Сніданок:Скрембл з лососем та гуакамоле. \nПерекус 1:Запечений гарбуз з ванільним кранчем. \nОбід:Кебаб із телятини з салатом та сливовим соусом. \nПерекус 2:Суп Рамен з качкою та локшиною. \nВечеря:Паприка фарширована куркою та булгуром з сирним соусом.
URL:https://peranfood.com/event/16/2026-07-04/
CATEGORIES:950 ккал
END:VEVENT
BEGIN:VEVENT
DTSTART;VALUE=DATE:20260726
DTEND;VALUE=DATE:20260727
DTSTAMP:20260422T141602
CREATED:20260306T102514Z
LAST-MODIFIED:20260306T103739Z
UID:10009357-1785024000-1785110399@peranfood.com
SUMMARY:16
DESCRIPTION:Сніданок:Скрембл з лососем та гуакамоле. \nПерекус 1:Запечений гарбуз з ванільним кранчем. \nОбід:Кебаб із телятини з салатом та сливовим соусом. \nПерекус 2:Суп Рамен з качкою та локшиною. \nВечеря:Паприка фарширована куркою та булгуром з сирним соусом.
URL:https://peranfood.com/event/16/2026-07-26/
CATEGORIES:950 ккал
END:VEVENT
BEGIN:VEVENT
DTSTART;VALUE=DATE:20260817
DTEND;VALUE=DATE:20260818
DTSTAMP:20260422T141602
CREATED:20260306T102514Z
LAST-MODIFIED:20260306T103739Z
UID:10009358-1786924800-1787011199@peranfood.com
SUMMARY:16
DESCRIPTION:Сніданок:Скрембл з лососем та гуакамоле. \nПерекус 1:Запечений гарбуз з ванільним кранчем. \nОбід:Кебаб із телятини з салатом та сливовим соусом. \nПерекус 2:Суп Рамен з качкою та локшиною. \nВечеря:Паприка фарширована куркою та булгуром з сирним соусом.
URL:https://peranfood.com/event/16/2026-08-17/
CATEGORIES:950 ккал
END:VEVENT
BEGIN:VEVENT
DTSTART;VALUE=DATE:20260908
DTEND;VALUE=DATE:20260909
DTSTAMP:20260422T141602
CREATED:20260306T102514Z
LAST-MODIFIED:20260306T103739Z
UID:10009359-1788825600-1788911999@peranfood.com
SUMMARY:16
DESCRIPTION:Сніданок:Скрембл з лососем та гуакамоле. \nПерекус 1:Запечений гарбуз з ванільним кранчем. \nОбід:Кебаб із телятини з салатом та сливовим соусом. \nПерекус 2:Суп Рамен з качкою та локшиною. \nВечеря:Паприка фарширована куркою та булгуром з сирним соусом.
URL:https://peranfood.com/event/16/2026-09-08/
CATEGORIES:950 ккал
END:VEVENT
BEGIN:VEVENT
DTSTART;VALUE=DATE:20260930
DTEND;VALUE=DATE:20261001
DTSTAMP:20260422T141602
CREATED:20260306T102514Z
LAST-MODIFIED:20260306T103739Z
UID:10009360-1790726400-1790812799@peranfood.com
SUMMARY:16
DESCRIPTION:Сніданок:Скрембл з лососем та гуакамоле. \nПерекус 1:Запечений гарбуз з ванільним кранчем. \nОбід:Кебаб із телятини з салатом та сливовим соусом. \nПерекус 2:Суп Рамен з качкою та локшиною. \nВечеря:Паприка фарширована куркою та булгуром з сирним соусом.
URL:https://peranfood.com/event/16/2026-09-30/
CATEGORIES:950 ккал
END:VEVENT
BEGIN:VEVENT
DTSTART;VALUE=DATE:20261022
DTEND;VALUE=DATE:20261023
DTSTAMP:20260422T141602
CREATED:20260306T102514Z
LAST-MODIFIED:20260306T103739Z
UID:10009361-1792627200-1792713599@peranfood.com
SUMMARY:16
DESCRIPTION:Сніданок:Скрембл з лососем та гуакамоле. \nПерекус 1:Запечений гарбуз з ванільним кранчем. \nОбід:Кебаб із телятини з салатом та сливовим соусом. \nПерекус 2:Суп Рамен з качкою та локшиною. \nВечеря:Паприка фарширована куркою та булгуром з сирним соусом.
URL:https://peranfood.com/event/16/2026-10-22/
CATEGORIES:950 ккал
END:VEVENT
BEGIN:VEVENT
DTSTART;VALUE=DATE:20261113
DTEND;VALUE=DATE:20261114
DTSTAMP:20260422T141602
CREATED:20260306T102514Z
LAST-MODIFIED:20260306T103739Z
UID:10009362-1794528000-1794614399@peranfood.com
SUMMARY:16
DESCRIPTION:Сніданок:Скрембл з лососем та гуакамоле. \nПерекус 1:Запечений гарбуз з ванільним кранчем. \nОбід:Кебаб із телятини з салатом та сливовим соусом. \nПерекус 2:Суп Рамен з качкою та локшиною. \nВечеря:Паприка фарширована куркою та булгуром з сирним соусом.
URL:https://peranfood.com/event/16/2026-11-13/
CATEGORIES:950 ккал
END:VEVENT
BEGIN:VEVENT
DTSTART;VALUE=DATE:20261205
DTEND;VALUE=DATE:20261206
DTSTAMP:20260422T141602
CREATED:20260306T102514Z
LAST-MODIFIED:20260306T103739Z
UID:10009363-1796428800-1796515199@peranfood.com
SUMMARY:16
DESCRIPTION:Сніданок:Скрембл з лососем та гуакамоле. \nПерекус 1:Запечений гарбуз з ванільним кранчем. \nОбід:Кебаб із телятини з салатом та сливовим соусом. \nПерекус 2:Суп Рамен з качкою та локшиною. \nВечеря:Паприка фарширована куркою та булгуром з сирним соусом.
URL:https://peranfood.com/event/16/2026-12-05/
CATEGORIES:950 ккал
END:VEVENT
BEGIN:VEVENT
DTSTART;VALUE=DATE:20261227
DTEND;VALUE=DATE:20261228
DTSTAMP:20260422T141602
CREATED:20260306T102514Z
LAST-MODIFIED:20260306T103739Z
UID:10009364-1798329600-1798415999@peranfood.com
SUMMARY:16
DESCRIPTION:Сніданок:Скрембл з лососем та гуакамоле. \nПерекус 1:Запечений гарбуз з ванільним кранчем. \nОбід:Кебаб із телятини з салатом та сливовим соусом. \nПерекус 2:Суп Рамен з качкою та локшиною. \nВечеря:Паприка фарширована куркою та булгуром з сирним соусом.
URL:https://peranfood.com/event/16/2026-12-27/
CATEGORIES:950 ккал
END:VEVENT
BEGIN:VEVENT
DTSTART;VALUE=DATE:20270118
DTEND;VALUE=DATE:20270119
DTSTAMP:20260422T141602
CREATED:20260306T102514Z
LAST-MODIFIED:20260306T103739Z
UID:10009365-1800230400-1800316799@peranfood.com
SUMMARY:16
DESCRIPTION:Сніданок:Скрембл з лососем та гуакамоле. \nПерекус 1:Запечений гарбуз з ванільним кранчем. \nОбід:Кебаб із телятини з салатом та сливовим соусом. \nПерекус 2:Суп Рамен з качкою та локшиною. \nВечеря:Паприка фарширована куркою та булгуром з сирним соусом.
URL:https://peranfood.com/event/16/2027-01-18/
CATEGORIES:950 ккал
END:VEVENT
BEGIN:VEVENT
DTSTART;VALUE=DATE:20270209
DTEND;VALUE=DATE:20270210
DTSTAMP:20260422T141602
CREATED:20260306T102514Z
LAST-MODIFIED:20260306T103739Z
UID:10009366-1802131200-1802217599@peranfood.com
SUMMARY:16
DESCRIPTION:Сніданок:Скрембл з лососем та гуакамоле. \nПерекус 1:Запечений гарбуз з ванільним кранчем. \nОбід:Кебаб із телятини з салатом та сливовим соусом. \nПерекус 2:Суп Рамен з качкою та локшиною. \nВечеря:Паприка фарширована куркою та булгуром з сирним соусом.
URL:https://peranfood.com/event/16/2027-02-09/
CATEGORIES:950 ккал
END:VEVENT
BEGIN:VEVENT
DTSTART;VALUE=DATE:20270303
DTEND;VALUE=DATE:20270304
DTSTAMP:20260422T141602
CREATED:20260306T102514Z
LAST-MODIFIED:20260306T103739Z
UID:10009367-1804032000-1804118399@peranfood.com
SUMMARY:16
DESCRIPTION:Сніданок:Скрембл з лососем та гуакамоле. \nПерекус 1:Запечений гарбуз з ванільним кранчем. \nОбід:Кебаб із телятини з салатом та сливовим соусом. \nПерекус 2:Суп Рамен з качкою та локшиною. \nВечеря:Паприка фарширована куркою та булгуром з сирним соусом.
URL:https://peranfood.com/event/16/2027-03-03/
CATEGORIES:950 ккал
END:VEVENT
BEGIN:VEVENT
DTSTART;VALUE=DATE:20270325
DTEND;VALUE=DATE:20270326
DTSTAMP:20260422T141602
CREATED:20260306T102514Z
LAST-MODIFIED:20260306T103739Z
UID:10009368-1805932800-1806019199@peranfood.com
SUMMARY:16
DESCRIPTION:Сніданок:Скрембл з лососем та гуакамоле. \nПерекус 1:Запечений гарбуз з ванільним кранчем. \nОбід:Кебаб із телятини з салатом та сливовим соусом. \nПерекус 2:Суп Рамен з качкою та локшиною. \nВечеря:Паприка фарширована куркою та булгуром з сирним соусом.
URL:https://peranfood.com/event/16/2027-03-25/
CATEGORIES:950 ккал
END:VEVENT
BEGIN:VEVENT
DTSTART;VALUE=DATE:20270416
DTEND;VALUE=DATE:20270417
DTSTAMP:20260422T141602
CREATED:20260306T102514Z
LAST-MODIFIED:20260306T103739Z
UID:10009369-1807833600-1807919999@peranfood.com
SUMMARY:16
DESCRIPTION:Сніданок:Скрембл з лососем та гуакамоле. \nПерекус 1:Запечений гарбуз з ванільним кранчем. \nОбід:Кебаб із телятини з салатом та сливовим соусом. \nПерекус 2:Суп Рамен з качкою та локшиною. \nВечеря:Паприка фарширована куркою та булгуром з сирним соусом.
URL:https://peranfood.com/event/16/2027-04-16/
CATEGORIES:950 ккал
END:VEVENT
BEGIN:VEVENT
DTSTART;VALUE=DATE:20270508
DTEND;VALUE=DATE:20270509
DTSTAMP:20260422T141602
CREATED:20260306T102514Z
LAST-MODIFIED:20260306T103739Z
UID:10009370-1809734400-1809820799@peranfood.com
SUMMARY:16
DESCRIPTION:Сніданок:Скрембл з лососем та гуакамоле. \nПерекус 1:Запечений гарбуз з ванільним кранчем. \nОбід:Кебаб із телятини з салатом та сливовим соусом. \nПерекус 2:Суп Рамен з качкою та локшиною. \nВечеря:Паприка фарширована куркою та булгуром з сирним соусом.
URL:https://peranfood.com/event/16/2027-05-08/
CATEGORIES:950 ккал
END:VEVENT
BEGIN:VEVENT
DTSTART;VALUE=DATE:20270530
DTEND;VALUE=DATE:20270531
DTSTAMP:20260422T141602
CREATED:20260306T102514Z
LAST-MODIFIED:20260306T103739Z
UID:10009371-1811635200-1811721599@peranfood.com
SUMMARY:16
DESCRIPTION:Сніданок:Скрембл з лососем та гуакамоле. \nПерекус 1:Запечений гарбуз з ванільним кранчем. \nОбід:Кебаб із телятини з салатом та сливовим соусом. \nПерекус 2:Суп Рамен з качкою та локшиною. \nВечеря:Паприка фарширована куркою та булгуром з сирним соусом.
URL:https://peranfood.com/event/16/2027-05-30/
CATEGORIES:950 ккал
END:VEVENT
BEGIN:VEVENT
DTSTART;VALUE=DATE:20270621
DTEND;VALUE=DATE:20270622
DTSTAMP:20260422T141602
CREATED:20260306T102514Z
LAST-MODIFIED:20260306T103739Z
UID:10009372-1813536000-1813622399@peranfood.com
SUMMARY:16
DESCRIPTION:Сніданок:Скрембл з лососем та гуакамоле. \nПерекус 1:Запечений гарбуз з ванільним кранчем. \nОбід:Кебаб із телятини з салатом та сливовим соусом. \nПерекус 2:Суп Рамен з качкою та локшиною. \nВечеря:Паприка фарширована куркою та булгуром з сирним соусом.
URL:https://peranfood.com/event/16/2027-06-21/
CATEGORIES:950 ккал
END:VEVENT
BEGIN:VEVENT
DTSTART;VALUE=DATE:20270713
DTEND;VALUE=DATE:20270714
DTSTAMP:20260422T141602
CREATED:20260306T102514Z
LAST-MODIFIED:20260306T103739Z
UID:10009373-1815436800-1815523199@peranfood.com
SUMMARY:16
DESCRIPTION:Сніданок:Скрембл з лососем та гуакамоле. \nПерекус 1:Запечений гарбуз з ванільним кранчем. \nОбід:Кебаб із телятини з салатом та сливовим соусом. \nПерекус 2:Суп Рамен з качкою та локшиною. \nВечеря:Паприка фарширована куркою та булгуром з сирним соусом.
URL:https://peranfood.com/event/16/2027-07-13/
CATEGORIES:950 ккал
END:VEVENT
BEGIN:VEVENT
DTSTART;VALUE=DATE:20270804
DTEND;VALUE=DATE:20270805
DTSTAMP:20260422T141602
CREATED:20260306T102514Z
LAST-MODIFIED:20260306T103739Z
UID:10009374-1817337600-1817423999@peranfood.com
SUMMARY:16
DESCRIPTION:Сніданок:Скрембл з лососем та гуакамоле. \nПерекус 1:Запечений гарбуз з ванільним кранчем. \nОбід:Кебаб із телятини з салатом та сливовим соусом. \nПерекус 2:Суп Рамен з качкою та локшиною. \nВечеря:Паприка фарширована куркою та булгуром з сирним соусом.
URL:https://peranfood.com/event/16/2027-08-04/
CATEGORIES:950 ккал
END:VEVENT
BEGIN:VEVENT
DTSTART;VALUE=DATE:20270826
DTEND;VALUE=DATE:20270827
DTSTAMP:20260422T141602
CREATED:20260306T102514Z
LAST-MODIFIED:20260306T103739Z
UID:10009375-1819238400-1819324799@peranfood.com
SUMMARY:16
DESCRIPTION:Сніданок:Скрембл з лососем та гуакамоле. \nПерекус 1:Запечений гарбуз з ванільним кранчем. \nОбід:Кебаб із телятини з салатом та сливовим соусом. \nПерекус 2:Суп Рамен з качкою та локшиною. \nВечеря:Паприка фарширована куркою та булгуром з сирним соусом.
URL:https://peranfood.com/event/16/2027-08-26/
CATEGORIES:950 ккал
END:VEVENT
BEGIN:VEVENT
DTSTART;VALUE=DATE:20270917
DTEND;VALUE=DATE:20270918
DTSTAMP:20260422T141602
CREATED:20260306T102514Z
LAST-MODIFIED:20260306T103739Z
UID:10009376-1821139200-1821225599@peranfood.com
SUMMARY:16
DESCRIPTION:Сніданок:Скрембл з лососем та гуакамоле. \nПерекус 1:Запечений гарбуз з ванільним кранчем. \nОбід:Кебаб із телятини з салатом та сливовим соусом. \nПерекус 2:Суп Рамен з качкою та локшиною. \nВечеря:Паприка фарширована куркою та булгуром з сирним соусом.
URL:https://peranfood.com/event/16/2027-09-17/
CATEGORIES:950 ккал
END:VEVENT
BEGIN:VEVENT
DTSTART;VALUE=DATE:20271009
DTEND;VALUE=DATE:20271010
DTSTAMP:20260422T141602
CREATED:20260306T102514Z
LAST-MODIFIED:20260306T103739Z
UID:10009377-1823040000-1823126399@peranfood.com
SUMMARY:16
DESCRIPTION:Сніданок:Скрембл з лососем та гуакамоле. \nПерекус 1:Запечений гарбуз з ванільним кранчем. \nОбід:Кебаб із телятини з салатом та сливовим соусом. \nПерекус 2:Суп Рамен з качкою та локшиною. \nВечеря:Паприка фарширована куркою та булгуром з сирним соусом.
URL:https://peranfood.com/event/16/2027-10-09/
CATEGORIES:950 ккал
END:VEVENT
BEGIN:VEVENT
DTSTART;VALUE=DATE:20271031
DTEND;VALUE=DATE:20271101
DTSTAMP:20260422T141602
CREATED:20260306T102514Z
LAST-MODIFIED:20260306T103739Z
UID:10009378-1824940800-1825023599@peranfood.com
SUMMARY:16
DESCRIPTION:Сніданок:Скрембл з лососем та гуакамоле. \nПерекус 1:Запечений гарбуз з ванільним кранчем. \nОбід:Кебаб із телятини з салатом та сливовим соусом. \nПерекус 2:Суп Рамен з качкою та локшиною. \nВечеря:Паприка фарширована куркою та булгуром з сирним соусом.
URL:https://peranfood.com/event/16/2027-10-31/
CATEGORIES:950 ккал
END:VEVENT
BEGIN:VEVENT
DTSTART;VALUE=DATE:20271122
DTEND;VALUE=DATE:20271123
DTSTAMP:20260422T141602
CREATED:20260306T102514Z
LAST-MODIFIED:20260306T103739Z
UID:10009379-1826841600-1826927999@peranfood.com
SUMMARY:16
DESCRIPTION:Сніданок:Скрембл з лососем та гуакамоле. \nПерекус 1:Запечений гарбуз з ванільним кранчем. \nОбід:Кебаб із телятини з салатом та сливовим соусом. \nПерекус 2:Суп Рамен з качкою та локшиною. \nВечеря:Паприка фарширована куркою та булгуром з сирним соусом.
URL:https://peranfood.com/event/16/2027-11-22/
CATEGORIES:950 ккал
END:VEVENT
BEGIN:VEVENT
DTSTART;VALUE=DATE:20271214
DTEND;VALUE=DATE:20271215
DTSTAMP:20260422T141602
CREATED:20260306T102514Z
LAST-MODIFIED:20260306T103739Z
UID:10009380-1828742400-1828828799@peranfood.com
SUMMARY:16
DESCRIPTION:Сніданок:Скрембл з лососем та гуакамоле. \nПерекус 1:Запечений гарбуз з ванільним кранчем. \nОбід:Кебаб із телятини з салатом та сливовим соусом. \nПерекус 2:Суп Рамен з качкою та локшиною. \nВечеря:Паприка фарширована куркою та булгуром з сирним соусом.
URL:https://peranfood.com/event/16/2027-12-14/
CATEGORIES:950 ккал
END:VEVENT
BEGIN:VEVENT
DTSTART;VALUE=DATE:20280105
DTEND;VALUE=DATE:20280106
DTSTAMP:20260422T141602
CREATED:20260306T102514Z
LAST-MODIFIED:20260306T103739Z
UID:10009381-1830643200-1830729599@peranfood.com
SUMMARY:16
DESCRIPTION:Сніданок:Скрембл з лососем та гуакамоле. \nПерекус 1:Запечений гарбуз з ванільним кранчем. \nОбід:Кебаб із телятини з салатом та сливовим соусом. \nПерекус 2:Суп Рамен з качкою та локшиною. \nВечеря:Паприка фарширована куркою та булгуром з сирним соусом.
URL:https://peranfood.com/event/16/2028-01-05/
CATEGORIES:950 ккал
END:VEVENT
BEGIN:VEVENT
DTSTART;VALUE=DATE:20280127
DTEND;VALUE=DATE:20280128
DTSTAMP:20260422T141602
CREATED:20260306T102514Z
LAST-MODIFIED:20260306T103739Z
UID:10009382-1832544000-1832630399@peranfood.com
SUMMARY:16
DESCRIPTION:Сніданок:Скрембл з лососем та гуакамоле. \nПерекус 1:Запечений гарбуз з ванільним кранчем. \nОбід:Кебаб із телятини з салатом та сливовим соусом. \nПерекус 2:Суп Рамен з качкою та локшиною. \nВечеря:Паприка фарширована куркою та булгуром з сирним соусом.
URL:https://peranfood.com/event/16/2028-01-27/
CATEGORIES:950 ккал
END:VEVENT
END:VCALENDAR