BEGIN:VCALENDAR
VERSION:2.0
PRODID:-//Peranfood - доставка здорового харчування - ECPv6.15.20//NONSGML v1.0//EN
CALSCALE:GREGORIAN
METHOD:PUBLISH
X-WR-CALNAME:Peranfood - доставка здорового харчування
X-ORIGINAL-URL:https://peranfood.com
X-WR-CALDESC:Події за Peranfood - доставка здорового харчування
REFRESH-INTERVAL;VALUE=DURATION:PT1H
X-Robots-Tag:noindex
X-PUBLISHED-TTL:PT1H
BEGIN:VTIMEZONE
TZID:Europe/Kiev
BEGIN:DAYLIGHT
TZOFFSETFROM:+0200
TZOFFSETTO:+0300
TZNAME:EEST
DTSTART:20250330T010000
END:DAYLIGHT
BEGIN:STANDARD
TZOFFSETFROM:+0300
TZOFFSETTO:+0200
TZNAME:EET
DTSTART:20251026T010000
END:STANDARD
BEGIN:DAYLIGHT
TZOFFSETFROM:+0200
TZOFFSETTO:+0300
TZNAME:EEST
DTSTART:20260329T010000
END:DAYLIGHT
BEGIN:STANDARD
TZOFFSETFROM:+0300
TZOFFSETTO:+0200
TZNAME:EET
DTSTART:20261025T010000
END:STANDARD
BEGIN:DAYLIGHT
TZOFFSETFROM:+0200
TZOFFSETTO:+0300
TZNAME:EEST
DTSTART:20270328T010000
END:DAYLIGHT
BEGIN:STANDARD
TZOFFSETFROM:+0300
TZOFFSETTO:+0200
TZNAME:EET
DTSTART:20271031T010000
END:STANDARD
BEGIN:DAYLIGHT
TZOFFSETFROM:+0200
TZOFFSETTO:+0300
TZNAME:EEST
DTSTART:20280326T010000
END:DAYLIGHT
BEGIN:STANDARD
TZOFFSETFROM:+0300
TZOFFSETTO:+0200
TZNAME:EET
DTSTART:20281029T010000
END:STANDARD
BEGIN:DAYLIGHT
TZOFFSETFROM:+0200
TZOFFSETTO:+0300
TZNAME:EEST
DTSTART:20290325T010000
END:DAYLIGHT
BEGIN:STANDARD
TZOFFSETFROM:+0300
TZOFFSETTO:+0200
TZNAME:EET
DTSTART:20291028T010000
END:STANDARD
END:VTIMEZONE
BEGIN:VEVENT
DTSTART;VALUE=DATE:20260427
DTEND;VALUE=DATE:20260428
DTSTAMP:20260422T162824
CREATED:20260306T102505Z
LAST-MODIFIED:20260306T103709Z
UID:10009189-1777248000-1777334399@peranfood.com
SUMMARY:14
DESCRIPTION:Сніданок:Бургер з куркою та салатом Коул Слоу. \nПерекус 1:Брауні з вишнею. \nОбід:Курячий шніцель з картоплею. \nПерекус 2:Форшмак. \nВечеря:Салат з в’яленою куркою та фенхелем.
URL:https://peranfood.com/event/14/2026-04-27/
CATEGORIES:950 ккал
END:VEVENT
BEGIN:VEVENT
DTSTART;VALUE=DATE:20260519
DTEND;VALUE=DATE:20260520
DTSTAMP:20260422T162824
CREATED:20260306T102505Z
LAST-MODIFIED:20260306T103709Z
UID:10009190-1779148800-1779235199@peranfood.com
SUMMARY:14
DESCRIPTION:Сніданок:Бургер з куркою та салатом Коул Слоу. \nПерекус 1:Брауні з вишнею. \nОбід:Курячий шніцель з картоплею. \nПерекус 2:Форшмак. \nВечеря:Салат з в’яленою куркою та фенхелем.
URL:https://peranfood.com/event/14/2026-05-19/
CATEGORIES:950 ккал
END:VEVENT
BEGIN:VEVENT
DTSTART;VALUE=DATE:20260610
DTEND;VALUE=DATE:20260611
DTSTAMP:20260422T162824
CREATED:20260306T102505Z
LAST-MODIFIED:20260306T103709Z
UID:10009191-1781049600-1781135999@peranfood.com
SUMMARY:14
DESCRIPTION:Сніданок:Бургер з куркою та салатом Коул Слоу. \nПерекус 1:Брауні з вишнею. \nОбід:Курячий шніцель з картоплею. \nПерекус 2:Форшмак. \nВечеря:Салат з в’яленою куркою та фенхелем.
URL:https://peranfood.com/event/14/2026-06-10/
CATEGORIES:950 ккал
END:VEVENT
BEGIN:VEVENT
DTSTART;VALUE=DATE:20260702
DTEND;VALUE=DATE:20260703
DTSTAMP:20260422T162824
CREATED:20260306T102505Z
LAST-MODIFIED:20260306T103709Z
UID:10009192-1782950400-1783036799@peranfood.com
SUMMARY:14
DESCRIPTION:Сніданок:Бургер з куркою та салатом Коул Слоу. \nПерекус 1:Брауні з вишнею. \nОбід:Курячий шніцель з картоплею. \nПерекус 2:Форшмак. \nВечеря:Салат з в’яленою куркою та фенхелем.
URL:https://peranfood.com/event/14/2026-07-02/
CATEGORIES:950 ккал
END:VEVENT
BEGIN:VEVENT
DTSTART;VALUE=DATE:20260724
DTEND;VALUE=DATE:20260725
DTSTAMP:20260422T162824
CREATED:20260306T102505Z
LAST-MODIFIED:20260306T103709Z
UID:10009193-1784851200-1784937599@peranfood.com
SUMMARY:14
DESCRIPTION:Сніданок:Бургер з куркою та салатом Коул Слоу. \nПерекус 1:Брауні з вишнею. \nОбід:Курячий шніцель з картоплею. \nПерекус 2:Форшмак. \nВечеря:Салат з в’яленою куркою та фенхелем.
URL:https://peranfood.com/event/14/2026-07-24/
CATEGORIES:950 ккал
END:VEVENT
BEGIN:VEVENT
DTSTART;VALUE=DATE:20260815
DTEND;VALUE=DATE:20260816
DTSTAMP:20260422T162824
CREATED:20260306T102505Z
LAST-MODIFIED:20260306T103709Z
UID:10009194-1786752000-1786838399@peranfood.com
SUMMARY:14
DESCRIPTION:Сніданок:Бургер з куркою та салатом Коул Слоу. \nПерекус 1:Брауні з вишнею. \nОбід:Курячий шніцель з картоплею. \nПерекус 2:Форшмак. \nВечеря:Салат з в’яленою куркою та фенхелем.
URL:https://peranfood.com/event/14/2026-08-15/
CATEGORIES:950 ккал
END:VEVENT
BEGIN:VEVENT
DTSTART;VALUE=DATE:20260906
DTEND;VALUE=DATE:20260907
DTSTAMP:20260422T162824
CREATED:20260306T102505Z
LAST-MODIFIED:20260306T103709Z
UID:10009195-1788652800-1788739199@peranfood.com
SUMMARY:14
DESCRIPTION:Сніданок:Бургер з куркою та салатом Коул Слоу. \nПерекус 1:Брауні з вишнею. \nОбід:Курячий шніцель з картоплею. \nПерекус 2:Форшмак. \nВечеря:Салат з в’яленою куркою та фенхелем.
URL:https://peranfood.com/event/14/2026-09-06/
CATEGORIES:950 ккал
END:VEVENT
BEGIN:VEVENT
DTSTART;VALUE=DATE:20260928
DTEND;VALUE=DATE:20260929
DTSTAMP:20260422T162824
CREATED:20260306T102505Z
LAST-MODIFIED:20260306T103709Z
UID:10009196-1790553600-1790639999@peranfood.com
SUMMARY:14
DESCRIPTION:Сніданок:Бургер з куркою та салатом Коул Слоу. \nПерекус 1:Брауні з вишнею. \nОбід:Курячий шніцель з картоплею. \nПерекус 2:Форшмак. \nВечеря:Салат з в’яленою куркою та фенхелем.
URL:https://peranfood.com/event/14/2026-09-28/
CATEGORIES:950 ккал
END:VEVENT
BEGIN:VEVENT
DTSTART;VALUE=DATE:20261020
DTEND;VALUE=DATE:20261021
DTSTAMP:20260422T162824
CREATED:20260306T102505Z
LAST-MODIFIED:20260306T103709Z
UID:10009197-1792454400-1792540799@peranfood.com
SUMMARY:14
DESCRIPTION:Сніданок:Бургер з куркою та салатом Коул Слоу. \nПерекус 1:Брауні з вишнею. \nОбід:Курячий шніцель з картоплею. \nПерекус 2:Форшмак. \nВечеря:Салат з в’яленою куркою та фенхелем.
URL:https://peranfood.com/event/14/2026-10-20/
CATEGORIES:950 ккал
END:VEVENT
BEGIN:VEVENT
DTSTART;VALUE=DATE:20261111
DTEND;VALUE=DATE:20261112
DTSTAMP:20260422T162824
CREATED:20260306T102505Z
LAST-MODIFIED:20260306T103709Z
UID:10009198-1794355200-1794441599@peranfood.com
SUMMARY:14
DESCRIPTION:Сніданок:Бургер з куркою та салатом Коул Слоу. \nПерекус 1:Брауні з вишнею. \nОбід:Курячий шніцель з картоплею. \nПерекус 2:Форшмак. \nВечеря:Салат з в’яленою куркою та фенхелем.
URL:https://peranfood.com/event/14/2026-11-11/
CATEGORIES:950 ккал
END:VEVENT
BEGIN:VEVENT
DTSTART;VALUE=DATE:20261203
DTEND;VALUE=DATE:20261204
DTSTAMP:20260422T162824
CREATED:20260306T102505Z
LAST-MODIFIED:20260306T103709Z
UID:10009199-1796256000-1796342399@peranfood.com
SUMMARY:14
DESCRIPTION:Сніданок:Бургер з куркою та салатом Коул Слоу. \nПерекус 1:Брауні з вишнею. \nОбід:Курячий шніцель з картоплею. \nПерекус 2:Форшмак. \nВечеря:Салат з в’яленою куркою та фенхелем.
URL:https://peranfood.com/event/14/2026-12-03/
CATEGORIES:950 ккал
END:VEVENT
BEGIN:VEVENT
DTSTART;VALUE=DATE:20261225
DTEND;VALUE=DATE:20261226
DTSTAMP:20260422T162824
CREATED:20260306T102505Z
LAST-MODIFIED:20260306T103709Z
UID:10009200-1798156800-1798243199@peranfood.com
SUMMARY:14
DESCRIPTION:Сніданок:Бургер з куркою та салатом Коул Слоу. \nПерекус 1:Брауні з вишнею. \nОбід:Курячий шніцель з картоплею. \nПерекус 2:Форшмак. \nВечеря:Салат з в’яленою куркою та фенхелем.
URL:https://peranfood.com/event/14/2026-12-25/
CATEGORIES:950 ккал
END:VEVENT
BEGIN:VEVENT
DTSTART;VALUE=DATE:20270116
DTEND;VALUE=DATE:20270117
DTSTAMP:20260422T162824
CREATED:20260306T102505Z
LAST-MODIFIED:20260306T103709Z
UID:10009201-1800057600-1800143999@peranfood.com
SUMMARY:14
DESCRIPTION:Сніданок:Бургер з куркою та салатом Коул Слоу. \nПерекус 1:Брауні з вишнею. \nОбід:Курячий шніцель з картоплею. \nПерекус 2:Форшмак. \nВечеря:Салат з в’яленою куркою та фенхелем.
URL:https://peranfood.com/event/14/2027-01-16/
CATEGORIES:950 ккал
END:VEVENT
BEGIN:VEVENT
DTSTART;VALUE=DATE:20270207
DTEND;VALUE=DATE:20270208
DTSTAMP:20260422T162824
CREATED:20260306T102505Z
LAST-MODIFIED:20260306T103709Z
UID:10009202-1801958400-1802044799@peranfood.com
SUMMARY:14
DESCRIPTION:Сніданок:Бургер з куркою та салатом Коул Слоу. \nПерекус 1:Брауні з вишнею. \nОбід:Курячий шніцель з картоплею. \nПерекус 2:Форшмак. \nВечеря:Салат з в’яленою куркою та фенхелем.
URL:https://peranfood.com/event/14/2027-02-07/
CATEGORIES:950 ккал
END:VEVENT
BEGIN:VEVENT
DTSTART;VALUE=DATE:20270301
DTEND;VALUE=DATE:20270302
DTSTAMP:20260422T162824
CREATED:20260306T102505Z
LAST-MODIFIED:20260306T103709Z
UID:10009203-1803859200-1803945599@peranfood.com
SUMMARY:14
DESCRIPTION:Сніданок:Бургер з куркою та салатом Коул Слоу. \nПерекус 1:Брауні з вишнею. \nОбід:Курячий шніцель з картоплею. \nПерекус 2:Форшмак. \nВечеря:Салат з в’яленою куркою та фенхелем.
URL:https://peranfood.com/event/14/2027-03-01/
CATEGORIES:950 ккал
END:VEVENT
BEGIN:VEVENT
DTSTART;VALUE=DATE:20270323
DTEND;VALUE=DATE:20270324
DTSTAMP:20260422T162824
CREATED:20260306T102505Z
LAST-MODIFIED:20260306T103709Z
UID:10009204-1805760000-1805846399@peranfood.com
SUMMARY:14
DESCRIPTION:Сніданок:Бургер з куркою та салатом Коул Слоу. \nПерекус 1:Брауні з вишнею. \nОбід:Курячий шніцель з картоплею. \nПерекус 2:Форшмак. \nВечеря:Салат з в’яленою куркою та фенхелем.
URL:https://peranfood.com/event/14/2027-03-23/
CATEGORIES:950 ккал
END:VEVENT
BEGIN:VEVENT
DTSTART;VALUE=DATE:20270414
DTEND;VALUE=DATE:20270415
DTSTAMP:20260422T162824
CREATED:20260306T102505Z
LAST-MODIFIED:20260306T103709Z
UID:10009205-1807660800-1807747199@peranfood.com
SUMMARY:14
DESCRIPTION:Сніданок:Бургер з куркою та салатом Коул Слоу. \nПерекус 1:Брауні з вишнею. \nОбід:Курячий шніцель з картоплею. \nПерекус 2:Форшмак. \nВечеря:Салат з в’яленою куркою та фенхелем.
URL:https://peranfood.com/event/14/2027-04-14/
CATEGORIES:950 ккал
END:VEVENT
BEGIN:VEVENT
DTSTART;VALUE=DATE:20270506
DTEND;VALUE=DATE:20270507
DTSTAMP:20260422T162824
CREATED:20260306T102505Z
LAST-MODIFIED:20260306T103709Z
UID:10009206-1809561600-1809647999@peranfood.com
SUMMARY:14
DESCRIPTION:Сніданок:Бургер з куркою та салатом Коул Слоу. \nПерекус 1:Брауні з вишнею. \nОбід:Курячий шніцель з картоплею. \nПерекус 2:Форшмак. \nВечеря:Салат з в’яленою куркою та фенхелем.
URL:https://peranfood.com/event/14/2027-05-06/
CATEGORIES:950 ккал
END:VEVENT
BEGIN:VEVENT
DTSTART;VALUE=DATE:20270528
DTEND;VALUE=DATE:20270529
DTSTAMP:20260422T162824
CREATED:20260306T102505Z
LAST-MODIFIED:20260306T103709Z
UID:10009207-1811462400-1811548799@peranfood.com
SUMMARY:14
DESCRIPTION:Сніданок:Бургер з куркою та салатом Коул Слоу. \nПерекус 1:Брауні з вишнею. \nОбід:Курячий шніцель з картоплею. \nПерекус 2:Форшмак. \nВечеря:Салат з в’яленою куркою та фенхелем.
URL:https://peranfood.com/event/14/2027-05-28/
CATEGORIES:950 ккал
END:VEVENT
BEGIN:VEVENT
DTSTART;VALUE=DATE:20270619
DTEND;VALUE=DATE:20270620
DTSTAMP:20260422T162824
CREATED:20260306T102505Z
LAST-MODIFIED:20260306T103709Z
UID:10009208-1813363200-1813449599@peranfood.com
SUMMARY:14
DESCRIPTION:Сніданок:Бургер з куркою та салатом Коул Слоу. \nПерекус 1:Брауні з вишнею. \nОбід:Курячий шніцель з картоплею. \nПерекус 2:Форшмак. \nВечеря:Салат з в’яленою куркою та фенхелем.
URL:https://peranfood.com/event/14/2027-06-19/
CATEGORIES:950 ккал
END:VEVENT
BEGIN:VEVENT
DTSTART;VALUE=DATE:20270711
DTEND;VALUE=DATE:20270712
DTSTAMP:20260422T162824
CREATED:20260306T102505Z
LAST-MODIFIED:20260306T103709Z
UID:10009209-1815264000-1815350399@peranfood.com
SUMMARY:14
DESCRIPTION:Сніданок:Бургер з куркою та салатом Коул Слоу. \nПерекус 1:Брауні з вишнею. \nОбід:Курячий шніцель з картоплею. \nПерекус 2:Форшмак. \nВечеря:Салат з в’яленою куркою та фенхелем.
URL:https://peranfood.com/event/14/2027-07-11/
CATEGORIES:950 ккал
END:VEVENT
BEGIN:VEVENT
DTSTART;VALUE=DATE:20270802
DTEND;VALUE=DATE:20270803
DTSTAMP:20260422T162824
CREATED:20260306T102505Z
LAST-MODIFIED:20260306T103709Z
UID:10009210-1817164800-1817251199@peranfood.com
SUMMARY:14
DESCRIPTION:Сніданок:Бургер з куркою та салатом Коул Слоу. \nПерекус 1:Брауні з вишнею. \nОбід:Курячий шніцель з картоплею. \nПерекус 2:Форшмак. \nВечеря:Салат з в’яленою куркою та фенхелем.
URL:https://peranfood.com/event/14/2027-08-02/
CATEGORIES:950 ккал
END:VEVENT
BEGIN:VEVENT
DTSTART;VALUE=DATE:20270824
DTEND;VALUE=DATE:20270825
DTSTAMP:20260422T162824
CREATED:20260306T102505Z
LAST-MODIFIED:20260306T103709Z
UID:10009211-1819065600-1819151999@peranfood.com
SUMMARY:14
DESCRIPTION:Сніданок:Бургер з куркою та салатом Коул Слоу. \nПерекус 1:Брауні з вишнею. \nОбід:Курячий шніцель з картоплею. \nПерекус 2:Форшмак. \nВечеря:Салат з в’яленою куркою та фенхелем.
URL:https://peranfood.com/event/14/2027-08-24/
CATEGORIES:950 ккал
END:VEVENT
BEGIN:VEVENT
DTSTART;VALUE=DATE:20270915
DTEND;VALUE=DATE:20270916
DTSTAMP:20260422T162824
CREATED:20260306T102505Z
LAST-MODIFIED:20260306T103709Z
UID:10009212-1820966400-1821052799@peranfood.com
SUMMARY:14
DESCRIPTION:Сніданок:Бургер з куркою та салатом Коул Слоу. \nПерекус 1:Брауні з вишнею. \nОбід:Курячий шніцель з картоплею. \nПерекус 2:Форшмак. \nВечеря:Салат з в’яленою куркою та фенхелем.
URL:https://peranfood.com/event/14/2027-09-15/
CATEGORIES:950 ккал
END:VEVENT
BEGIN:VEVENT
DTSTART;VALUE=DATE:20271007
DTEND;VALUE=DATE:20271008
DTSTAMP:20260422T162824
CREATED:20260306T102505Z
LAST-MODIFIED:20260306T103709Z
UID:10009213-1822867200-1822953599@peranfood.com
SUMMARY:14
DESCRIPTION:Сніданок:Бургер з куркою та салатом Коул Слоу. \nПерекус 1:Брауні з вишнею. \nОбід:Курячий шніцель з картоплею. \nПерекус 2:Форшмак. \nВечеря:Салат з в’яленою куркою та фенхелем.
URL:https://peranfood.com/event/14/2027-10-07/
CATEGORIES:950 ккал
END:VEVENT
BEGIN:VEVENT
DTSTART;VALUE=DATE:20271029
DTEND;VALUE=DATE:20271030
DTSTAMP:20260422T162824
CREATED:20260306T102505Z
LAST-MODIFIED:20260306T103709Z
UID:10009214-1824768000-1824854399@peranfood.com
SUMMARY:14
DESCRIPTION:Сніданок:Бургер з куркою та салатом Коул Слоу. \nПерекус 1:Брауні з вишнею. \nОбід:Курячий шніцель з картоплею. \nПерекус 2:Форшмак. \nВечеря:Салат з в’яленою куркою та фенхелем.
URL:https://peranfood.com/event/14/2027-10-29/
CATEGORIES:950 ккал
END:VEVENT
BEGIN:VEVENT
DTSTART;VALUE=DATE:20271120
DTEND;VALUE=DATE:20271121
DTSTAMP:20260422T162824
CREATED:20260306T102505Z
LAST-MODIFIED:20260306T103709Z
UID:10009215-1826668800-1826755199@peranfood.com
SUMMARY:14
DESCRIPTION:Сніданок:Бургер з куркою та салатом Коул Слоу. \nПерекус 1:Брауні з вишнею. \nОбід:Курячий шніцель з картоплею. \nПерекус 2:Форшмак. \nВечеря:Салат з в’яленою куркою та фенхелем.
URL:https://peranfood.com/event/14/2027-11-20/
CATEGORIES:950 ккал
END:VEVENT
BEGIN:VEVENT
DTSTART;VALUE=DATE:20271212
DTEND;VALUE=DATE:20271213
DTSTAMP:20260422T162824
CREATED:20260306T102505Z
LAST-MODIFIED:20260306T103709Z
UID:10009216-1828569600-1828655999@peranfood.com
SUMMARY:14
DESCRIPTION:Сніданок:Бургер з куркою та салатом Коул Слоу. \nПерекус 1:Брауні з вишнею. \nОбід:Курячий шніцель з картоплею. \nПерекус 2:Форшмак. \nВечеря:Салат з в’яленою куркою та фенхелем.
URL:https://peranfood.com/event/14/2027-12-12/
CATEGORIES:950 ккал
END:VEVENT
BEGIN:VEVENT
DTSTART;VALUE=DATE:20280103
DTEND;VALUE=DATE:20280104
DTSTAMP:20260422T162824
CREATED:20260306T102505Z
LAST-MODIFIED:20260306T103709Z
UID:10009217-1830470400-1830556799@peranfood.com
SUMMARY:14
DESCRIPTION:Сніданок:Бургер з куркою та салатом Коул Слоу. \nПерекус 1:Брауні з вишнею. \nОбід:Курячий шніцель з картоплею. \nПерекус 2:Форшмак. \nВечеря:Салат з в’яленою куркою та фенхелем.
URL:https://peranfood.com/event/14/2028-01-03/
CATEGORIES:950 ккал
END:VEVENT
BEGIN:VEVENT
DTSTART;VALUE=DATE:20280125
DTEND;VALUE=DATE:20280126
DTSTAMP:20260422T162824
CREATED:20260306T102505Z
LAST-MODIFIED:20260306T103709Z
UID:10009218-1832371200-1832457599@peranfood.com
SUMMARY:14
DESCRIPTION:Сніданок:Бургер з куркою та салатом Коул Слоу. \nПерекус 1:Брауні з вишнею. \nОбід:Курячий шніцель з картоплею. \nПерекус 2:Форшмак. \nВечеря:Салат з в’яленою куркою та фенхелем.
URL:https://peranfood.com/event/14/2028-01-25/
CATEGORIES:950 ккал
END:VEVENT
END:VCALENDAR