BEGIN:VCALENDAR
VERSION:2.0
PRODID:-//Peranfood - доставка здорового харчування - ECPv6.15.18//NONSGML v1.0//EN
CALSCALE:GREGORIAN
METHOD:PUBLISH
X-WR-CALNAME:Peranfood - доставка здорового харчування
X-ORIGINAL-URL:https://peranfood.com
X-WR-CALDESC:Події за Peranfood - доставка здорового харчування
REFRESH-INTERVAL;VALUE=DURATION:PT1H
X-Robots-Tag:noindex
X-PUBLISHED-TTL:PT1H
BEGIN:VTIMEZONE
TZID:Europe/Kiev
BEGIN:DAYLIGHT
TZOFFSETFROM:+0200
TZOFFSETTO:+0300
TZNAME:EEST
DTSTART:20250330T010000
END:DAYLIGHT
BEGIN:STANDARD
TZOFFSETFROM:+0300
TZOFFSETTO:+0200
TZNAME:EET
DTSTART:20251026T010000
END:STANDARD
BEGIN:DAYLIGHT
TZOFFSETFROM:+0200
TZOFFSETTO:+0300
TZNAME:EEST
DTSTART:20260329T010000
END:DAYLIGHT
BEGIN:STANDARD
TZOFFSETFROM:+0300
TZOFFSETTO:+0200
TZNAME:EET
DTSTART:20261025T010000
END:STANDARD
BEGIN:DAYLIGHT
TZOFFSETFROM:+0200
TZOFFSETTO:+0300
TZNAME:EEST
DTSTART:20270328T010000
END:DAYLIGHT
BEGIN:STANDARD
TZOFFSETFROM:+0300
TZOFFSETTO:+0200
TZNAME:EET
DTSTART:20271031T010000
END:STANDARD
BEGIN:DAYLIGHT
TZOFFSETFROM:+0200
TZOFFSETTO:+0300
TZNAME:EEST
DTSTART:20280326T010000
END:DAYLIGHT
BEGIN:STANDARD
TZOFFSETFROM:+0300
TZOFFSETTO:+0200
TZNAME:EET
DTSTART:20281029T010000
END:STANDARD
BEGIN:DAYLIGHT
TZOFFSETFROM:+0200
TZOFFSETTO:+0300
TZNAME:EEST
DTSTART:20290325T010000
END:DAYLIGHT
BEGIN:STANDARD
TZOFFSETFROM:+0300
TZOFFSETTO:+0200
TZNAME:EET
DTSTART:20291028T010000
END:STANDARD
END:VTIMEZONE
BEGIN:VEVENT
DTSTART;VALUE=DATE:20260425
DTEND;VALUE=DATE:20260426
DTSTAMP:20260422T141543
CREATED:20260306T102505Z
LAST-MODIFIED:20260306T103631Z
UID:10009025-1777075200-1777161599@peranfood.com
SUMMARY:12
DESCRIPTION:Сніданок:Рисовий чебурек з куркою та сиром. \nПерекус 1:Салат овочевий. \nОбід:Канелоне з морепродуктами з соусом Горгонзола. \nПерекус 2:Суп гречаний з качкою та овочами. \nВечеря:Паргіт з орзотто в соусі вермут.
URL:https://peranfood.com/event/12/2026-04-25/
CATEGORIES:950 ккал
END:VEVENT
BEGIN:VEVENT
DTSTART;VALUE=DATE:20260517
DTEND;VALUE=DATE:20260518
DTSTAMP:20260422T141543
CREATED:20260306T102505Z
LAST-MODIFIED:20260306T103631Z
UID:10009026-1778976000-1779062399@peranfood.com
SUMMARY:12
DESCRIPTION:Сніданок:Рисовий чебурек з куркою та сиром. \nПерекус 1:Салат овочевий. \nОбід:Канелоне з морепродуктами з соусом Горгонзола. \nПерекус 2:Суп гречаний з качкою та овочами. \nВечеря:Паргіт з орзотто в соусі вермут.
URL:https://peranfood.com/event/12/2026-05-17/
CATEGORIES:950 ккал
END:VEVENT
BEGIN:VEVENT
DTSTART;VALUE=DATE:20260608
DTEND;VALUE=DATE:20260609
DTSTAMP:20260422T141543
CREATED:20260306T102505Z
LAST-MODIFIED:20260306T103631Z
UID:10009027-1780876800-1780963199@peranfood.com
SUMMARY:12
DESCRIPTION:Сніданок:Рисовий чебурек з куркою та сиром. \nПерекус 1:Салат овочевий. \nОбід:Канелоне з морепродуктами з соусом Горгонзола. \nПерекус 2:Суп гречаний з качкою та овочами. \nВечеря:Паргіт з орзотто в соусі вермут.
URL:https://peranfood.com/event/12/2026-06-08/
CATEGORIES:950 ккал
END:VEVENT
BEGIN:VEVENT
DTSTART;VALUE=DATE:20260630
DTEND;VALUE=DATE:20260701
DTSTAMP:20260422T141543
CREATED:20260306T102505Z
LAST-MODIFIED:20260306T103631Z
UID:10009028-1782777600-1782863999@peranfood.com
SUMMARY:12
DESCRIPTION:Сніданок:Рисовий чебурек з куркою та сиром. \nПерекус 1:Салат овочевий. \nОбід:Канелоне з морепродуктами з соусом Горгонзола. \nПерекус 2:Суп гречаний з качкою та овочами. \nВечеря:Паргіт з орзотто в соусі вермут.
URL:https://peranfood.com/event/12/2026-06-30/
CATEGORIES:950 ккал
END:VEVENT
BEGIN:VEVENT
DTSTART;VALUE=DATE:20260722
DTEND;VALUE=DATE:20260723
DTSTAMP:20260422T141543
CREATED:20260306T102505Z
LAST-MODIFIED:20260306T103631Z
UID:10009029-1784678400-1784764799@peranfood.com
SUMMARY:12
DESCRIPTION:Сніданок:Рисовий чебурек з куркою та сиром. \nПерекус 1:Салат овочевий. \nОбід:Канелоне з морепродуктами з соусом Горгонзола. \nПерекус 2:Суп гречаний з качкою та овочами. \nВечеря:Паргіт з орзотто в соусі вермут.
URL:https://peranfood.com/event/12/2026-07-22/
CATEGORIES:950 ккал
END:VEVENT
BEGIN:VEVENT
DTSTART;VALUE=DATE:20260813
DTEND;VALUE=DATE:20260814
DTSTAMP:20260422T141543
CREATED:20260306T102505Z
LAST-MODIFIED:20260306T103631Z
UID:10009030-1786579200-1786665599@peranfood.com
SUMMARY:12
DESCRIPTION:Сніданок:Рисовий чебурек з куркою та сиром. \nПерекус 1:Салат овочевий. \nОбід:Канелоне з морепродуктами з соусом Горгонзола. \nПерекус 2:Суп гречаний з качкою та овочами. \nВечеря:Паргіт з орзотто в соусі вермут.
URL:https://peranfood.com/event/12/2026-08-13/
CATEGORIES:950 ккал
END:VEVENT
BEGIN:VEVENT
DTSTART;VALUE=DATE:20260904
DTEND;VALUE=DATE:20260905
DTSTAMP:20260422T141543
CREATED:20260306T102505Z
LAST-MODIFIED:20260306T103631Z
UID:10009031-1788480000-1788566399@peranfood.com
SUMMARY:12
DESCRIPTION:Сніданок:Рисовий чебурек з куркою та сиром. \nПерекус 1:Салат овочевий. \nОбід:Канелоне з морепродуктами з соусом Горгонзола. \nПерекус 2:Суп гречаний з качкою та овочами. \nВечеря:Паргіт з орзотто в соусі вермут.
URL:https://peranfood.com/event/12/2026-09-04/
CATEGORIES:950 ккал
END:VEVENT
BEGIN:VEVENT
DTSTART;VALUE=DATE:20260926
DTEND;VALUE=DATE:20260927
DTSTAMP:20260422T141543
CREATED:20260306T102505Z
LAST-MODIFIED:20260306T103631Z
UID:10009032-1790380800-1790467199@peranfood.com
SUMMARY:12
DESCRIPTION:Сніданок:Рисовий чебурек з куркою та сиром. \nПерекус 1:Салат овочевий. \nОбід:Канелоне з морепродуктами з соусом Горгонзола. \nПерекус 2:Суп гречаний з качкою та овочами. \nВечеря:Паргіт з орзотто в соусі вермут.
URL:https://peranfood.com/event/12/2026-09-26/
CATEGORIES:950 ккал
END:VEVENT
BEGIN:VEVENT
DTSTART;VALUE=DATE:20261018
DTEND;VALUE=DATE:20261019
DTSTAMP:20260422T141543
CREATED:20260306T102505Z
LAST-MODIFIED:20260306T103631Z
UID:10009033-1792281600-1792367999@peranfood.com
SUMMARY:12
DESCRIPTION:Сніданок:Рисовий чебурек з куркою та сиром. \nПерекус 1:Салат овочевий. \nОбід:Канелоне з морепродуктами з соусом Горгонзола. \nПерекус 2:Суп гречаний з качкою та овочами. \nВечеря:Паргіт з орзотто в соусі вермут.
URL:https://peranfood.com/event/12/2026-10-18/
CATEGORIES:950 ккал
END:VEVENT
BEGIN:VEVENT
DTSTART;VALUE=DATE:20261109
DTEND;VALUE=DATE:20261110
DTSTAMP:20260422T141543
CREATED:20260306T102505Z
LAST-MODIFIED:20260306T103631Z
UID:10009034-1794182400-1794268799@peranfood.com
SUMMARY:12
DESCRIPTION:Сніданок:Рисовий чебурек з куркою та сиром. \nПерекус 1:Салат овочевий. \nОбід:Канелоне з морепродуктами з соусом Горгонзола. \nПерекус 2:Суп гречаний з качкою та овочами. \nВечеря:Паргіт з орзотто в соусі вермут.
URL:https://peranfood.com/event/12/2026-11-09/
CATEGORIES:950 ккал
END:VEVENT
BEGIN:VEVENT
DTSTART;VALUE=DATE:20261201
DTEND;VALUE=DATE:20261202
DTSTAMP:20260422T141543
CREATED:20260306T102505Z
LAST-MODIFIED:20260306T103631Z
UID:10009035-1796083200-1796169599@peranfood.com
SUMMARY:12
DESCRIPTION:Сніданок:Рисовий чебурек з куркою та сиром. \nПерекус 1:Салат овочевий. \nОбід:Канелоне з морепродуктами з соусом Горгонзола. \nПерекус 2:Суп гречаний з качкою та овочами. \nВечеря:Паргіт з орзотто в соусі вермут.
URL:https://peranfood.com/event/12/2026-12-01/
CATEGORIES:950 ккал
END:VEVENT
BEGIN:VEVENT
DTSTART;VALUE=DATE:20261223
DTEND;VALUE=DATE:20261224
DTSTAMP:20260422T141543
CREATED:20260306T102505Z
LAST-MODIFIED:20260306T103631Z
UID:10009036-1797984000-1798070399@peranfood.com
SUMMARY:12
DESCRIPTION:Сніданок:Рисовий чебурек з куркою та сиром. \nПерекус 1:Салат овочевий. \nОбід:Канелоне з морепродуктами з соусом Горгонзола. \nПерекус 2:Суп гречаний з качкою та овочами. \nВечеря:Паргіт з орзотто в соусі вермут.
URL:https://peranfood.com/event/12/2026-12-23/
CATEGORIES:950 ккал
END:VEVENT
BEGIN:VEVENT
DTSTART;VALUE=DATE:20270114
DTEND;VALUE=DATE:20270115
DTSTAMP:20260422T141543
CREATED:20260306T102505Z
LAST-MODIFIED:20260306T103631Z
UID:10009037-1799884800-1799971199@peranfood.com
SUMMARY:12
DESCRIPTION:Сніданок:Рисовий чебурек з куркою та сиром. \nПерекус 1:Салат овочевий. \nОбід:Канелоне з морепродуктами з соусом Горгонзола. \nПерекус 2:Суп гречаний з качкою та овочами. \nВечеря:Паргіт з орзотто в соусі вермут.
URL:https://peranfood.com/event/12/2027-01-14/
CATEGORIES:950 ккал
END:VEVENT
BEGIN:VEVENT
DTSTART;VALUE=DATE:20270205
DTEND;VALUE=DATE:20270206
DTSTAMP:20260422T141543
CREATED:20260306T102505Z
LAST-MODIFIED:20260306T103631Z
UID:10009038-1801785600-1801871999@peranfood.com
SUMMARY:12
DESCRIPTION:Сніданок:Рисовий чебурек з куркою та сиром. \nПерекус 1:Салат овочевий. \nОбід:Канелоне з морепродуктами з соусом Горгонзола. \nПерекус 2:Суп гречаний з качкою та овочами. \nВечеря:Паргіт з орзотто в соусі вермут.
URL:https://peranfood.com/event/12/2027-02-05/
CATEGORIES:950 ккал
END:VEVENT
BEGIN:VEVENT
DTSTART;VALUE=DATE:20270227
DTEND;VALUE=DATE:20270228
DTSTAMP:20260422T141543
CREATED:20260306T102505Z
LAST-MODIFIED:20260306T103631Z
UID:10009039-1803686400-1803772799@peranfood.com
SUMMARY:12
DESCRIPTION:Сніданок:Рисовий чебурек з куркою та сиром. \nПерекус 1:Салат овочевий. \nОбід:Канелоне з морепродуктами з соусом Горгонзола. \nПерекус 2:Суп гречаний з качкою та овочами. \nВечеря:Паргіт з орзотто в соусі вермут.
URL:https://peranfood.com/event/12/2027-02-27/
CATEGORIES:950 ккал
END:VEVENT
BEGIN:VEVENT
DTSTART;VALUE=DATE:20270321
DTEND;VALUE=DATE:20270322
DTSTAMP:20260422T141543
CREATED:20260306T102505Z
LAST-MODIFIED:20260306T103631Z
UID:10009040-1805587200-1805673599@peranfood.com
SUMMARY:12
DESCRIPTION:Сніданок:Рисовий чебурек з куркою та сиром. \nПерекус 1:Салат овочевий. \nОбід:Канелоне з морепродуктами з соусом Горгонзола. \nПерекус 2:Суп гречаний з качкою та овочами. \nВечеря:Паргіт з орзотто в соусі вермут.
URL:https://peranfood.com/event/12/2027-03-21/
CATEGORIES:950 ккал
END:VEVENT
BEGIN:VEVENT
DTSTART;VALUE=DATE:20270412
DTEND;VALUE=DATE:20270413
DTSTAMP:20260422T141543
CREATED:20260306T102505Z
LAST-MODIFIED:20260306T103631Z
UID:10009041-1807488000-1807574399@peranfood.com
SUMMARY:12
DESCRIPTION:Сніданок:Рисовий чебурек з куркою та сиром. \nПерекус 1:Салат овочевий. \nОбід:Канелоне з морепродуктами з соусом Горгонзола. \nПерекус 2:Суп гречаний з качкою та овочами. \nВечеря:Паргіт з орзотто в соусі вермут.
URL:https://peranfood.com/event/12/2027-04-12/
CATEGORIES:950 ккал
END:VEVENT
BEGIN:VEVENT
DTSTART;VALUE=DATE:20270504
DTEND;VALUE=DATE:20270505
DTSTAMP:20260422T141543
CREATED:20260306T102505Z
LAST-MODIFIED:20260306T103631Z
UID:10009042-1809388800-1809475199@peranfood.com
SUMMARY:12
DESCRIPTION:Сніданок:Рисовий чебурек з куркою та сиром. \nПерекус 1:Салат овочевий. \nОбід:Канелоне з морепродуктами з соусом Горгонзола. \nПерекус 2:Суп гречаний з качкою та овочами. \nВечеря:Паргіт з орзотто в соусі вермут.
URL:https://peranfood.com/event/12/2027-05-04/
CATEGORIES:950 ккал
END:VEVENT
BEGIN:VEVENT
DTSTART;VALUE=DATE:20270526
DTEND;VALUE=DATE:20270527
DTSTAMP:20260422T141543
CREATED:20260306T102505Z
LAST-MODIFIED:20260306T103631Z
UID:10009043-1811289600-1811375999@peranfood.com
SUMMARY:12
DESCRIPTION:Сніданок:Рисовий чебурек з куркою та сиром. \nПерекус 1:Салат овочевий. \nОбід:Канелоне з морепродуктами з соусом Горгонзола. \nПерекус 2:Суп гречаний з качкою та овочами. \nВечеря:Паргіт з орзотто в соусі вермут.
URL:https://peranfood.com/event/12/2027-05-26/
CATEGORIES:950 ккал
END:VEVENT
BEGIN:VEVENT
DTSTART;VALUE=DATE:20270617
DTEND;VALUE=DATE:20270618
DTSTAMP:20260422T141543
CREATED:20260306T102505Z
LAST-MODIFIED:20260306T103631Z
UID:10009044-1813190400-1813276799@peranfood.com
SUMMARY:12
DESCRIPTION:Сніданок:Рисовий чебурек з куркою та сиром. \nПерекус 1:Салат овочевий. \nОбід:Канелоне з морепродуктами з соусом Горгонзола. \nПерекус 2:Суп гречаний з качкою та овочами. \nВечеря:Паргіт з орзотто в соусі вермут.
URL:https://peranfood.com/event/12/2027-06-17/
CATEGORIES:950 ккал
END:VEVENT
BEGIN:VEVENT
DTSTART;VALUE=DATE:20270709
DTEND;VALUE=DATE:20270710
DTSTAMP:20260422T141543
CREATED:20260306T102505Z
LAST-MODIFIED:20260306T103631Z
UID:10009045-1815091200-1815177599@peranfood.com
SUMMARY:12
DESCRIPTION:Сніданок:Рисовий чебурек з куркою та сиром. \nПерекус 1:Салат овочевий. \nОбід:Канелоне з морепродуктами з соусом Горгонзола. \nПерекус 2:Суп гречаний з качкою та овочами. \nВечеря:Паргіт з орзотто в соусі вермут.
URL:https://peranfood.com/event/12/2027-07-09/
CATEGORIES:950 ккал
END:VEVENT
BEGIN:VEVENT
DTSTART;VALUE=DATE:20270731
DTEND;VALUE=DATE:20270801
DTSTAMP:20260422T141543
CREATED:20260306T102505Z
LAST-MODIFIED:20260306T103631Z
UID:10009046-1816992000-1817078399@peranfood.com
SUMMARY:12
DESCRIPTION:Сніданок:Рисовий чебурек з куркою та сиром. \nПерекус 1:Салат овочевий. \nОбід:Канелоне з морепродуктами з соусом Горгонзола. \nПерекус 2:Суп гречаний з качкою та овочами. \nВечеря:Паргіт з орзотто в соусі вермут.
URL:https://peranfood.com/event/12/2027-07-31/
CATEGORIES:950 ккал
END:VEVENT
BEGIN:VEVENT
DTSTART;VALUE=DATE:20270822
DTEND;VALUE=DATE:20270823
DTSTAMP:20260422T141543
CREATED:20260306T102505Z
LAST-MODIFIED:20260306T103631Z
UID:10009047-1818892800-1818979199@peranfood.com
SUMMARY:12
DESCRIPTION:Сніданок:Рисовий чебурек з куркою та сиром. \nПерекус 1:Салат овочевий. \nОбід:Канелоне з морепродуктами з соусом Горгонзола. \nПерекус 2:Суп гречаний з качкою та овочами. \nВечеря:Паргіт з орзотто в соусі вермут.
URL:https://peranfood.com/event/12/2027-08-22/
CATEGORIES:950 ккал
END:VEVENT
BEGIN:VEVENT
DTSTART;VALUE=DATE:20270913
DTEND;VALUE=DATE:20270914
DTSTAMP:20260422T141543
CREATED:20260306T102505Z
LAST-MODIFIED:20260306T103631Z
UID:10009048-1820793600-1820879999@peranfood.com
SUMMARY:12
DESCRIPTION:Сніданок:Рисовий чебурек з куркою та сиром. \nПерекус 1:Салат овочевий. \nОбід:Канелоне з морепродуктами з соусом Горгонзола. \nПерекус 2:Суп гречаний з качкою та овочами. \nВечеря:Паргіт з орзотто в соусі вермут.
URL:https://peranfood.com/event/12/2027-09-13/
CATEGORIES:950 ккал
END:VEVENT
BEGIN:VEVENT
DTSTART;VALUE=DATE:20271005
DTEND;VALUE=DATE:20271006
DTSTAMP:20260422T141543
CREATED:20260306T102505Z
LAST-MODIFIED:20260306T103631Z
UID:10009049-1822694400-1822780799@peranfood.com
SUMMARY:12
DESCRIPTION:Сніданок:Рисовий чебурек з куркою та сиром. \nПерекус 1:Салат овочевий. \nОбід:Канелоне з морепродуктами з соусом Горгонзола. \nПерекус 2:Суп гречаний з качкою та овочами. \nВечеря:Паргіт з орзотто в соусі вермут.
URL:https://peranfood.com/event/12/2027-10-05/
CATEGORIES:950 ккал
END:VEVENT
BEGIN:VEVENT
DTSTART;VALUE=DATE:20271027
DTEND;VALUE=DATE:20271028
DTSTAMP:20260422T141543
CREATED:20260306T102505Z
LAST-MODIFIED:20260306T103631Z
UID:10009050-1824595200-1824681599@peranfood.com
SUMMARY:12
DESCRIPTION:Сніданок:Рисовий чебурек з куркою та сиром. \nПерекус 1:Салат овочевий. \nОбід:Канелоне з морепродуктами з соусом Горгонзола. \nПерекус 2:Суп гречаний з качкою та овочами. \nВечеря:Паргіт з орзотто в соусі вермут.
URL:https://peranfood.com/event/12/2027-10-27/
CATEGORIES:950 ккал
END:VEVENT
BEGIN:VEVENT
DTSTART;VALUE=DATE:20271118
DTEND;VALUE=DATE:20271119
DTSTAMP:20260422T141543
CREATED:20260306T102505Z
LAST-MODIFIED:20260306T103631Z
UID:10009051-1826496000-1826582399@peranfood.com
SUMMARY:12
DESCRIPTION:Сніданок:Рисовий чебурек з куркою та сиром. \nПерекус 1:Салат овочевий. \nОбід:Канелоне з морепродуктами з соусом Горгонзола. \nПерекус 2:Суп гречаний з качкою та овочами. \nВечеря:Паргіт з орзотто в соусі вермут.
URL:https://peranfood.com/event/12/2027-11-18/
CATEGORIES:950 ккал
END:VEVENT
BEGIN:VEVENT
DTSTART;VALUE=DATE:20271210
DTEND;VALUE=DATE:20271211
DTSTAMP:20260422T141543
CREATED:20260306T102505Z
LAST-MODIFIED:20260306T103631Z
UID:10009052-1828396800-1828483199@peranfood.com
SUMMARY:12
DESCRIPTION:Сніданок:Рисовий чебурек з куркою та сиром. \nПерекус 1:Салат овочевий. \nОбід:Канелоне з морепродуктами з соусом Горгонзола. \nПерекус 2:Суп гречаний з качкою та овочами. \nВечеря:Паргіт з орзотто в соусі вермут.
URL:https://peranfood.com/event/12/2027-12-10/
CATEGORIES:950 ккал
END:VEVENT
BEGIN:VEVENT
DTSTART;VALUE=DATE:20280101
DTEND;VALUE=DATE:20280102
DTSTAMP:20260422T141543
CREATED:20260306T102505Z
LAST-MODIFIED:20260306T103631Z
UID:10009053-1830297600-1830383999@peranfood.com
SUMMARY:12
DESCRIPTION:Сніданок:Рисовий чебурек з куркою та сиром. \nПерекус 1:Салат овочевий. \nОбід:Канелоне з морепродуктами з соусом Горгонзола. \nПерекус 2:Суп гречаний з качкою та овочами. \nВечеря:Паргіт з орзотто в соусі вермут.
URL:https://peranfood.com/event/12/2028-01-01/
CATEGORIES:950 ккал
END:VEVENT
BEGIN:VEVENT
DTSTART;VALUE=DATE:20280123
DTEND;VALUE=DATE:20280124
DTSTAMP:20260422T141543
CREATED:20260306T102505Z
LAST-MODIFIED:20260306T103631Z
UID:10009054-1832198400-1832284799@peranfood.com
SUMMARY:12
DESCRIPTION:Сніданок:Рисовий чебурек з куркою та сиром. \nПерекус 1:Салат овочевий. \nОбід:Канелоне з морепродуктами з соусом Горгонзола. \nПерекус 2:Суп гречаний з качкою та овочами. \nВечеря:Паргіт з орзотто в соусі вермут.
URL:https://peranfood.com/event/12/2028-01-23/
CATEGORIES:950 ккал
END:VEVENT
END:VCALENDAR