BEGIN:VCALENDAR
VERSION:2.0
PRODID:-//Peranfood - доставка здорового харчування - ECPv6.15.20//NONSGML v1.0//EN
CALSCALE:GREGORIAN
METHOD:PUBLISH
X-WR-CALNAME:Peranfood - доставка здорового харчування
X-ORIGINAL-URL:https://peranfood.com
X-WR-CALDESC:Події за Peranfood - доставка здорового харчування
REFRESH-INTERVAL;VALUE=DURATION:PT1H
X-Robots-Tag:noindex
X-PUBLISHED-TTL:PT1H
BEGIN:VTIMEZONE
TZID:Europe/Kiev
BEGIN:DAYLIGHT
TZOFFSETFROM:+0200
TZOFFSETTO:+0300
TZNAME:EEST
DTSTART:20250330T010000
END:DAYLIGHT
BEGIN:STANDARD
TZOFFSETFROM:+0300
TZOFFSETTO:+0200
TZNAME:EET
DTSTART:20251026T010000
END:STANDARD
BEGIN:DAYLIGHT
TZOFFSETFROM:+0200
TZOFFSETTO:+0300
TZNAME:EEST
DTSTART:20260329T010000
END:DAYLIGHT
BEGIN:STANDARD
TZOFFSETFROM:+0300
TZOFFSETTO:+0200
TZNAME:EET
DTSTART:20261025T010000
END:STANDARD
BEGIN:DAYLIGHT
TZOFFSETFROM:+0200
TZOFFSETTO:+0300
TZNAME:EEST
DTSTART:20270328T010000
END:DAYLIGHT
BEGIN:STANDARD
TZOFFSETFROM:+0300
TZOFFSETTO:+0200
TZNAME:EET
DTSTART:20271031T010000
END:STANDARD
END:VTIMEZONE
BEGIN:VEVENT
DTSTART;VALUE=DATE:20260428
DTEND;VALUE=DATE:20260429
DTSTAMP:20260422T180054
CREATED:20260306T102519Z
LAST-MODIFIED:20260306T103609Z
UID:10008802-1777334400-1777420799@peranfood.com
SUMMARY:8s
DESCRIPTION:Сніданок:\nЗлаковий мафін з хумусом та овочами. \nОбід:\nКачині мітболи з полентою. \nВечеря:\nКреветки з японським рисом.
URL:https://peranfood.com/event/8s/2026-04-28/
CATEGORIES:Sport
END:VEVENT
BEGIN:VEVENT
DTSTART;VALUE=DATE:20260506
DTEND;VALUE=DATE:20260507
DTSTAMP:20260422T180054
CREATED:20260306T102519Z
LAST-MODIFIED:20260306T103609Z
UID:10008803-1778025600-1778111999@peranfood.com
SUMMARY:8s
DESCRIPTION:Сніданок:\nЗлаковий мафін з хумусом та овочами. \nОбід:\nКачині мітболи з полентою. \nВечеря:\nКреветки з японським рисом.
URL:https://peranfood.com/event/8s/2026-05-06/
CATEGORIES:Sport
END:VEVENT
BEGIN:VEVENT
DTSTART;VALUE=DATE:20260514
DTEND;VALUE=DATE:20260515
DTSTAMP:20260422T180054
CREATED:20260306T102519Z
LAST-MODIFIED:20260306T103609Z
UID:10008804-1778716800-1778803199@peranfood.com
SUMMARY:8s
DESCRIPTION:Сніданок:\nЗлаковий мафін з хумусом та овочами. \nОбід:\nКачині мітболи з полентою. \nВечеря:\nКреветки з японським рисом.
URL:https://peranfood.com/event/8s/2026-05-14/
CATEGORIES:Sport
END:VEVENT
BEGIN:VEVENT
DTSTART;VALUE=DATE:20260522
DTEND;VALUE=DATE:20260523
DTSTAMP:20260422T180054
CREATED:20260306T102519Z
LAST-MODIFIED:20260306T103609Z
UID:10008805-1779408000-1779494399@peranfood.com
SUMMARY:8s
DESCRIPTION:Сніданок:\nЗлаковий мафін з хумусом та овочами. \nОбід:\nКачині мітболи з полентою. \nВечеря:\nКреветки з японським рисом.
URL:https://peranfood.com/event/8s/2026-05-22/
CATEGORIES:Sport
END:VEVENT
BEGIN:VEVENT
DTSTART;VALUE=DATE:20260530
DTEND;VALUE=DATE:20260531
DTSTAMP:20260422T180054
CREATED:20260306T102519Z
LAST-MODIFIED:20260306T103609Z
UID:10008806-1780099200-1780185599@peranfood.com
SUMMARY:8s
DESCRIPTION:Сніданок:\nЗлаковий мафін з хумусом та овочами. \nОбід:\nКачині мітболи з полентою. \nВечеря:\nКреветки з японським рисом.
URL:https://peranfood.com/event/8s/2026-05-30/
CATEGORIES:Sport
END:VEVENT
BEGIN:VEVENT
DTSTART;VALUE=DATE:20260607
DTEND;VALUE=DATE:20260608
DTSTAMP:20260422T180054
CREATED:20260306T102519Z
LAST-MODIFIED:20260306T103609Z
UID:10008807-1780790400-1780876799@peranfood.com
SUMMARY:8s
DESCRIPTION:Сніданок:\nЗлаковий мафін з хумусом та овочами. \nОбід:\nКачині мітболи з полентою. \nВечеря:\nКреветки з японським рисом.
URL:https://peranfood.com/event/8s/2026-06-07/
CATEGORIES:Sport
END:VEVENT
BEGIN:VEVENT
DTSTART;VALUE=DATE:20260615
DTEND;VALUE=DATE:20260616
DTSTAMP:20260422T180054
CREATED:20260306T102519Z
LAST-MODIFIED:20260306T103609Z
UID:10008808-1781481600-1781567999@peranfood.com
SUMMARY:8s
DESCRIPTION:Сніданок:\nЗлаковий мафін з хумусом та овочами. \nОбід:\nКачині мітболи з полентою. \nВечеря:\nКреветки з японським рисом.
URL:https://peranfood.com/event/8s/2026-06-15/
CATEGORIES:Sport
END:VEVENT
BEGIN:VEVENT
DTSTART;VALUE=DATE:20260623
DTEND;VALUE=DATE:20260624
DTSTAMP:20260422T180054
CREATED:20260306T102519Z
LAST-MODIFIED:20260306T103609Z
UID:10008809-1782172800-1782259199@peranfood.com
SUMMARY:8s
DESCRIPTION:Сніданок:\nЗлаковий мафін з хумусом та овочами. \nОбід:\nКачині мітболи з полентою. \nВечеря:\nКреветки з японським рисом.
URL:https://peranfood.com/event/8s/2026-06-23/
CATEGORIES:Sport
END:VEVENT
BEGIN:VEVENT
DTSTART;VALUE=DATE:20260701
DTEND;VALUE=DATE:20260702
DTSTAMP:20260422T180054
CREATED:20260306T102519Z
LAST-MODIFIED:20260306T103609Z
UID:10008810-1782864000-1782950399@peranfood.com
SUMMARY:8s
DESCRIPTION:Сніданок:\nЗлаковий мафін з хумусом та овочами. \nОбід:\nКачині мітболи з полентою. \nВечеря:\nКреветки з японським рисом.
URL:https://peranfood.com/event/8s/2026-07-01/
CATEGORIES:Sport
END:VEVENT
BEGIN:VEVENT
DTSTART;VALUE=DATE:20260709
DTEND;VALUE=DATE:20260710
DTSTAMP:20260422T180054
CREATED:20260306T102519Z
LAST-MODIFIED:20260306T103609Z
UID:10008811-1783555200-1783641599@peranfood.com
SUMMARY:8s
DESCRIPTION:Сніданок:\nЗлаковий мафін з хумусом та овочами. \nОбід:\nКачині мітболи з полентою. \nВечеря:\nКреветки з японським рисом.
URL:https://peranfood.com/event/8s/2026-07-09/
CATEGORIES:Sport
END:VEVENT
BEGIN:VEVENT
DTSTART;VALUE=DATE:20260717
DTEND;VALUE=DATE:20260718
DTSTAMP:20260422T180054
CREATED:20260306T102519Z
LAST-MODIFIED:20260306T103609Z
UID:10008812-1784246400-1784332799@peranfood.com
SUMMARY:8s
DESCRIPTION:Сніданок:\nЗлаковий мафін з хумусом та овочами. \nОбід:\nКачині мітболи з полентою. \nВечеря:\nКреветки з японським рисом.
URL:https://peranfood.com/event/8s/2026-07-17/
CATEGORIES:Sport
END:VEVENT
BEGIN:VEVENT
DTSTART;VALUE=DATE:20260725
DTEND;VALUE=DATE:20260726
DTSTAMP:20260422T180054
CREATED:20260306T102519Z
LAST-MODIFIED:20260306T103609Z
UID:10008813-1784937600-1785023999@peranfood.com
SUMMARY:8s
DESCRIPTION:Сніданок:\nЗлаковий мафін з хумусом та овочами. \nОбід:\nКачині мітболи з полентою. \nВечеря:\nКреветки з японським рисом.
URL:https://peranfood.com/event/8s/2026-07-25/
CATEGORIES:Sport
END:VEVENT
BEGIN:VEVENT
DTSTART;VALUE=DATE:20260802
DTEND;VALUE=DATE:20260803
DTSTAMP:20260422T180054
CREATED:20260306T102519Z
LAST-MODIFIED:20260306T103609Z
UID:10008814-1785628800-1785715199@peranfood.com
SUMMARY:8s
DESCRIPTION:Сніданок:\nЗлаковий мафін з хумусом та овочами. \nОбід:\nКачині мітболи з полентою. \nВечеря:\nКреветки з японським рисом.
URL:https://peranfood.com/event/8s/2026-08-02/
CATEGORIES:Sport
END:VEVENT
BEGIN:VEVENT
DTSTART;VALUE=DATE:20260810
DTEND;VALUE=DATE:20260811
DTSTAMP:20260422T180054
CREATED:20260306T102519Z
LAST-MODIFIED:20260306T103609Z
UID:10008815-1786320000-1786406399@peranfood.com
SUMMARY:8s
DESCRIPTION:Сніданок:\nЗлаковий мафін з хумусом та овочами. \nОбід:\nКачині мітболи з полентою. \nВечеря:\nКреветки з японським рисом.
URL:https://peranfood.com/event/8s/2026-08-10/
CATEGORIES:Sport
END:VEVENT
BEGIN:VEVENT
DTSTART;VALUE=DATE:20260818
DTEND;VALUE=DATE:20260819
DTSTAMP:20260422T180054
CREATED:20260306T102519Z
LAST-MODIFIED:20260306T103609Z
UID:10008816-1787011200-1787097599@peranfood.com
SUMMARY:8s
DESCRIPTION:Сніданок:\nЗлаковий мафін з хумусом та овочами. \nОбід:\nКачині мітболи з полентою. \nВечеря:\nКреветки з японським рисом.
URL:https://peranfood.com/event/8s/2026-08-18/
CATEGORIES:Sport
END:VEVENT
BEGIN:VEVENT
DTSTART;VALUE=DATE:20260826
DTEND;VALUE=DATE:20260827
DTSTAMP:20260422T180054
CREATED:20260306T102519Z
LAST-MODIFIED:20260306T103609Z
UID:10008817-1787702400-1787788799@peranfood.com
SUMMARY:8s
DESCRIPTION:Сніданок:\nЗлаковий мафін з хумусом та овочами. \nОбід:\nКачині мітболи з полентою. \nВечеря:\nКреветки з японським рисом.
URL:https://peranfood.com/event/8s/2026-08-26/
CATEGORIES:Sport
END:VEVENT
BEGIN:VEVENT
DTSTART;VALUE=DATE:20260903
DTEND;VALUE=DATE:20260904
DTSTAMP:20260422T180054
CREATED:20260306T102519Z
LAST-MODIFIED:20260306T103609Z
UID:10008818-1788393600-1788479999@peranfood.com
SUMMARY:8s
DESCRIPTION:Сніданок:\nЗлаковий мафін з хумусом та овочами. \nОбід:\nКачині мітболи з полентою. \nВечеря:\nКреветки з японським рисом.
URL:https://peranfood.com/event/8s/2026-09-03/
CATEGORIES:Sport
END:VEVENT
BEGIN:VEVENT
DTSTART;VALUE=DATE:20260911
DTEND;VALUE=DATE:20260912
DTSTAMP:20260422T180054
CREATED:20260306T102519Z
LAST-MODIFIED:20260306T103609Z
UID:10008819-1789084800-1789171199@peranfood.com
SUMMARY:8s
DESCRIPTION:Сніданок:\nЗлаковий мафін з хумусом та овочами. \nОбід:\nКачині мітболи з полентою. \nВечеря:\nКреветки з японським рисом.
URL:https://peranfood.com/event/8s/2026-09-11/
CATEGORIES:Sport
END:VEVENT
BEGIN:VEVENT
DTSTART;VALUE=DATE:20260919
DTEND;VALUE=DATE:20260920
DTSTAMP:20260422T180054
CREATED:20260306T102519Z
LAST-MODIFIED:20260306T103609Z
UID:10008820-1789776000-1789862399@peranfood.com
SUMMARY:8s
DESCRIPTION:Сніданок:\nЗлаковий мафін з хумусом та овочами. \nОбід:\nКачині мітболи з полентою. \nВечеря:\nКреветки з японським рисом.
URL:https://peranfood.com/event/8s/2026-09-19/
CATEGORIES:Sport
END:VEVENT
BEGIN:VEVENT
DTSTART;VALUE=DATE:20260927
DTEND;VALUE=DATE:20260928
DTSTAMP:20260422T180054
CREATED:20260306T102519Z
LAST-MODIFIED:20260306T103609Z
UID:10008821-1790467200-1790553599@peranfood.com
SUMMARY:8s
DESCRIPTION:Сніданок:\nЗлаковий мафін з хумусом та овочами. \nОбід:\nКачині мітболи з полентою. \nВечеря:\nКреветки з японським рисом.
URL:https://peranfood.com/event/8s/2026-09-27/
CATEGORIES:Sport
END:VEVENT
BEGIN:VEVENT
DTSTART;VALUE=DATE:20261005
DTEND;VALUE=DATE:20261006
DTSTAMP:20260422T180054
CREATED:20260306T102519Z
LAST-MODIFIED:20260306T103609Z
UID:10008822-1791158400-1791244799@peranfood.com
SUMMARY:8s
DESCRIPTION:Сніданок:\nЗлаковий мафін з хумусом та овочами. \nОбід:\nКачині мітболи з полентою. \nВечеря:\nКреветки з японським рисом.
URL:https://peranfood.com/event/8s/2026-10-05/
CATEGORIES:Sport
END:VEVENT
BEGIN:VEVENT
DTSTART;VALUE=DATE:20261013
DTEND;VALUE=DATE:20261014
DTSTAMP:20260422T180054
CREATED:20260306T102519Z
LAST-MODIFIED:20260306T103609Z
UID:10008823-1791849600-1791935999@peranfood.com
SUMMARY:8s
DESCRIPTION:Сніданок:\nЗлаковий мафін з хумусом та овочами. \nОбід:\nКачині мітболи з полентою. \nВечеря:\nКреветки з японським рисом.
URL:https://peranfood.com/event/8s/2026-10-13/
CATEGORIES:Sport
END:VEVENT
BEGIN:VEVENT
DTSTART;VALUE=DATE:20261021
DTEND;VALUE=DATE:20261022
DTSTAMP:20260422T180054
CREATED:20260306T102519Z
LAST-MODIFIED:20260306T103609Z
UID:10008824-1792540800-1792627199@peranfood.com
SUMMARY:8s
DESCRIPTION:Сніданок:\nЗлаковий мафін з хумусом та овочами. \nОбід:\nКачині мітболи з полентою. \nВечеря:\nКреветки з японським рисом.
URL:https://peranfood.com/event/8s/2026-10-21/
CATEGORIES:Sport
END:VEVENT
BEGIN:VEVENT
DTSTART;VALUE=DATE:20261029
DTEND;VALUE=DATE:20261030
DTSTAMP:20260422T180054
CREATED:20260306T102519Z
LAST-MODIFIED:20260306T103609Z
UID:10008825-1793232000-1793318399@peranfood.com
SUMMARY:8s
DESCRIPTION:Сніданок:\nЗлаковий мафін з хумусом та овочами. \nОбід:\nКачині мітболи з полентою. \nВечеря:\nКреветки з японським рисом.
URL:https://peranfood.com/event/8s/2026-10-29/
CATEGORIES:Sport
END:VEVENT
BEGIN:VEVENT
DTSTART;VALUE=DATE:20261106
DTEND;VALUE=DATE:20261107
DTSTAMP:20260422T180054
CREATED:20260306T102519Z
LAST-MODIFIED:20260306T103609Z
UID:10008826-1793923200-1794009599@peranfood.com
SUMMARY:8s
DESCRIPTION:Сніданок:\nЗлаковий мафін з хумусом та овочами. \nОбід:\nКачині мітболи з полентою. \nВечеря:\nКреветки з японським рисом.
URL:https://peranfood.com/event/8s/2026-11-06/
CATEGORIES:Sport
END:VEVENT
BEGIN:VEVENT
DTSTART;VALUE=DATE:20261114
DTEND;VALUE=DATE:20261115
DTSTAMP:20260422T180054
CREATED:20260306T102519Z
LAST-MODIFIED:20260306T103609Z
UID:10008827-1794614400-1794700799@peranfood.com
SUMMARY:8s
DESCRIPTION:Сніданок:\nЗлаковий мафін з хумусом та овочами. \nОбід:\nКачині мітболи з полентою. \nВечеря:\nКреветки з японським рисом.
URL:https://peranfood.com/event/8s/2026-11-14/
CATEGORIES:Sport
END:VEVENT
BEGIN:VEVENT
DTSTART;VALUE=DATE:20261122
DTEND;VALUE=DATE:20261123
DTSTAMP:20260422T180054
CREATED:20260306T102519Z
LAST-MODIFIED:20260306T103609Z
UID:10008828-1795305600-1795391999@peranfood.com
SUMMARY:8s
DESCRIPTION:Сніданок:\nЗлаковий мафін з хумусом та овочами. \nОбід:\nКачині мітболи з полентою. \nВечеря:\nКреветки з японським рисом.
URL:https://peranfood.com/event/8s/2026-11-22/
CATEGORIES:Sport
END:VEVENT
BEGIN:VEVENT
DTSTART;VALUE=DATE:20261130
DTEND;VALUE=DATE:20261201
DTSTAMP:20260422T180054
CREATED:20260306T102519Z
LAST-MODIFIED:20260306T103609Z
UID:10008829-1795996800-1796083199@peranfood.com
SUMMARY:8s
DESCRIPTION:Сніданок:\nЗлаковий мафін з хумусом та овочами. \nОбід:\nКачині мітболи з полентою. \nВечеря:\nКреветки з японським рисом.
URL:https://peranfood.com/event/8s/2026-11-30/
CATEGORIES:Sport
END:VEVENT
BEGIN:VEVENT
DTSTART;VALUE=DATE:20261208
DTEND;VALUE=DATE:20261209
DTSTAMP:20260422T180054
CREATED:20260306T102519Z
LAST-MODIFIED:20260306T103609Z
UID:10008830-1796688000-1796774399@peranfood.com
SUMMARY:8s
DESCRIPTION:Сніданок:\nЗлаковий мафін з хумусом та овочами. \nОбід:\nКачині мітболи з полентою. \nВечеря:\nКреветки з японським рисом.
URL:https://peranfood.com/event/8s/2026-12-08/
CATEGORIES:Sport
END:VEVENT
BEGIN:VEVENT
DTSTART;VALUE=DATE:20261216
DTEND;VALUE=DATE:20261217
DTSTAMP:20260422T180054
CREATED:20260306T102519Z
LAST-MODIFIED:20260306T103609Z
UID:10008831-1797379200-1797465599@peranfood.com
SUMMARY:8s
DESCRIPTION:Сніданок:\nЗлаковий мафін з хумусом та овочами. \nОбід:\nКачині мітболи з полентою. \nВечеря:\nКреветки з японським рисом.
URL:https://peranfood.com/event/8s/2026-12-16/
CATEGORIES:Sport
END:VEVENT
END:VCALENDAR