BEGIN:VCALENDAR
VERSION:2.0
PRODID:-//Peranfood - доставка здорового харчування - ECPv6.15.18//NONSGML v1.0//EN
CALSCALE:GREGORIAN
METHOD:PUBLISH
X-WR-CALNAME:Peranfood - доставка здорового харчування
X-ORIGINAL-URL:https://peranfood.com
X-WR-CALDESC:Події за Peranfood - доставка здорового харчування
REFRESH-INTERVAL;VALUE=DURATION:PT1H
X-Robots-Tag:noindex
X-PUBLISHED-TTL:PT1H
BEGIN:VTIMEZONE
TZID:Europe/Kiev
BEGIN:DAYLIGHT
TZOFFSETFROM:+0200
TZOFFSETTO:+0300
TZNAME:EEST
DTSTART:20250330T010000
END:DAYLIGHT
BEGIN:STANDARD
TZOFFSETFROM:+0300
TZOFFSETTO:+0200
TZNAME:EET
DTSTART:20251026T010000
END:STANDARD
BEGIN:DAYLIGHT
TZOFFSETFROM:+0200
TZOFFSETTO:+0300
TZNAME:EEST
DTSTART:20260329T010000
END:DAYLIGHT
BEGIN:STANDARD
TZOFFSETFROM:+0300
TZOFFSETTO:+0200
TZNAME:EET
DTSTART:20261025T010000
END:STANDARD
BEGIN:DAYLIGHT
TZOFFSETFROM:+0200
TZOFFSETTO:+0300
TZNAME:EEST
DTSTART:20270328T010000
END:DAYLIGHT
BEGIN:STANDARD
TZOFFSETFROM:+0300
TZOFFSETTO:+0200
TZNAME:EET
DTSTART:20271031T010000
END:STANDARD
END:VTIMEZONE
BEGIN:VEVENT
DTSTART;VALUE=DATE:20260427
DTEND;VALUE=DATE:20260428
DTSTAMP:20260422T151048
CREATED:20260306T102519Z
LAST-MODIFIED:20260306T103525Z
UID:10008493-1777248000-1777334399@peranfood.com
SUMMARY:7s
DESCRIPTION:Сніданок:\nОмлет з лососем та броколі. \nОбід:\nВітелло тоннато з амарантом та печеним перцем. \nВечеря:\nПюре з сочевиці з мітболами.\nСалат овочевий.
URL:https://peranfood.com/event/7s/2026-04-27/
CATEGORIES:Sport
END:VEVENT
BEGIN:VEVENT
DTSTART;VALUE=DATE:20260505
DTEND;VALUE=DATE:20260506
DTSTAMP:20260422T151048
CREATED:20260306T102519Z
LAST-MODIFIED:20260306T103525Z
UID:10008494-1777939200-1778025599@peranfood.com
SUMMARY:7s
DESCRIPTION:Сніданок:\nОмлет з лососем та броколі. \nОбід:\nВітелло тоннато з амарантом та печеним перцем. \nВечеря:\nПюре з сочевиці з мітболами.\nСалат овочевий.
URL:https://peranfood.com/event/7s/2026-05-05/
CATEGORIES:Sport
END:VEVENT
BEGIN:VEVENT
DTSTART;VALUE=DATE:20260513
DTEND;VALUE=DATE:20260514
DTSTAMP:20260422T151048
CREATED:20260306T102519Z
LAST-MODIFIED:20260306T103525Z
UID:10008495-1778630400-1778716799@peranfood.com
SUMMARY:7s
DESCRIPTION:Сніданок:\nОмлет з лососем та броколі. \nОбід:\nВітелло тоннато з амарантом та печеним перцем. \nВечеря:\nПюре з сочевиці з мітболами.\nСалат овочевий.
URL:https://peranfood.com/event/7s/2026-05-13/
CATEGORIES:Sport
END:VEVENT
BEGIN:VEVENT
DTSTART;VALUE=DATE:20260521
DTEND;VALUE=DATE:20260522
DTSTAMP:20260422T151048
CREATED:20260306T102519Z
LAST-MODIFIED:20260306T103525Z
UID:10008496-1779321600-1779407999@peranfood.com
SUMMARY:7s
DESCRIPTION:Сніданок:\nОмлет з лососем та броколі. \nОбід:\nВітелло тоннато з амарантом та печеним перцем. \nВечеря:\nПюре з сочевиці з мітболами.\nСалат овочевий.
URL:https://peranfood.com/event/7s/2026-05-21/
CATEGORIES:Sport
END:VEVENT
BEGIN:VEVENT
DTSTART;VALUE=DATE:20260529
DTEND;VALUE=DATE:20260530
DTSTAMP:20260422T151048
CREATED:20260306T102519Z
LAST-MODIFIED:20260306T103525Z
UID:10008497-1780012800-1780099199@peranfood.com
SUMMARY:7s
DESCRIPTION:Сніданок:\nОмлет з лососем та броколі. \nОбід:\nВітелло тоннато з амарантом та печеним перцем. \nВечеря:\nПюре з сочевиці з мітболами.\nСалат овочевий.
URL:https://peranfood.com/event/7s/2026-05-29/
CATEGORIES:Sport
END:VEVENT
BEGIN:VEVENT
DTSTART;VALUE=DATE:20260606
DTEND;VALUE=DATE:20260607
DTSTAMP:20260422T151048
CREATED:20260306T102519Z
LAST-MODIFIED:20260306T103525Z
UID:10008498-1780704000-1780790399@peranfood.com
SUMMARY:7s
DESCRIPTION:Сніданок:\nОмлет з лососем та броколі. \nОбід:\nВітелло тоннато з амарантом та печеним перцем. \nВечеря:\nПюре з сочевиці з мітболами.\nСалат овочевий.
URL:https://peranfood.com/event/7s/2026-06-06/
CATEGORIES:Sport
END:VEVENT
BEGIN:VEVENT
DTSTART;VALUE=DATE:20260614
DTEND;VALUE=DATE:20260615
DTSTAMP:20260422T151048
CREATED:20260306T102519Z
LAST-MODIFIED:20260306T103525Z
UID:10008499-1781395200-1781481599@peranfood.com
SUMMARY:7s
DESCRIPTION:Сніданок:\nОмлет з лососем та броколі. \nОбід:\nВітелло тоннато з амарантом та печеним перцем. \nВечеря:\nПюре з сочевиці з мітболами.\nСалат овочевий.
URL:https://peranfood.com/event/7s/2026-06-14/
CATEGORIES:Sport
END:VEVENT
BEGIN:VEVENT
DTSTART;VALUE=DATE:20260622
DTEND;VALUE=DATE:20260623
DTSTAMP:20260422T151048
CREATED:20260306T102519Z
LAST-MODIFIED:20260306T103525Z
UID:10008500-1782086400-1782172799@peranfood.com
SUMMARY:7s
DESCRIPTION:Сніданок:\nОмлет з лососем та броколі. \nОбід:\nВітелло тоннато з амарантом та печеним перцем. \nВечеря:\nПюре з сочевиці з мітболами.\nСалат овочевий.
URL:https://peranfood.com/event/7s/2026-06-22/
CATEGORIES:Sport
END:VEVENT
BEGIN:VEVENT
DTSTART;VALUE=DATE:20260630
DTEND;VALUE=DATE:20260701
DTSTAMP:20260422T151048
CREATED:20260306T102519Z
LAST-MODIFIED:20260306T103525Z
UID:10008501-1782777600-1782863999@peranfood.com
SUMMARY:7s
DESCRIPTION:Сніданок:\nОмлет з лососем та броколі. \nОбід:\nВітелло тоннато з амарантом та печеним перцем. \nВечеря:\nПюре з сочевиці з мітболами.\nСалат овочевий.
URL:https://peranfood.com/event/7s/2026-06-30/
CATEGORIES:Sport
END:VEVENT
BEGIN:VEVENT
DTSTART;VALUE=DATE:20260708
DTEND;VALUE=DATE:20260709
DTSTAMP:20260422T151048
CREATED:20260306T102519Z
LAST-MODIFIED:20260306T103525Z
UID:10008502-1783468800-1783555199@peranfood.com
SUMMARY:7s
DESCRIPTION:Сніданок:\nОмлет з лососем та броколі. \nОбід:\nВітелло тоннато з амарантом та печеним перцем. \nВечеря:\nПюре з сочевиці з мітболами.\nСалат овочевий.
URL:https://peranfood.com/event/7s/2026-07-08/
CATEGORIES:Sport
END:VEVENT
BEGIN:VEVENT
DTSTART;VALUE=DATE:20260716
DTEND;VALUE=DATE:20260717
DTSTAMP:20260422T151048
CREATED:20260306T102519Z
LAST-MODIFIED:20260306T103525Z
UID:10008503-1784160000-1784246399@peranfood.com
SUMMARY:7s
DESCRIPTION:Сніданок:\nОмлет з лососем та броколі. \nОбід:\nВітелло тоннато з амарантом та печеним перцем. \nВечеря:\nПюре з сочевиці з мітболами.\nСалат овочевий.
URL:https://peranfood.com/event/7s/2026-07-16/
CATEGORIES:Sport
END:VEVENT
BEGIN:VEVENT
DTSTART;VALUE=DATE:20260724
DTEND;VALUE=DATE:20260725
DTSTAMP:20260422T151048
CREATED:20260306T102519Z
LAST-MODIFIED:20260306T103525Z
UID:10008504-1784851200-1784937599@peranfood.com
SUMMARY:7s
DESCRIPTION:Сніданок:\nОмлет з лососем та броколі. \nОбід:\nВітелло тоннато з амарантом та печеним перцем. \nВечеря:\nПюре з сочевиці з мітболами.\nСалат овочевий.
URL:https://peranfood.com/event/7s/2026-07-24/
CATEGORIES:Sport
END:VEVENT
BEGIN:VEVENT
DTSTART;VALUE=DATE:20260801
DTEND;VALUE=DATE:20260802
DTSTAMP:20260422T151048
CREATED:20260306T102519Z
LAST-MODIFIED:20260306T103525Z
UID:10008505-1785542400-1785628799@peranfood.com
SUMMARY:7s
DESCRIPTION:Сніданок:\nОмлет з лососем та броколі. \nОбід:\nВітелло тоннато з амарантом та печеним перцем. \nВечеря:\nПюре з сочевиці з мітболами.\nСалат овочевий.
URL:https://peranfood.com/event/7s/2026-08-01/
CATEGORIES:Sport
END:VEVENT
BEGIN:VEVENT
DTSTART;VALUE=DATE:20260809
DTEND;VALUE=DATE:20260810
DTSTAMP:20260422T151048
CREATED:20260306T102519Z
LAST-MODIFIED:20260306T103525Z
UID:10008506-1786233600-1786319999@peranfood.com
SUMMARY:7s
DESCRIPTION:Сніданок:\nОмлет з лососем та броколі. \nОбід:\nВітелло тоннато з амарантом та печеним перцем. \nВечеря:\nПюре з сочевиці з мітболами.\nСалат овочевий.
URL:https://peranfood.com/event/7s/2026-08-09/
CATEGORIES:Sport
END:VEVENT
BEGIN:VEVENT
DTSTART;VALUE=DATE:20260817
DTEND;VALUE=DATE:20260818
DTSTAMP:20260422T151048
CREATED:20260306T102519Z
LAST-MODIFIED:20260306T103525Z
UID:10008507-1786924800-1787011199@peranfood.com
SUMMARY:7s
DESCRIPTION:Сніданок:\nОмлет з лососем та броколі. \nОбід:\nВітелло тоннато з амарантом та печеним перцем. \nВечеря:\nПюре з сочевиці з мітболами.\nСалат овочевий.
URL:https://peranfood.com/event/7s/2026-08-17/
CATEGORIES:Sport
END:VEVENT
BEGIN:VEVENT
DTSTART;VALUE=DATE:20260825
DTEND;VALUE=DATE:20260826
DTSTAMP:20260422T151048
CREATED:20260306T102519Z
LAST-MODIFIED:20260306T103525Z
UID:10008508-1787616000-1787702399@peranfood.com
SUMMARY:7s
DESCRIPTION:Сніданок:\nОмлет з лососем та броколі. \nОбід:\nВітелло тоннато з амарантом та печеним перцем. \nВечеря:\nПюре з сочевиці з мітболами.\nСалат овочевий.
URL:https://peranfood.com/event/7s/2026-08-25/
CATEGORIES:Sport
END:VEVENT
BEGIN:VEVENT
DTSTART;VALUE=DATE:20260902
DTEND;VALUE=DATE:20260903
DTSTAMP:20260422T151048
CREATED:20260306T102519Z
LAST-MODIFIED:20260306T103525Z
UID:10008509-1788307200-1788393599@peranfood.com
SUMMARY:7s
DESCRIPTION:Сніданок:\nОмлет з лососем та броколі. \nОбід:\nВітелло тоннато з амарантом та печеним перцем. \nВечеря:\nПюре з сочевиці з мітболами.\nСалат овочевий.
URL:https://peranfood.com/event/7s/2026-09-02/
CATEGORIES:Sport
END:VEVENT
BEGIN:VEVENT
DTSTART;VALUE=DATE:20260910
DTEND;VALUE=DATE:20260911
DTSTAMP:20260422T151048
CREATED:20260306T102519Z
LAST-MODIFIED:20260306T103525Z
UID:10008510-1788998400-1789084799@peranfood.com
SUMMARY:7s
DESCRIPTION:Сніданок:\nОмлет з лососем та броколі. \nОбід:\nВітелло тоннато з амарантом та печеним перцем. \nВечеря:\nПюре з сочевиці з мітболами.\nСалат овочевий.
URL:https://peranfood.com/event/7s/2026-09-10/
CATEGORIES:Sport
END:VEVENT
BEGIN:VEVENT
DTSTART;VALUE=DATE:20260918
DTEND;VALUE=DATE:20260919
DTSTAMP:20260422T151048
CREATED:20260306T102519Z
LAST-MODIFIED:20260306T103525Z
UID:10008511-1789689600-1789775999@peranfood.com
SUMMARY:7s
DESCRIPTION:Сніданок:\nОмлет з лососем та броколі. \nОбід:\nВітелло тоннато з амарантом та печеним перцем. \nВечеря:\nПюре з сочевиці з мітболами.\nСалат овочевий.
URL:https://peranfood.com/event/7s/2026-09-18/
CATEGORIES:Sport
END:VEVENT
BEGIN:VEVENT
DTSTART;VALUE=DATE:20260926
DTEND;VALUE=DATE:20260927
DTSTAMP:20260422T151048
CREATED:20260306T102519Z
LAST-MODIFIED:20260306T103525Z
UID:10008512-1790380800-1790467199@peranfood.com
SUMMARY:7s
DESCRIPTION:Сніданок:\nОмлет з лососем та броколі. \nОбід:\nВітелло тоннато з амарантом та печеним перцем. \nВечеря:\nПюре з сочевиці з мітболами.\nСалат овочевий.
URL:https://peranfood.com/event/7s/2026-09-26/
CATEGORIES:Sport
END:VEVENT
BEGIN:VEVENT
DTSTART;VALUE=DATE:20261004
DTEND;VALUE=DATE:20261005
DTSTAMP:20260422T151048
CREATED:20260306T102519Z
LAST-MODIFIED:20260306T103525Z
UID:10008513-1791072000-1791158399@peranfood.com
SUMMARY:7s
DESCRIPTION:Сніданок:\nОмлет з лососем та броколі. \nОбід:\nВітелло тоннато з амарантом та печеним перцем. \nВечеря:\nПюре з сочевиці з мітболами.\nСалат овочевий.
URL:https://peranfood.com/event/7s/2026-10-04/
CATEGORIES:Sport
END:VEVENT
BEGIN:VEVENT
DTSTART;VALUE=DATE:20261012
DTEND;VALUE=DATE:20261013
DTSTAMP:20260422T151048
CREATED:20260306T102519Z
LAST-MODIFIED:20260306T103525Z
UID:10008514-1791763200-1791849599@peranfood.com
SUMMARY:7s
DESCRIPTION:Сніданок:\nОмлет з лососем та броколі. \nОбід:\nВітелло тоннато з амарантом та печеним перцем. \nВечеря:\nПюре з сочевиці з мітболами.\nСалат овочевий.
URL:https://peranfood.com/event/7s/2026-10-12/
CATEGORIES:Sport
END:VEVENT
BEGIN:VEVENT
DTSTART;VALUE=DATE:20261020
DTEND;VALUE=DATE:20261021
DTSTAMP:20260422T151048
CREATED:20260306T102519Z
LAST-MODIFIED:20260306T103525Z
UID:10008515-1792454400-1792540799@peranfood.com
SUMMARY:7s
DESCRIPTION:Сніданок:\nОмлет з лососем та броколі. \nОбід:\nВітелло тоннато з амарантом та печеним перцем. \nВечеря:\nПюре з сочевиці з мітболами.\nСалат овочевий.
URL:https://peranfood.com/event/7s/2026-10-20/
CATEGORIES:Sport
END:VEVENT
BEGIN:VEVENT
DTSTART;VALUE=DATE:20261028
DTEND;VALUE=DATE:20261029
DTSTAMP:20260422T151048
CREATED:20260306T102519Z
LAST-MODIFIED:20260306T103525Z
UID:10008516-1793145600-1793231999@peranfood.com
SUMMARY:7s
DESCRIPTION:Сніданок:\nОмлет з лососем та броколі. \nОбід:\nВітелло тоннато з амарантом та печеним перцем. \nВечеря:\nПюре з сочевиці з мітболами.\nСалат овочевий.
URL:https://peranfood.com/event/7s/2026-10-28/
CATEGORIES:Sport
END:VEVENT
BEGIN:VEVENT
DTSTART;VALUE=DATE:20261105
DTEND;VALUE=DATE:20261106
DTSTAMP:20260422T151048
CREATED:20260306T102519Z
LAST-MODIFIED:20260306T103525Z
UID:10008517-1793836800-1793923199@peranfood.com
SUMMARY:7s
DESCRIPTION:Сніданок:\nОмлет з лососем та броколі. \nОбід:\nВітелло тоннато з амарантом та печеним перцем. \nВечеря:\nПюре з сочевиці з мітболами.\nСалат овочевий.
URL:https://peranfood.com/event/7s/2026-11-05/
CATEGORIES:Sport
END:VEVENT
BEGIN:VEVENT
DTSTART;VALUE=DATE:20261113
DTEND;VALUE=DATE:20261114
DTSTAMP:20260422T151048
CREATED:20260306T102519Z
LAST-MODIFIED:20260306T103525Z
UID:10008518-1794528000-1794614399@peranfood.com
SUMMARY:7s
DESCRIPTION:Сніданок:\nОмлет з лососем та броколі. \nОбід:\nВітелло тоннато з амарантом та печеним перцем. \nВечеря:\nПюре з сочевиці з мітболами.\nСалат овочевий.
URL:https://peranfood.com/event/7s/2026-11-13/
CATEGORIES:Sport
END:VEVENT
BEGIN:VEVENT
DTSTART;VALUE=DATE:20261121
DTEND;VALUE=DATE:20261122
DTSTAMP:20260422T151048
CREATED:20260306T102519Z
LAST-MODIFIED:20260306T103525Z
UID:10008519-1795219200-1795305599@peranfood.com
SUMMARY:7s
DESCRIPTION:Сніданок:\nОмлет з лососем та броколі. \nОбід:\nВітелло тоннато з амарантом та печеним перцем. \nВечеря:\nПюре з сочевиці з мітболами.\nСалат овочевий.
URL:https://peranfood.com/event/7s/2026-11-21/
CATEGORIES:Sport
END:VEVENT
BEGIN:VEVENT
DTSTART;VALUE=DATE:20261129
DTEND;VALUE=DATE:20261130
DTSTAMP:20260422T151048
CREATED:20260306T102519Z
LAST-MODIFIED:20260306T103525Z
UID:10008520-1795910400-1795996799@peranfood.com
SUMMARY:7s
DESCRIPTION:Сніданок:\nОмлет з лососем та броколі. \nОбід:\nВітелло тоннато з амарантом та печеним перцем. \nВечеря:\nПюре з сочевиці з мітболами.\nСалат овочевий.
URL:https://peranfood.com/event/7s/2026-11-29/
CATEGORIES:Sport
END:VEVENT
BEGIN:VEVENT
DTSTART;VALUE=DATE:20261207
DTEND;VALUE=DATE:20261208
DTSTAMP:20260422T151048
CREATED:20260306T102519Z
LAST-MODIFIED:20260306T103525Z
UID:10008521-1796601600-1796687999@peranfood.com
SUMMARY:7s
DESCRIPTION:Сніданок:\nОмлет з лососем та броколі. \nОбід:\nВітелло тоннато з амарантом та печеним перцем. \nВечеря:\nПюре з сочевиці з мітболами.\nСалат овочевий.
URL:https://peranfood.com/event/7s/2026-12-07/
CATEGORIES:Sport
END:VEVENT
BEGIN:VEVENT
DTSTART;VALUE=DATE:20261215
DTEND;VALUE=DATE:20261216
DTSTAMP:20260422T151048
CREATED:20260306T102519Z
LAST-MODIFIED:20260306T103525Z
UID:10008522-1797292800-1797379199@peranfood.com
SUMMARY:7s
DESCRIPTION:Сніданок:\nОмлет з лососем та броколі. \nОбід:\nВітелло тоннато з амарантом та печеним перцем. \nВечеря:\nПюре з сочевиці з мітболами.\nСалат овочевий.
URL:https://peranfood.com/event/7s/2026-12-15/
CATEGORIES:Sport
END:VEVENT
END:VCALENDAR