BEGIN:VCALENDAR
VERSION:2.0
PRODID:-//Peranfood - доставка здорового харчування - ECPv6.15.18//NONSGML v1.0//EN
CALSCALE:GREGORIAN
METHOD:PUBLISH
X-WR-CALNAME:Peranfood - доставка здорового харчування
X-ORIGINAL-URL:https://peranfood.com
X-WR-CALDESC:Події за Peranfood - доставка здорового харчування
REFRESH-INTERVAL;VALUE=DURATION:PT1H
X-Robots-Tag:noindex
X-PUBLISHED-TTL:PT1H
BEGIN:VTIMEZONE
TZID:Europe/Kiev
BEGIN:DAYLIGHT
TZOFFSETFROM:+0200
TZOFFSETTO:+0300
TZNAME:EEST
DTSTART:20250330T010000
END:DAYLIGHT
BEGIN:STANDARD
TZOFFSETFROM:+0300
TZOFFSETTO:+0200
TZNAME:EET
DTSTART:20251026T010000
END:STANDARD
BEGIN:DAYLIGHT
TZOFFSETFROM:+0200
TZOFFSETTO:+0300
TZNAME:EEST
DTSTART:20260329T010000
END:DAYLIGHT
BEGIN:STANDARD
TZOFFSETFROM:+0300
TZOFFSETTO:+0200
TZNAME:EET
DTSTART:20261025T010000
END:STANDARD
BEGIN:DAYLIGHT
TZOFFSETFROM:+0200
TZOFFSETTO:+0300
TZNAME:EEST
DTSTART:20270328T010000
END:DAYLIGHT
BEGIN:STANDARD
TZOFFSETFROM:+0300
TZOFFSETTO:+0200
TZNAME:EET
DTSTART:20271031T010000
END:STANDARD
BEGIN:DAYLIGHT
TZOFFSETFROM:+0200
TZOFFSETTO:+0300
TZNAME:EEST
DTSTART:20280326T010000
END:DAYLIGHT
BEGIN:STANDARD
TZOFFSETFROM:+0300
TZOFFSETTO:+0200
TZNAME:EET
DTSTART:20281029T010000
END:STANDARD
BEGIN:DAYLIGHT
TZOFFSETFROM:+0200
TZOFFSETTO:+0300
TZNAME:EEST
DTSTART:20290325T010000
END:DAYLIGHT
BEGIN:STANDARD
TZOFFSETFROM:+0300
TZOFFSETTO:+0200
TZNAME:EET
DTSTART:20291028T010000
END:STANDARD
END:VTIMEZONE
BEGIN:VEVENT
DTSTART;VALUE=DATE:20260423
DTEND;VALUE=DATE:20260424
DTSTAMP:20260422T141600
CREATED:20260306T102504Z
LAST-MODIFIED:20260306T103512Z
UID:10008407-1776902400-1776988799@peranfood.com
SUMMARY:10
DESCRIPTION:Сніданок:Рієт з індички з маринованою морквою та гірчичним соусом. \nПерекус 1:Гарбузовий мафін. \nОбід:Куряче м’ясо в мацоні з соусом тікка масала та рисом. \nПерекус 2:Курячий бульйон з куркою і відвареним яйцем. \nВечеря:Боул вечірній.
URL:https://peranfood.com/event/10/2026-04-23/
CATEGORIES:950 ккал
END:VEVENT
BEGIN:VEVENT
DTSTART;VALUE=DATE:20260515
DTEND;VALUE=DATE:20260516
DTSTAMP:20260422T141600
CREATED:20260306T102504Z
LAST-MODIFIED:20260306T103512Z
UID:10008408-1778803200-1778889599@peranfood.com
SUMMARY:10
DESCRIPTION:Сніданок:Рієт з індички з маринованою морквою та гірчичним соусом. \nПерекус 1:Гарбузовий мафін. \nОбід:Куряче м’ясо в мацоні з соусом тікка масала та рисом. \nПерекус 2:Курячий бульйон з куркою і відвареним яйцем. \nВечеря:Боул вечірній.
URL:https://peranfood.com/event/10/2026-05-15/
CATEGORIES:950 ккал
END:VEVENT
BEGIN:VEVENT
DTSTART;VALUE=DATE:20260606
DTEND;VALUE=DATE:20260607
DTSTAMP:20260422T141600
CREATED:20260306T102504Z
LAST-MODIFIED:20260306T103512Z
UID:10008409-1780704000-1780790399@peranfood.com
SUMMARY:10
DESCRIPTION:Сніданок:Рієт з індички з маринованою морквою та гірчичним соусом. \nПерекус 1:Гарбузовий мафін. \nОбід:Куряче м’ясо в мацоні з соусом тікка масала та рисом. \nПерекус 2:Курячий бульйон з куркою і відвареним яйцем. \nВечеря:Боул вечірній.
URL:https://peranfood.com/event/10/2026-06-06/
CATEGORIES:950 ккал
END:VEVENT
BEGIN:VEVENT
DTSTART;VALUE=DATE:20260628
DTEND;VALUE=DATE:20260629
DTSTAMP:20260422T141600
CREATED:20260306T102504Z
LAST-MODIFIED:20260306T103512Z
UID:10008410-1782604800-1782691199@peranfood.com
SUMMARY:10
DESCRIPTION:Сніданок:Рієт з індички з маринованою морквою та гірчичним соусом. \nПерекус 1:Гарбузовий мафін. \nОбід:Куряче м’ясо в мацоні з соусом тікка масала та рисом. \nПерекус 2:Курячий бульйон з куркою і відвареним яйцем. \nВечеря:Боул вечірній.
URL:https://peranfood.com/event/10/2026-06-28/
CATEGORIES:950 ккал
END:VEVENT
BEGIN:VEVENT
DTSTART;VALUE=DATE:20260720
DTEND;VALUE=DATE:20260721
DTSTAMP:20260422T141600
CREATED:20260306T102504Z
LAST-MODIFIED:20260306T103512Z
UID:10008411-1784505600-1784591999@peranfood.com
SUMMARY:10
DESCRIPTION:Сніданок:Рієт з індички з маринованою морквою та гірчичним соусом. \nПерекус 1:Гарбузовий мафін. \nОбід:Куряче м’ясо в мацоні з соусом тікка масала та рисом. \nПерекус 2:Курячий бульйон з куркою і відвареним яйцем. \nВечеря:Боул вечірній.
URL:https://peranfood.com/event/10/2026-07-20/
CATEGORIES:950 ккал
END:VEVENT
BEGIN:VEVENT
DTSTART;VALUE=DATE:20260811
DTEND;VALUE=DATE:20260812
DTSTAMP:20260422T141600
CREATED:20260306T102504Z
LAST-MODIFIED:20260306T103512Z
UID:10008412-1786406400-1786492799@peranfood.com
SUMMARY:10
DESCRIPTION:Сніданок:Рієт з індички з маринованою морквою та гірчичним соусом. \nПерекус 1:Гарбузовий мафін. \nОбід:Куряче м’ясо в мацоні з соусом тікка масала та рисом. \nПерекус 2:Курячий бульйон з куркою і відвареним яйцем. \nВечеря:Боул вечірній.
URL:https://peranfood.com/event/10/2026-08-11/
CATEGORIES:950 ккал
END:VEVENT
BEGIN:VEVENT
DTSTART;VALUE=DATE:20260902
DTEND;VALUE=DATE:20260903
DTSTAMP:20260422T141600
CREATED:20260306T102504Z
LAST-MODIFIED:20260306T103512Z
UID:10008413-1788307200-1788393599@peranfood.com
SUMMARY:10
DESCRIPTION:Сніданок:Рієт з індички з маринованою морквою та гірчичним соусом. \nПерекус 1:Гарбузовий мафін. \nОбід:Куряче м’ясо в мацоні з соусом тікка масала та рисом. \nПерекус 2:Курячий бульйон з куркою і відвареним яйцем. \nВечеря:Боул вечірній.
URL:https://peranfood.com/event/10/2026-09-02/
CATEGORIES:950 ккал
END:VEVENT
BEGIN:VEVENT
DTSTART;VALUE=DATE:20260924
DTEND;VALUE=DATE:20260925
DTSTAMP:20260422T141600
CREATED:20260306T102504Z
LAST-MODIFIED:20260306T103512Z
UID:10008414-1790208000-1790294399@peranfood.com
SUMMARY:10
DESCRIPTION:Сніданок:Рієт з індички з маринованою морквою та гірчичним соусом. \nПерекус 1:Гарбузовий мафін. \nОбід:Куряче м’ясо в мацоні з соусом тікка масала та рисом. \nПерекус 2:Курячий бульйон з куркою і відвареним яйцем. \nВечеря:Боул вечірній.
URL:https://peranfood.com/event/10/2026-09-24/
CATEGORIES:950 ккал
END:VEVENT
BEGIN:VEVENT
DTSTART;VALUE=DATE:20261016
DTEND;VALUE=DATE:20261017
DTSTAMP:20260422T141600
CREATED:20260306T102504Z
LAST-MODIFIED:20260306T103512Z
UID:10008415-1792108800-1792195199@peranfood.com
SUMMARY:10
DESCRIPTION:Сніданок:Рієт з індички з маринованою морквою та гірчичним соусом. \nПерекус 1:Гарбузовий мафін. \nОбід:Куряче м’ясо в мацоні з соусом тікка масала та рисом. \nПерекус 2:Курячий бульйон з куркою і відвареним яйцем. \nВечеря:Боул вечірній.
URL:https://peranfood.com/event/10/2026-10-16/
CATEGORIES:950 ккал
END:VEVENT
BEGIN:VEVENT
DTSTART;VALUE=DATE:20261107
DTEND;VALUE=DATE:20261108
DTSTAMP:20260422T141600
CREATED:20260306T102504Z
LAST-MODIFIED:20260306T103512Z
UID:10008416-1794009600-1794095999@peranfood.com
SUMMARY:10
DESCRIPTION:Сніданок:Рієт з індички з маринованою морквою та гірчичним соусом. \nПерекус 1:Гарбузовий мафін. \nОбід:Куряче м’ясо в мацоні з соусом тікка масала та рисом. \nПерекус 2:Курячий бульйон з куркою і відвареним яйцем. \nВечеря:Боул вечірній.
URL:https://peranfood.com/event/10/2026-11-07/
CATEGORIES:950 ккал
END:VEVENT
BEGIN:VEVENT
DTSTART;VALUE=DATE:20261129
DTEND;VALUE=DATE:20261130
DTSTAMP:20260422T141600
CREATED:20260306T102504Z
LAST-MODIFIED:20260306T103512Z
UID:10008417-1795910400-1795996799@peranfood.com
SUMMARY:10
DESCRIPTION:Сніданок:Рієт з індички з маринованою морквою та гірчичним соусом. \nПерекус 1:Гарбузовий мафін. \nОбід:Куряче м’ясо в мацоні з соусом тікка масала та рисом. \nПерекус 2:Курячий бульйон з куркою і відвареним яйцем. \nВечеря:Боул вечірній.
URL:https://peranfood.com/event/10/2026-11-29/
CATEGORIES:950 ккал
END:VEVENT
BEGIN:VEVENT
DTSTART;VALUE=DATE:20261221
DTEND;VALUE=DATE:20261222
DTSTAMP:20260422T141600
CREATED:20260306T102504Z
LAST-MODIFIED:20260306T103512Z
UID:10008418-1797811200-1797897599@peranfood.com
SUMMARY:10
DESCRIPTION:Сніданок:Рієт з індички з маринованою морквою та гірчичним соусом. \nПерекус 1:Гарбузовий мафін. \nОбід:Куряче м’ясо в мацоні з соусом тікка масала та рисом. \nПерекус 2:Курячий бульйон з куркою і відвареним яйцем. \nВечеря:Боул вечірній.
URL:https://peranfood.com/event/10/2026-12-21/
CATEGORIES:950 ккал
END:VEVENT
BEGIN:VEVENT
DTSTART;VALUE=DATE:20270112
DTEND;VALUE=DATE:20270113
DTSTAMP:20260422T141600
CREATED:20260306T102504Z
LAST-MODIFIED:20260306T103512Z
UID:10008419-1799712000-1799798399@peranfood.com
SUMMARY:10
DESCRIPTION:Сніданок:Рієт з індички з маринованою морквою та гірчичним соусом. \nПерекус 1:Гарбузовий мафін. \nОбід:Куряче м’ясо в мацоні з соусом тікка масала та рисом. \nПерекус 2:Курячий бульйон з куркою і відвареним яйцем. \nВечеря:Боул вечірній.
URL:https://peranfood.com/event/10/2027-01-12/
CATEGORIES:950 ккал
END:VEVENT
BEGIN:VEVENT
DTSTART;VALUE=DATE:20270203
DTEND;VALUE=DATE:20270204
DTSTAMP:20260422T141600
CREATED:20260306T102504Z
LAST-MODIFIED:20260306T103512Z
UID:10008420-1801612800-1801699199@peranfood.com
SUMMARY:10
DESCRIPTION:Сніданок:Рієт з індички з маринованою морквою та гірчичним соусом. \nПерекус 1:Гарбузовий мафін. \nОбід:Куряче м’ясо в мацоні з соусом тікка масала та рисом. \nПерекус 2:Курячий бульйон з куркою і відвареним яйцем. \nВечеря:Боул вечірній.
URL:https://peranfood.com/event/10/2027-02-03/
CATEGORIES:950 ккал
END:VEVENT
BEGIN:VEVENT
DTSTART;VALUE=DATE:20270225
DTEND;VALUE=DATE:20270226
DTSTAMP:20260422T141600
CREATED:20260306T102504Z
LAST-MODIFIED:20260306T103512Z
UID:10008421-1803513600-1803599999@peranfood.com
SUMMARY:10
DESCRIPTION:Сніданок:Рієт з індички з маринованою морквою та гірчичним соусом. \nПерекус 1:Гарбузовий мафін. \nОбід:Куряче м’ясо в мацоні з соусом тікка масала та рисом. \nПерекус 2:Курячий бульйон з куркою і відвареним яйцем. \nВечеря:Боул вечірній.
URL:https://peranfood.com/event/10/2027-02-25/
CATEGORIES:950 ккал
END:VEVENT
BEGIN:VEVENT
DTSTART;VALUE=DATE:20270319
DTEND;VALUE=DATE:20270320
DTSTAMP:20260422T141600
CREATED:20260306T102504Z
LAST-MODIFIED:20260306T103512Z
UID:10008422-1805414400-1805500799@peranfood.com
SUMMARY:10
DESCRIPTION:Сніданок:Рієт з індички з маринованою морквою та гірчичним соусом. \nПерекус 1:Гарбузовий мафін. \nОбід:Куряче м’ясо в мацоні з соусом тікка масала та рисом. \nПерекус 2:Курячий бульйон з куркою і відвареним яйцем. \nВечеря:Боул вечірній.
URL:https://peranfood.com/event/10/2027-03-19/
CATEGORIES:950 ккал
END:VEVENT
BEGIN:VEVENT
DTSTART;VALUE=DATE:20270410
DTEND;VALUE=DATE:20270411
DTSTAMP:20260422T141600
CREATED:20260306T102504Z
LAST-MODIFIED:20260306T103512Z
UID:10008423-1807315200-1807401599@peranfood.com
SUMMARY:10
DESCRIPTION:Сніданок:Рієт з індички з маринованою морквою та гірчичним соусом. \nПерекус 1:Гарбузовий мафін. \nОбід:Куряче м’ясо в мацоні з соусом тікка масала та рисом. \nПерекус 2:Курячий бульйон з куркою і відвареним яйцем. \nВечеря:Боул вечірній.
URL:https://peranfood.com/event/10/2027-04-10/
CATEGORIES:950 ккал
END:VEVENT
BEGIN:VEVENT
DTSTART;VALUE=DATE:20270502
DTEND;VALUE=DATE:20270503
DTSTAMP:20260422T141600
CREATED:20260306T102504Z
LAST-MODIFIED:20260306T103512Z
UID:10008424-1809216000-1809302399@peranfood.com
SUMMARY:10
DESCRIPTION:Сніданок:Рієт з індички з маринованою морквою та гірчичним соусом. \nПерекус 1:Гарбузовий мафін. \nОбід:Куряче м’ясо в мацоні з соусом тікка масала та рисом. \nПерекус 2:Курячий бульйон з куркою і відвареним яйцем. \nВечеря:Боул вечірній.
URL:https://peranfood.com/event/10/2027-05-02/
CATEGORIES:950 ккал
END:VEVENT
BEGIN:VEVENT
DTSTART;VALUE=DATE:20270524
DTEND;VALUE=DATE:20270525
DTSTAMP:20260422T141600
CREATED:20260306T102504Z
LAST-MODIFIED:20260306T103512Z
UID:10008425-1811116800-1811203199@peranfood.com
SUMMARY:10
DESCRIPTION:Сніданок:Рієт з індички з маринованою морквою та гірчичним соусом. \nПерекус 1:Гарбузовий мафін. \nОбід:Куряче м’ясо в мацоні з соусом тікка масала та рисом. \nПерекус 2:Курячий бульйон з куркою і відвареним яйцем. \nВечеря:Боул вечірній.
URL:https://peranfood.com/event/10/2027-05-24/
CATEGORIES:950 ккал
END:VEVENT
BEGIN:VEVENT
DTSTART;VALUE=DATE:20270615
DTEND;VALUE=DATE:20270616
DTSTAMP:20260422T141600
CREATED:20260306T102504Z
LAST-MODIFIED:20260306T103512Z
UID:10008426-1813017600-1813103999@peranfood.com
SUMMARY:10
DESCRIPTION:Сніданок:Рієт з індички з маринованою морквою та гірчичним соусом. \nПерекус 1:Гарбузовий мафін. \nОбід:Куряче м’ясо в мацоні з соусом тікка масала та рисом. \nПерекус 2:Курячий бульйон з куркою і відвареним яйцем. \nВечеря:Боул вечірній.
URL:https://peranfood.com/event/10/2027-06-15/
CATEGORIES:950 ккал
END:VEVENT
BEGIN:VEVENT
DTSTART;VALUE=DATE:20270707
DTEND;VALUE=DATE:20270708
DTSTAMP:20260422T141600
CREATED:20260306T102504Z
LAST-MODIFIED:20260306T103512Z
UID:10008427-1814918400-1815004799@peranfood.com
SUMMARY:10
DESCRIPTION:Сніданок:Рієт з індички з маринованою морквою та гірчичним соусом. \nПерекус 1:Гарбузовий мафін. \nОбід:Куряче м’ясо в мацоні з соусом тікка масала та рисом. \nПерекус 2:Курячий бульйон з куркою і відвареним яйцем. \nВечеря:Боул вечірній.
URL:https://peranfood.com/event/10/2027-07-07/
CATEGORIES:950 ккал
END:VEVENT
BEGIN:VEVENT
DTSTART;VALUE=DATE:20270729
DTEND;VALUE=DATE:20270730
DTSTAMP:20260422T141600
CREATED:20260306T102504Z
LAST-MODIFIED:20260306T103512Z
UID:10008428-1816819200-1816905599@peranfood.com
SUMMARY:10
DESCRIPTION:Сніданок:Рієт з індички з маринованою морквою та гірчичним соусом. \nПерекус 1:Гарбузовий мафін. \nОбід:Куряче м’ясо в мацоні з соусом тікка масала та рисом. \nПерекус 2:Курячий бульйон з куркою і відвареним яйцем. \nВечеря:Боул вечірній.
URL:https://peranfood.com/event/10/2027-07-29/
CATEGORIES:950 ккал
END:VEVENT
BEGIN:VEVENT
DTSTART;VALUE=DATE:20270820
DTEND;VALUE=DATE:20270821
DTSTAMP:20260422T141600
CREATED:20260306T102504Z
LAST-MODIFIED:20260306T103512Z
UID:10008429-1818720000-1818806399@peranfood.com
SUMMARY:10
DESCRIPTION:Сніданок:Рієт з індички з маринованою морквою та гірчичним соусом. \nПерекус 1:Гарбузовий мафін. \nОбід:Куряче м’ясо в мацоні з соусом тікка масала та рисом. \nПерекус 2:Курячий бульйон з куркою і відвареним яйцем. \nВечеря:Боул вечірній.
URL:https://peranfood.com/event/10/2027-08-20/
CATEGORIES:950 ккал
END:VEVENT
BEGIN:VEVENT
DTSTART;VALUE=DATE:20270911
DTEND;VALUE=DATE:20270912
DTSTAMP:20260422T141600
CREATED:20260306T102504Z
LAST-MODIFIED:20260306T103512Z
UID:10008430-1820620800-1820707199@peranfood.com
SUMMARY:10
DESCRIPTION:Сніданок:Рієт з індички з маринованою морквою та гірчичним соусом. \nПерекус 1:Гарбузовий мафін. \nОбід:Куряче м’ясо в мацоні з соусом тікка масала та рисом. \nПерекус 2:Курячий бульйон з куркою і відвареним яйцем. \nВечеря:Боул вечірній.
URL:https://peranfood.com/event/10/2027-09-11/
CATEGORIES:950 ккал
END:VEVENT
BEGIN:VEVENT
DTSTART;VALUE=DATE:20271003
DTEND;VALUE=DATE:20271004
DTSTAMP:20260422T141600
CREATED:20260306T102504Z
LAST-MODIFIED:20260306T103512Z
UID:10008431-1822521600-1822607999@peranfood.com
SUMMARY:10
DESCRIPTION:Сніданок:Рієт з індички з маринованою морквою та гірчичним соусом. \nПерекус 1:Гарбузовий мафін. \nОбід:Куряче м’ясо в мацоні з соусом тікка масала та рисом. \nПерекус 2:Курячий бульйон з куркою і відвареним яйцем. \nВечеря:Боул вечірній.
URL:https://peranfood.com/event/10/2027-10-03/
CATEGORIES:950 ккал
END:VEVENT
BEGIN:VEVENT
DTSTART;VALUE=DATE:20271025
DTEND;VALUE=DATE:20271026
DTSTAMP:20260422T141600
CREATED:20260306T102504Z
LAST-MODIFIED:20260306T103512Z
UID:10008432-1824422400-1824508799@peranfood.com
SUMMARY:10
DESCRIPTION:Сніданок:Рієт з індички з маринованою морквою та гірчичним соусом. \nПерекус 1:Гарбузовий мафін. \nОбід:Куряче м’ясо в мацоні з соусом тікка масала та рисом. \nПерекус 2:Курячий бульйон з куркою і відвареним яйцем. \nВечеря:Боул вечірній.
URL:https://peranfood.com/event/10/2027-10-25/
CATEGORIES:950 ккал
END:VEVENT
BEGIN:VEVENT
DTSTART;VALUE=DATE:20271116
DTEND;VALUE=DATE:20271117
DTSTAMP:20260422T141600
CREATED:20260306T102504Z
LAST-MODIFIED:20260306T103512Z
UID:10008433-1826323200-1826409599@peranfood.com
SUMMARY:10
DESCRIPTION:Сніданок:Рієт з індички з маринованою морквою та гірчичним соусом. \nПерекус 1:Гарбузовий мафін. \nОбід:Куряче м’ясо в мацоні з соусом тікка масала та рисом. \nПерекус 2:Курячий бульйон з куркою і відвареним яйцем. \nВечеря:Боул вечірній.
URL:https://peranfood.com/event/10/2027-11-16/
CATEGORIES:950 ккал
END:VEVENT
BEGIN:VEVENT
DTSTART;VALUE=DATE:20271208
DTEND;VALUE=DATE:20271209
DTSTAMP:20260422T141600
CREATED:20260306T102504Z
LAST-MODIFIED:20260306T103512Z
UID:10008434-1828224000-1828310399@peranfood.com
SUMMARY:10
DESCRIPTION:Сніданок:Рієт з індички з маринованою морквою та гірчичним соусом. \nПерекус 1:Гарбузовий мафін. \nОбід:Куряче м’ясо в мацоні з соусом тікка масала та рисом. \nПерекус 2:Курячий бульйон з куркою і відвареним яйцем. \nВечеря:Боул вечірній.
URL:https://peranfood.com/event/10/2027-12-08/
CATEGORIES:950 ккал
END:VEVENT
BEGIN:VEVENT
DTSTART;VALUE=DATE:20271230
DTEND;VALUE=DATE:20271231
DTSTAMP:20260422T141600
CREATED:20260306T102504Z
LAST-MODIFIED:20260306T103512Z
UID:10008435-1830124800-1830211199@peranfood.com
SUMMARY:10
DESCRIPTION:Сніданок:Рієт з індички з маринованою морквою та гірчичним соусом. \nПерекус 1:Гарбузовий мафін. \nОбід:Куряче м’ясо в мацоні з соусом тікка масала та рисом. \nПерекус 2:Курячий бульйон з куркою і відвареним яйцем. \nВечеря:Боул вечірній.
URL:https://peranfood.com/event/10/2027-12-30/
CATEGORIES:950 ккал
END:VEVENT
BEGIN:VEVENT
DTSTART;VALUE=DATE:20280121
DTEND;VALUE=DATE:20280122
DTSTAMP:20260422T141600
CREATED:20260306T102504Z
LAST-MODIFIED:20260306T103512Z
UID:10008436-1832025600-1832111999@peranfood.com
SUMMARY:10
DESCRIPTION:Сніданок:Рієт з індички з маринованою морквою та гірчичним соусом. \nПерекус 1:Гарбузовий мафін. \nОбід:Куряче м’ясо в мацоні з соусом тікка масала та рисом. \nПерекус 2:Курячий бульйон з куркою і відвареним яйцем. \nВечеря:Боул вечірній.
URL:https://peranfood.com/event/10/2028-01-21/
CATEGORIES:950 ккал
END:VEVENT
END:VCALENDAR