BEGIN:VCALENDAR
VERSION:2.0
PRODID:-//Peranfood - доставка здорового харчування - ECPv6.15.18//NONSGML v1.0//EN
CALSCALE:GREGORIAN
METHOD:PUBLISH
X-WR-CALNAME:Peranfood - доставка здорового харчування
X-ORIGINAL-URL:https://peranfood.com
X-WR-CALDESC:Події за Peranfood - доставка здорового харчування
REFRESH-INTERVAL;VALUE=DURATION:PT1H
X-Robots-Tag:noindex
X-PUBLISHED-TTL:PT1H
BEGIN:VTIMEZONE
TZID:Europe/Kiev
BEGIN:DAYLIGHT
TZOFFSETFROM:+0200
TZOFFSETTO:+0300
TZNAME:EEST
DTSTART:20250330T010000
END:DAYLIGHT
BEGIN:STANDARD
TZOFFSETFROM:+0300
TZOFFSETTO:+0200
TZNAME:EET
DTSTART:20251026T010000
END:STANDARD
BEGIN:DAYLIGHT
TZOFFSETFROM:+0200
TZOFFSETTO:+0300
TZNAME:EEST
DTSTART:20260329T010000
END:DAYLIGHT
BEGIN:STANDARD
TZOFFSETFROM:+0300
TZOFFSETTO:+0200
TZNAME:EET
DTSTART:20261025T010000
END:STANDARD
BEGIN:DAYLIGHT
TZOFFSETFROM:+0200
TZOFFSETTO:+0300
TZNAME:EEST
DTSTART:20270328T010000
END:DAYLIGHT
BEGIN:STANDARD
TZOFFSETFROM:+0300
TZOFFSETTO:+0200
TZNAME:EET
DTSTART:20271031T010000
END:STANDARD
END:VTIMEZONE
BEGIN:VEVENT
DTSTART;VALUE=DATE:20260426
DTEND;VALUE=DATE:20260427
DTSTAMP:20260422T151155
CREATED:20260306T102519Z
LAST-MODIFIED:20260306T103457Z
UID:10008184-1777161600-1777247999@peranfood.com
SUMMARY:6s
DESCRIPTION:Сніданок:\nБургер з куркою та салатом. \nОбід:\nІндичка з зеленими овочами та бататом. \nВечеря:\nФіле сома з кіноа та свіжим салатом.
URL:https://peranfood.com/event/6s/2026-04-26/
CATEGORIES:Sport
END:VEVENT
BEGIN:VEVENT
DTSTART;VALUE=DATE:20260504
DTEND;VALUE=DATE:20260505
DTSTAMP:20260422T151155
CREATED:20260306T102519Z
LAST-MODIFIED:20260306T103457Z
UID:10008185-1777852800-1777939199@peranfood.com
SUMMARY:6s
DESCRIPTION:Сніданок:\nБургер з куркою та салатом. \nОбід:\nІндичка з зеленими овочами та бататом. \nВечеря:\nФіле сома з кіноа та свіжим салатом.
URL:https://peranfood.com/event/6s/2026-05-04/
CATEGORIES:Sport
END:VEVENT
BEGIN:VEVENT
DTSTART;VALUE=DATE:20260512
DTEND;VALUE=DATE:20260513
DTSTAMP:20260422T151155
CREATED:20260306T102519Z
LAST-MODIFIED:20260306T103457Z
UID:10008186-1778544000-1778630399@peranfood.com
SUMMARY:6s
DESCRIPTION:Сніданок:\nБургер з куркою та салатом. \nОбід:\nІндичка з зеленими овочами та бататом. \nВечеря:\nФіле сома з кіноа та свіжим салатом.
URL:https://peranfood.com/event/6s/2026-05-12/
CATEGORIES:Sport
END:VEVENT
BEGIN:VEVENT
DTSTART;VALUE=DATE:20260520
DTEND;VALUE=DATE:20260521
DTSTAMP:20260422T151155
CREATED:20260306T102519Z
LAST-MODIFIED:20260306T103457Z
UID:10008187-1779235200-1779321599@peranfood.com
SUMMARY:6s
DESCRIPTION:Сніданок:\nБургер з куркою та салатом. \nОбід:\nІндичка з зеленими овочами та бататом. \nВечеря:\nФіле сома з кіноа та свіжим салатом.
URL:https://peranfood.com/event/6s/2026-05-20/
CATEGORIES:Sport
END:VEVENT
BEGIN:VEVENT
DTSTART;VALUE=DATE:20260528
DTEND;VALUE=DATE:20260529
DTSTAMP:20260422T151155
CREATED:20260306T102519Z
LAST-MODIFIED:20260306T103457Z
UID:10008188-1779926400-1780012799@peranfood.com
SUMMARY:6s
DESCRIPTION:Сніданок:\nБургер з куркою та салатом. \nОбід:\nІндичка з зеленими овочами та бататом. \nВечеря:\nФіле сома з кіноа та свіжим салатом.
URL:https://peranfood.com/event/6s/2026-05-28/
CATEGORIES:Sport
END:VEVENT
BEGIN:VEVENT
DTSTART;VALUE=DATE:20260605
DTEND;VALUE=DATE:20260606
DTSTAMP:20260422T151155
CREATED:20260306T102519Z
LAST-MODIFIED:20260306T103457Z
UID:10008189-1780617600-1780703999@peranfood.com
SUMMARY:6s
DESCRIPTION:Сніданок:\nБургер з куркою та салатом. \nОбід:\nІндичка з зеленими овочами та бататом. \nВечеря:\nФіле сома з кіноа та свіжим салатом.
URL:https://peranfood.com/event/6s/2026-06-05/
CATEGORIES:Sport
END:VEVENT
BEGIN:VEVENT
DTSTART;VALUE=DATE:20260613
DTEND;VALUE=DATE:20260614
DTSTAMP:20260422T151155
CREATED:20260306T102519Z
LAST-MODIFIED:20260306T103457Z
UID:10008190-1781308800-1781395199@peranfood.com
SUMMARY:6s
DESCRIPTION:Сніданок:\nБургер з куркою та салатом. \nОбід:\nІндичка з зеленими овочами та бататом. \nВечеря:\nФіле сома з кіноа та свіжим салатом.
URL:https://peranfood.com/event/6s/2026-06-13/
CATEGORIES:Sport
END:VEVENT
BEGIN:VEVENT
DTSTART;VALUE=DATE:20260621
DTEND;VALUE=DATE:20260622
DTSTAMP:20260422T151155
CREATED:20260306T102519Z
LAST-MODIFIED:20260306T103457Z
UID:10008191-1782000000-1782086399@peranfood.com
SUMMARY:6s
DESCRIPTION:Сніданок:\nБургер з куркою та салатом. \nОбід:\nІндичка з зеленими овочами та бататом. \nВечеря:\nФіле сома з кіноа та свіжим салатом.
URL:https://peranfood.com/event/6s/2026-06-21/
CATEGORIES:Sport
END:VEVENT
BEGIN:VEVENT
DTSTART;VALUE=DATE:20260629
DTEND;VALUE=DATE:20260630
DTSTAMP:20260422T151155
CREATED:20260306T102519Z
LAST-MODIFIED:20260306T103457Z
UID:10008192-1782691200-1782777599@peranfood.com
SUMMARY:6s
DESCRIPTION:Сніданок:\nБургер з куркою та салатом. \nОбід:\nІндичка з зеленими овочами та бататом. \nВечеря:\nФіле сома з кіноа та свіжим салатом.
URL:https://peranfood.com/event/6s/2026-06-29/
CATEGORIES:Sport
END:VEVENT
BEGIN:VEVENT
DTSTART;VALUE=DATE:20260707
DTEND;VALUE=DATE:20260708
DTSTAMP:20260422T151155
CREATED:20260306T102519Z
LAST-MODIFIED:20260306T103457Z
UID:10008193-1783382400-1783468799@peranfood.com
SUMMARY:6s
DESCRIPTION:Сніданок:\nБургер з куркою та салатом. \nОбід:\nІндичка з зеленими овочами та бататом. \nВечеря:\nФіле сома з кіноа та свіжим салатом.
URL:https://peranfood.com/event/6s/2026-07-07/
CATEGORIES:Sport
END:VEVENT
BEGIN:VEVENT
DTSTART;VALUE=DATE:20260715
DTEND;VALUE=DATE:20260716
DTSTAMP:20260422T151155
CREATED:20260306T102519Z
LAST-MODIFIED:20260306T103457Z
UID:10008194-1784073600-1784159999@peranfood.com
SUMMARY:6s
DESCRIPTION:Сніданок:\nБургер з куркою та салатом. \nОбід:\nІндичка з зеленими овочами та бататом. \nВечеря:\nФіле сома з кіноа та свіжим салатом.
URL:https://peranfood.com/event/6s/2026-07-15/
CATEGORIES:Sport
END:VEVENT
BEGIN:VEVENT
DTSTART;VALUE=DATE:20260723
DTEND;VALUE=DATE:20260724
DTSTAMP:20260422T151155
CREATED:20260306T102519Z
LAST-MODIFIED:20260306T103457Z
UID:10008195-1784764800-1784851199@peranfood.com
SUMMARY:6s
DESCRIPTION:Сніданок:\nБургер з куркою та салатом. \nОбід:\nІндичка з зеленими овочами та бататом. \nВечеря:\nФіле сома з кіноа та свіжим салатом.
URL:https://peranfood.com/event/6s/2026-07-23/
CATEGORIES:Sport
END:VEVENT
BEGIN:VEVENT
DTSTART;VALUE=DATE:20260731
DTEND;VALUE=DATE:20260801
DTSTAMP:20260422T151155
CREATED:20260306T102519Z
LAST-MODIFIED:20260306T103457Z
UID:10008196-1785456000-1785542399@peranfood.com
SUMMARY:6s
DESCRIPTION:Сніданок:\nБургер з куркою та салатом. \nОбід:\nІндичка з зеленими овочами та бататом. \nВечеря:\nФіле сома з кіноа та свіжим салатом.
URL:https://peranfood.com/event/6s/2026-07-31/
CATEGORIES:Sport
END:VEVENT
BEGIN:VEVENT
DTSTART;VALUE=DATE:20260808
DTEND;VALUE=DATE:20260809
DTSTAMP:20260422T151155
CREATED:20260306T102519Z
LAST-MODIFIED:20260306T103457Z
UID:10008197-1786147200-1786233599@peranfood.com
SUMMARY:6s
DESCRIPTION:Сніданок:\nБургер з куркою та салатом. \nОбід:\nІндичка з зеленими овочами та бататом. \nВечеря:\nФіле сома з кіноа та свіжим салатом.
URL:https://peranfood.com/event/6s/2026-08-08/
CATEGORIES:Sport
END:VEVENT
BEGIN:VEVENT
DTSTART;VALUE=DATE:20260816
DTEND;VALUE=DATE:20260817
DTSTAMP:20260422T151155
CREATED:20260306T102519Z
LAST-MODIFIED:20260306T103457Z
UID:10008198-1786838400-1786924799@peranfood.com
SUMMARY:6s
DESCRIPTION:Сніданок:\nБургер з куркою та салатом. \nОбід:\nІндичка з зеленими овочами та бататом. \nВечеря:\nФіле сома з кіноа та свіжим салатом.
URL:https://peranfood.com/event/6s/2026-08-16/
CATEGORIES:Sport
END:VEVENT
BEGIN:VEVENT
DTSTART;VALUE=DATE:20260824
DTEND;VALUE=DATE:20260825
DTSTAMP:20260422T151155
CREATED:20260306T102519Z
LAST-MODIFIED:20260306T103457Z
UID:10008199-1787529600-1787615999@peranfood.com
SUMMARY:6s
DESCRIPTION:Сніданок:\nБургер з куркою та салатом. \nОбід:\nІндичка з зеленими овочами та бататом. \nВечеря:\nФіле сома з кіноа та свіжим салатом.
URL:https://peranfood.com/event/6s/2026-08-24/
CATEGORIES:Sport
END:VEVENT
BEGIN:VEVENT
DTSTART;VALUE=DATE:20260901
DTEND;VALUE=DATE:20260902
DTSTAMP:20260422T151155
CREATED:20260306T102519Z
LAST-MODIFIED:20260306T103457Z
UID:10008200-1788220800-1788307199@peranfood.com
SUMMARY:6s
DESCRIPTION:Сніданок:\nБургер з куркою та салатом. \nОбід:\nІндичка з зеленими овочами та бататом. \nВечеря:\nФіле сома з кіноа та свіжим салатом.
URL:https://peranfood.com/event/6s/2026-09-01/
CATEGORIES:Sport
END:VEVENT
BEGIN:VEVENT
DTSTART;VALUE=DATE:20260909
DTEND;VALUE=DATE:20260910
DTSTAMP:20260422T151155
CREATED:20260306T102519Z
LAST-MODIFIED:20260306T103457Z
UID:10008201-1788912000-1788998399@peranfood.com
SUMMARY:6s
DESCRIPTION:Сніданок:\nБургер з куркою та салатом. \nОбід:\nІндичка з зеленими овочами та бататом. \nВечеря:\nФіле сома з кіноа та свіжим салатом.
URL:https://peranfood.com/event/6s/2026-09-09/
CATEGORIES:Sport
END:VEVENT
BEGIN:VEVENT
DTSTART;VALUE=DATE:20260917
DTEND;VALUE=DATE:20260918
DTSTAMP:20260422T151155
CREATED:20260306T102519Z
LAST-MODIFIED:20260306T103457Z
UID:10008202-1789603200-1789689599@peranfood.com
SUMMARY:6s
DESCRIPTION:Сніданок:\nБургер з куркою та салатом. \nОбід:\nІндичка з зеленими овочами та бататом. \nВечеря:\nФіле сома з кіноа та свіжим салатом.
URL:https://peranfood.com/event/6s/2026-09-17/
CATEGORIES:Sport
END:VEVENT
BEGIN:VEVENT
DTSTART;VALUE=DATE:20260925
DTEND;VALUE=DATE:20260926
DTSTAMP:20260422T151155
CREATED:20260306T102519Z
LAST-MODIFIED:20260306T103457Z
UID:10008203-1790294400-1790380799@peranfood.com
SUMMARY:6s
DESCRIPTION:Сніданок:\nБургер з куркою та салатом. \nОбід:\nІндичка з зеленими овочами та бататом. \nВечеря:\nФіле сома з кіноа та свіжим салатом.
URL:https://peranfood.com/event/6s/2026-09-25/
CATEGORIES:Sport
END:VEVENT
BEGIN:VEVENT
DTSTART;VALUE=DATE:20261003
DTEND;VALUE=DATE:20261004
DTSTAMP:20260422T151155
CREATED:20260306T102519Z
LAST-MODIFIED:20260306T103457Z
UID:10008204-1790985600-1791071999@peranfood.com
SUMMARY:6s
DESCRIPTION:Сніданок:\nБургер з куркою та салатом. \nОбід:\nІндичка з зеленими овочами та бататом. \nВечеря:\nФіле сома з кіноа та свіжим салатом.
URL:https://peranfood.com/event/6s/2026-10-03/
CATEGORIES:Sport
END:VEVENT
BEGIN:VEVENT
DTSTART;VALUE=DATE:20261011
DTEND;VALUE=DATE:20261012
DTSTAMP:20260422T151155
CREATED:20260306T102519Z
LAST-MODIFIED:20260306T103457Z
UID:10008205-1791676800-1791763199@peranfood.com
SUMMARY:6s
DESCRIPTION:Сніданок:\nБургер з куркою та салатом. \nОбід:\nІндичка з зеленими овочами та бататом. \nВечеря:\nФіле сома з кіноа та свіжим салатом.
URL:https://peranfood.com/event/6s/2026-10-11/
CATEGORIES:Sport
END:VEVENT
BEGIN:VEVENT
DTSTART;VALUE=DATE:20261019
DTEND;VALUE=DATE:20261020
DTSTAMP:20260422T151155
CREATED:20260306T102519Z
LAST-MODIFIED:20260306T103457Z
UID:10008206-1792368000-1792454399@peranfood.com
SUMMARY:6s
DESCRIPTION:Сніданок:\nБургер з куркою та салатом. \nОбід:\nІндичка з зеленими овочами та бататом. \nВечеря:\nФіле сома з кіноа та свіжим салатом.
URL:https://peranfood.com/event/6s/2026-10-19/
CATEGORIES:Sport
END:VEVENT
BEGIN:VEVENT
DTSTART;VALUE=DATE:20261027
DTEND;VALUE=DATE:20261028
DTSTAMP:20260422T151155
CREATED:20260306T102519Z
LAST-MODIFIED:20260306T103457Z
UID:10008207-1793059200-1793145599@peranfood.com
SUMMARY:6s
DESCRIPTION:Сніданок:\nБургер з куркою та салатом. \nОбід:\nІндичка з зеленими овочами та бататом. \nВечеря:\nФіле сома з кіноа та свіжим салатом.
URL:https://peranfood.com/event/6s/2026-10-27/
CATEGORIES:Sport
END:VEVENT
BEGIN:VEVENT
DTSTART;VALUE=DATE:20261104
DTEND;VALUE=DATE:20261105
DTSTAMP:20260422T151155
CREATED:20260306T102519Z
LAST-MODIFIED:20260306T103457Z
UID:10008208-1793750400-1793836799@peranfood.com
SUMMARY:6s
DESCRIPTION:Сніданок:\nБургер з куркою та салатом. \nОбід:\nІндичка з зеленими овочами та бататом. \nВечеря:\nФіле сома з кіноа та свіжим салатом.
URL:https://peranfood.com/event/6s/2026-11-04/
CATEGORIES:Sport
END:VEVENT
BEGIN:VEVENT
DTSTART;VALUE=DATE:20261112
DTEND;VALUE=DATE:20261113
DTSTAMP:20260422T151155
CREATED:20260306T102519Z
LAST-MODIFIED:20260306T103457Z
UID:10008209-1794441600-1794527999@peranfood.com
SUMMARY:6s
DESCRIPTION:Сніданок:\nБургер з куркою та салатом. \nОбід:\nІндичка з зеленими овочами та бататом. \nВечеря:\nФіле сома з кіноа та свіжим салатом.
URL:https://peranfood.com/event/6s/2026-11-12/
CATEGORIES:Sport
END:VEVENT
BEGIN:VEVENT
DTSTART;VALUE=DATE:20261120
DTEND;VALUE=DATE:20261121
DTSTAMP:20260422T151155
CREATED:20260306T102519Z
LAST-MODIFIED:20260306T103457Z
UID:10008210-1795132800-1795219199@peranfood.com
SUMMARY:6s
DESCRIPTION:Сніданок:\nБургер з куркою та салатом. \nОбід:\nІндичка з зеленими овочами та бататом. \nВечеря:\nФіле сома з кіноа та свіжим салатом.
URL:https://peranfood.com/event/6s/2026-11-20/
CATEGORIES:Sport
END:VEVENT
BEGIN:VEVENT
DTSTART;VALUE=DATE:20261128
DTEND;VALUE=DATE:20261129
DTSTAMP:20260422T151155
CREATED:20260306T102519Z
LAST-MODIFIED:20260306T103457Z
UID:10008211-1795824000-1795910399@peranfood.com
SUMMARY:6s
DESCRIPTION:Сніданок:\nБургер з куркою та салатом. \nОбід:\nІндичка з зеленими овочами та бататом. \nВечеря:\nФіле сома з кіноа та свіжим салатом.
URL:https://peranfood.com/event/6s/2026-11-28/
CATEGORIES:Sport
END:VEVENT
BEGIN:VEVENT
DTSTART;VALUE=DATE:20261206
DTEND;VALUE=DATE:20261207
DTSTAMP:20260422T151155
CREATED:20260306T102519Z
LAST-MODIFIED:20260306T103457Z
UID:10008212-1796515200-1796601599@peranfood.com
SUMMARY:6s
DESCRIPTION:Сніданок:\nБургер з куркою та салатом. \nОбід:\nІндичка з зеленими овочами та бататом. \nВечеря:\nФіле сома з кіноа та свіжим салатом.
URL:https://peranfood.com/event/6s/2026-12-06/
CATEGORIES:Sport
END:VEVENT
BEGIN:VEVENT
DTSTART;VALUE=DATE:20261214
DTEND;VALUE=DATE:20261215
DTSTAMP:20260422T151155
CREATED:20260306T102519Z
LAST-MODIFIED:20260306T103457Z
UID:10008213-1797206400-1797292799@peranfood.com
SUMMARY:6s
DESCRIPTION:Сніданок:\nБургер з куркою та салатом. \nОбід:\nІндичка з зеленими овочами та бататом. \nВечеря:\nФіле сома з кіноа та свіжим салатом.
URL:https://peranfood.com/event/6s/2026-12-14/
CATEGORIES:Sport
END:VEVENT
END:VCALENDAR