BEGIN:VCALENDAR
VERSION:2.0
PRODID:-//Peranfood - доставка здорового харчування - ECPv6.15.18//NONSGML v1.0//EN
CALSCALE:GREGORIAN
METHOD:PUBLISH
X-WR-CALNAME:Peranfood - доставка здорового харчування
X-ORIGINAL-URL:https://peranfood.com
X-WR-CALDESC:Події за Peranfood - доставка здорового харчування
REFRESH-INTERVAL;VALUE=DURATION:PT1H
X-Robots-Tag:noindex
X-PUBLISHED-TTL:PT1H
BEGIN:VTIMEZONE
TZID:Europe/Kiev
BEGIN:DAYLIGHT
TZOFFSETFROM:+0200
TZOFFSETTO:+0300
TZNAME:EEST
DTSTART:20250330T010000
END:DAYLIGHT
BEGIN:STANDARD
TZOFFSETFROM:+0300
TZOFFSETTO:+0200
TZNAME:EET
DTSTART:20251026T010000
END:STANDARD
BEGIN:DAYLIGHT
TZOFFSETFROM:+0200
TZOFFSETTO:+0300
TZNAME:EEST
DTSTART:20260329T010000
END:DAYLIGHT
BEGIN:STANDARD
TZOFFSETFROM:+0300
TZOFFSETTO:+0200
TZNAME:EET
DTSTART:20261025T010000
END:STANDARD
BEGIN:DAYLIGHT
TZOFFSETFROM:+0200
TZOFFSETTO:+0300
TZNAME:EEST
DTSTART:20270328T010000
END:DAYLIGHT
BEGIN:STANDARD
TZOFFSETFROM:+0300
TZOFFSETTO:+0200
TZNAME:EET
DTSTART:20271031T010000
END:STANDARD
BEGIN:DAYLIGHT
TZOFFSETFROM:+0200
TZOFFSETTO:+0300
TZNAME:EEST
DTSTART:20280326T010000
END:DAYLIGHT
BEGIN:STANDARD
TZOFFSETFROM:+0300
TZOFFSETTO:+0200
TZNAME:EET
DTSTART:20281029T010000
END:STANDARD
BEGIN:DAYLIGHT
TZOFFSETFROM:+0200
TZOFFSETTO:+0300
TZNAME:EEST
DTSTART:20290325T010000
END:DAYLIGHT
BEGIN:STANDARD
TZOFFSETFROM:+0300
TZOFFSETTO:+0200
TZNAME:EET
DTSTART:20291028T010000
END:STANDARD
END:VTIMEZONE
BEGIN:VEVENT
DTSTART;VALUE=DATE:20260422
DTEND;VALUE=DATE:20260423
DTSTAMP:20260422T150449
CREATED:20260306T102504Z
LAST-MODIFIED:20260306T103426Z
UID:10008098-1776816000-1776902399@peranfood.com
SUMMARY:9
DESCRIPTION:Сніданок:Валійський пиріг з індичкою\, грибами та томатами. \nПерекус 1:Наполеон з печеною сливою. \nОбід:Куряча печінка з глазурованим яблуком та кус-кусом. \nПерекус 2:Смузі вишня\, манго\, ананас. \nВечеря:Салат з лососем Гравлакс та цитрусовим дресінгом.
URL:https://peranfood.com/event/9/2026-04-22/
CATEGORIES:950 ккал
END:VEVENT
BEGIN:VEVENT
DTSTART;VALUE=DATE:20260514
DTEND;VALUE=DATE:20260515
DTSTAMP:20260422T150449
CREATED:20260306T102504Z
LAST-MODIFIED:20260306T103426Z
UID:10008099-1778716800-1778803199@peranfood.com
SUMMARY:9
DESCRIPTION:Сніданок:Валійський пиріг з індичкою\, грибами та томатами. \nПерекус 1:Наполеон з печеною сливою. \nОбід:Куряча печінка з глазурованим яблуком та кус-кусом. \nПерекус 2:Смузі вишня\, манго\, ананас. \nВечеря:Салат з лососем Гравлакс та цитрусовим дресінгом.
URL:https://peranfood.com/event/9/2026-05-14/
CATEGORIES:950 ккал
END:VEVENT
BEGIN:VEVENT
DTSTART;VALUE=DATE:20260605
DTEND;VALUE=DATE:20260606
DTSTAMP:20260422T150449
CREATED:20260306T102504Z
LAST-MODIFIED:20260306T103426Z
UID:10008100-1780617600-1780703999@peranfood.com
SUMMARY:9
DESCRIPTION:Сніданок:Валійський пиріг з індичкою\, грибами та томатами. \nПерекус 1:Наполеон з печеною сливою. \nОбід:Куряча печінка з глазурованим яблуком та кус-кусом. \nПерекус 2:Смузі вишня\, манго\, ананас. \nВечеря:Салат з лососем Гравлакс та цитрусовим дресінгом.
URL:https://peranfood.com/event/9/2026-06-05/
CATEGORIES:950 ккал
END:VEVENT
BEGIN:VEVENT
DTSTART;VALUE=DATE:20260627
DTEND;VALUE=DATE:20260628
DTSTAMP:20260422T150449
CREATED:20260306T102504Z
LAST-MODIFIED:20260306T103426Z
UID:10008101-1782518400-1782604799@peranfood.com
SUMMARY:9
DESCRIPTION:Сніданок:Валійський пиріг з індичкою\, грибами та томатами. \nПерекус 1:Наполеон з печеною сливою. \nОбід:Куряча печінка з глазурованим яблуком та кус-кусом. \nПерекус 2:Смузі вишня\, манго\, ананас. \nВечеря:Салат з лососем Гравлакс та цитрусовим дресінгом.
URL:https://peranfood.com/event/9/2026-06-27/
CATEGORIES:950 ккал
END:VEVENT
BEGIN:VEVENT
DTSTART;VALUE=DATE:20260719
DTEND;VALUE=DATE:20260720
DTSTAMP:20260422T150449
CREATED:20260306T102504Z
LAST-MODIFIED:20260306T103426Z
UID:10008102-1784419200-1784505599@peranfood.com
SUMMARY:9
DESCRIPTION:Сніданок:Валійський пиріг з індичкою\, грибами та томатами. \nПерекус 1:Наполеон з печеною сливою. \nОбід:Куряча печінка з глазурованим яблуком та кус-кусом. \nПерекус 2:Смузі вишня\, манго\, ананас. \nВечеря:Салат з лососем Гравлакс та цитрусовим дресінгом.
URL:https://peranfood.com/event/9/2026-07-19/
CATEGORIES:950 ккал
END:VEVENT
BEGIN:VEVENT
DTSTART;VALUE=DATE:20260810
DTEND;VALUE=DATE:20260811
DTSTAMP:20260422T150449
CREATED:20260306T102504Z
LAST-MODIFIED:20260306T103426Z
UID:10008103-1786320000-1786406399@peranfood.com
SUMMARY:9
DESCRIPTION:Сніданок:Валійський пиріг з індичкою\, грибами та томатами. \nПерекус 1:Наполеон з печеною сливою. \nОбід:Куряча печінка з глазурованим яблуком та кус-кусом. \nПерекус 2:Смузі вишня\, манго\, ананас. \nВечеря:Салат з лососем Гравлакс та цитрусовим дресінгом.
URL:https://peranfood.com/event/9/2026-08-10/
CATEGORIES:950 ккал
END:VEVENT
BEGIN:VEVENT
DTSTART;VALUE=DATE:20260901
DTEND;VALUE=DATE:20260902
DTSTAMP:20260422T150449
CREATED:20260306T102504Z
LAST-MODIFIED:20260306T103426Z
UID:10008104-1788220800-1788307199@peranfood.com
SUMMARY:9
DESCRIPTION:Сніданок:Валійський пиріг з індичкою\, грибами та томатами. \nПерекус 1:Наполеон з печеною сливою. \nОбід:Куряча печінка з глазурованим яблуком та кус-кусом. \nПерекус 2:Смузі вишня\, манго\, ананас. \nВечеря:Салат з лососем Гравлакс та цитрусовим дресінгом.
URL:https://peranfood.com/event/9/2026-09-01/
CATEGORIES:950 ккал
END:VEVENT
BEGIN:VEVENT
DTSTART;VALUE=DATE:20260923
DTEND;VALUE=DATE:20260924
DTSTAMP:20260422T150449
CREATED:20260306T102504Z
LAST-MODIFIED:20260306T103426Z
UID:10008105-1790121600-1790207999@peranfood.com
SUMMARY:9
DESCRIPTION:Сніданок:Валійський пиріг з індичкою\, грибами та томатами. \nПерекус 1:Наполеон з печеною сливою. \nОбід:Куряча печінка з глазурованим яблуком та кус-кусом. \nПерекус 2:Смузі вишня\, манго\, ананас. \nВечеря:Салат з лососем Гравлакс та цитрусовим дресінгом.
URL:https://peranfood.com/event/9/2026-09-23/
CATEGORIES:950 ккал
END:VEVENT
BEGIN:VEVENT
DTSTART;VALUE=DATE:20261015
DTEND;VALUE=DATE:20261016
DTSTAMP:20260422T150449
CREATED:20260306T102504Z
LAST-MODIFIED:20260306T103426Z
UID:10008106-1792022400-1792108799@peranfood.com
SUMMARY:9
DESCRIPTION:Сніданок:Валійський пиріг з індичкою\, грибами та томатами. \nПерекус 1:Наполеон з печеною сливою. \nОбід:Куряча печінка з глазурованим яблуком та кус-кусом. \nПерекус 2:Смузі вишня\, манго\, ананас. \nВечеря:Салат з лососем Гравлакс та цитрусовим дресінгом.
URL:https://peranfood.com/event/9/2026-10-15/
CATEGORIES:950 ккал
END:VEVENT
BEGIN:VEVENT
DTSTART;VALUE=DATE:20261106
DTEND;VALUE=DATE:20261107
DTSTAMP:20260422T150449
CREATED:20260306T102504Z
LAST-MODIFIED:20260306T103426Z
UID:10008107-1793923200-1794009599@peranfood.com
SUMMARY:9
DESCRIPTION:Сніданок:Валійський пиріг з індичкою\, грибами та томатами. \nПерекус 1:Наполеон з печеною сливою. \nОбід:Куряча печінка з глазурованим яблуком та кус-кусом. \nПерекус 2:Смузі вишня\, манго\, ананас. \nВечеря:Салат з лососем Гравлакс та цитрусовим дресінгом.
URL:https://peranfood.com/event/9/2026-11-06/
CATEGORIES:950 ккал
END:VEVENT
BEGIN:VEVENT
DTSTART;VALUE=DATE:20261128
DTEND;VALUE=DATE:20261129
DTSTAMP:20260422T150449
CREATED:20260306T102504Z
LAST-MODIFIED:20260306T103426Z
UID:10008108-1795824000-1795910399@peranfood.com
SUMMARY:9
DESCRIPTION:Сніданок:Валійський пиріг з індичкою\, грибами та томатами. \nПерекус 1:Наполеон з печеною сливою. \nОбід:Куряча печінка з глазурованим яблуком та кус-кусом. \nПерекус 2:Смузі вишня\, манго\, ананас. \nВечеря:Салат з лососем Гравлакс та цитрусовим дресінгом.
URL:https://peranfood.com/event/9/2026-11-28/
CATEGORIES:950 ккал
END:VEVENT
BEGIN:VEVENT
DTSTART;VALUE=DATE:20261220
DTEND;VALUE=DATE:20261221
DTSTAMP:20260422T150449
CREATED:20260306T102504Z
LAST-MODIFIED:20260306T103426Z
UID:10008109-1797724800-1797811199@peranfood.com
SUMMARY:9
DESCRIPTION:Сніданок:Валійський пиріг з індичкою\, грибами та томатами. \nПерекус 1:Наполеон з печеною сливою. \nОбід:Куряча печінка з глазурованим яблуком та кус-кусом. \nПерекус 2:Смузі вишня\, манго\, ананас. \nВечеря:Салат з лососем Гравлакс та цитрусовим дресінгом.
URL:https://peranfood.com/event/9/2026-12-20/
CATEGORIES:950 ккал
END:VEVENT
BEGIN:VEVENT
DTSTART;VALUE=DATE:20270111
DTEND;VALUE=DATE:20270112
DTSTAMP:20260422T150449
CREATED:20260306T102504Z
LAST-MODIFIED:20260306T103426Z
UID:10008110-1799625600-1799711999@peranfood.com
SUMMARY:9
DESCRIPTION:Сніданок:Валійський пиріг з індичкою\, грибами та томатами. \nПерекус 1:Наполеон з печеною сливою. \nОбід:Куряча печінка з глазурованим яблуком та кус-кусом. \nПерекус 2:Смузі вишня\, манго\, ананас. \nВечеря:Салат з лососем Гравлакс та цитрусовим дресінгом.
URL:https://peranfood.com/event/9/2027-01-11/
CATEGORIES:950 ккал
END:VEVENT
BEGIN:VEVENT
DTSTART;VALUE=DATE:20270202
DTEND;VALUE=DATE:20270203
DTSTAMP:20260422T150449
CREATED:20260306T102504Z
LAST-MODIFIED:20260306T103426Z
UID:10008111-1801526400-1801612799@peranfood.com
SUMMARY:9
DESCRIPTION:Сніданок:Валійський пиріг з індичкою\, грибами та томатами. \nПерекус 1:Наполеон з печеною сливою. \nОбід:Куряча печінка з глазурованим яблуком та кус-кусом. \nПерекус 2:Смузі вишня\, манго\, ананас. \nВечеря:Салат з лососем Гравлакс та цитрусовим дресінгом.
URL:https://peranfood.com/event/9/2027-02-02/
CATEGORIES:950 ккал
END:VEVENT
BEGIN:VEVENT
DTSTART;VALUE=DATE:20270224
DTEND;VALUE=DATE:20270225
DTSTAMP:20260422T150449
CREATED:20260306T102504Z
LAST-MODIFIED:20260306T103426Z
UID:10008112-1803427200-1803513599@peranfood.com
SUMMARY:9
DESCRIPTION:Сніданок:Валійський пиріг з індичкою\, грибами та томатами. \nПерекус 1:Наполеон з печеною сливою. \nОбід:Куряча печінка з глазурованим яблуком та кус-кусом. \nПерекус 2:Смузі вишня\, манго\, ананас. \nВечеря:Салат з лососем Гравлакс та цитрусовим дресінгом.
URL:https://peranfood.com/event/9/2027-02-24/
CATEGORIES:950 ккал
END:VEVENT
BEGIN:VEVENT
DTSTART;VALUE=DATE:20270318
DTEND;VALUE=DATE:20270319
DTSTAMP:20260422T150449
CREATED:20260306T102504Z
LAST-MODIFIED:20260306T103426Z
UID:10008113-1805328000-1805414399@peranfood.com
SUMMARY:9
DESCRIPTION:Сніданок:Валійський пиріг з індичкою\, грибами та томатами. \nПерекус 1:Наполеон з печеною сливою. \nОбід:Куряча печінка з глазурованим яблуком та кус-кусом. \nПерекус 2:Смузі вишня\, манго\, ананас. \nВечеря:Салат з лососем Гравлакс та цитрусовим дресінгом.
URL:https://peranfood.com/event/9/2027-03-18/
CATEGORIES:950 ккал
END:VEVENT
BEGIN:VEVENT
DTSTART;VALUE=DATE:20270409
DTEND;VALUE=DATE:20270410
DTSTAMP:20260422T150449
CREATED:20260306T102504Z
LAST-MODIFIED:20260306T103426Z
UID:10008114-1807228800-1807315199@peranfood.com
SUMMARY:9
DESCRIPTION:Сніданок:Валійський пиріг з індичкою\, грибами та томатами. \nПерекус 1:Наполеон з печеною сливою. \nОбід:Куряча печінка з глазурованим яблуком та кус-кусом. \nПерекус 2:Смузі вишня\, манго\, ананас. \nВечеря:Салат з лососем Гравлакс та цитрусовим дресінгом.
URL:https://peranfood.com/event/9/2027-04-09/
CATEGORIES:950 ккал
END:VEVENT
BEGIN:VEVENT
DTSTART;VALUE=DATE:20270501
DTEND;VALUE=DATE:20270502
DTSTAMP:20260422T150449
CREATED:20260306T102504Z
LAST-MODIFIED:20260306T103426Z
UID:10008115-1809129600-1809215999@peranfood.com
SUMMARY:9
DESCRIPTION:Сніданок:Валійський пиріг з індичкою\, грибами та томатами. \nПерекус 1:Наполеон з печеною сливою. \nОбід:Куряча печінка з глазурованим яблуком та кус-кусом. \nПерекус 2:Смузі вишня\, манго\, ананас. \nВечеря:Салат з лососем Гравлакс та цитрусовим дресінгом.
URL:https://peranfood.com/event/9/2027-05-01/
CATEGORIES:950 ккал
END:VEVENT
BEGIN:VEVENT
DTSTART;VALUE=DATE:20270523
DTEND;VALUE=DATE:20270524
DTSTAMP:20260422T150449
CREATED:20260306T102504Z
LAST-MODIFIED:20260306T103426Z
UID:10008116-1811030400-1811116799@peranfood.com
SUMMARY:9
DESCRIPTION:Сніданок:Валійський пиріг з індичкою\, грибами та томатами. \nПерекус 1:Наполеон з печеною сливою. \nОбід:Куряча печінка з глазурованим яблуком та кус-кусом. \nПерекус 2:Смузі вишня\, манго\, ананас. \nВечеря:Салат з лососем Гравлакс та цитрусовим дресінгом.
URL:https://peranfood.com/event/9/2027-05-23/
CATEGORIES:950 ккал
END:VEVENT
BEGIN:VEVENT
DTSTART;VALUE=DATE:20270614
DTEND;VALUE=DATE:20270615
DTSTAMP:20260422T150449
CREATED:20260306T102504Z
LAST-MODIFIED:20260306T103426Z
UID:10008117-1812931200-1813017599@peranfood.com
SUMMARY:9
DESCRIPTION:Сніданок:Валійський пиріг з індичкою\, грибами та томатами. \nПерекус 1:Наполеон з печеною сливою. \nОбід:Куряча печінка з глазурованим яблуком та кус-кусом. \nПерекус 2:Смузі вишня\, манго\, ананас. \nВечеря:Салат з лососем Гравлакс та цитрусовим дресінгом.
URL:https://peranfood.com/event/9/2027-06-14/
CATEGORIES:950 ккал
END:VEVENT
BEGIN:VEVENT
DTSTART;VALUE=DATE:20270706
DTEND;VALUE=DATE:20270707
DTSTAMP:20260422T150449
CREATED:20260306T102504Z
LAST-MODIFIED:20260306T103426Z
UID:10008118-1814832000-1814918399@peranfood.com
SUMMARY:9
DESCRIPTION:Сніданок:Валійський пиріг з індичкою\, грибами та томатами. \nПерекус 1:Наполеон з печеною сливою. \nОбід:Куряча печінка з глазурованим яблуком та кус-кусом. \nПерекус 2:Смузі вишня\, манго\, ананас. \nВечеря:Салат з лососем Гравлакс та цитрусовим дресінгом.
URL:https://peranfood.com/event/9/2027-07-06/
CATEGORIES:950 ккал
END:VEVENT
BEGIN:VEVENT
DTSTART;VALUE=DATE:20270728
DTEND;VALUE=DATE:20270729
DTSTAMP:20260422T150449
CREATED:20260306T102504Z
LAST-MODIFIED:20260306T103426Z
UID:10008119-1816732800-1816819199@peranfood.com
SUMMARY:9
DESCRIPTION:Сніданок:Валійський пиріг з індичкою\, грибами та томатами. \nПерекус 1:Наполеон з печеною сливою. \nОбід:Куряча печінка з глазурованим яблуком та кус-кусом. \nПерекус 2:Смузі вишня\, манго\, ананас. \nВечеря:Салат з лососем Гравлакс та цитрусовим дресінгом.
URL:https://peranfood.com/event/9/2027-07-28/
CATEGORIES:950 ккал
END:VEVENT
BEGIN:VEVENT
DTSTART;VALUE=DATE:20270819
DTEND;VALUE=DATE:20270820
DTSTAMP:20260422T150449
CREATED:20260306T102504Z
LAST-MODIFIED:20260306T103426Z
UID:10008120-1818633600-1818719999@peranfood.com
SUMMARY:9
DESCRIPTION:Сніданок:Валійський пиріг з індичкою\, грибами та томатами. \nПерекус 1:Наполеон з печеною сливою. \nОбід:Куряча печінка з глазурованим яблуком та кус-кусом. \nПерекус 2:Смузі вишня\, манго\, ананас. \nВечеря:Салат з лососем Гравлакс та цитрусовим дресінгом.
URL:https://peranfood.com/event/9/2027-08-19/
CATEGORIES:950 ккал
END:VEVENT
BEGIN:VEVENT
DTSTART;VALUE=DATE:20270910
DTEND;VALUE=DATE:20270911
DTSTAMP:20260422T150449
CREATED:20260306T102504Z
LAST-MODIFIED:20260306T103426Z
UID:10008121-1820534400-1820620799@peranfood.com
SUMMARY:9
DESCRIPTION:Сніданок:Валійський пиріг з індичкою\, грибами та томатами. \nПерекус 1:Наполеон з печеною сливою. \nОбід:Куряча печінка з глазурованим яблуком та кус-кусом. \nПерекус 2:Смузі вишня\, манго\, ананас. \nВечеря:Салат з лососем Гравлакс та цитрусовим дресінгом.
URL:https://peranfood.com/event/9/2027-09-10/
CATEGORIES:950 ккал
END:VEVENT
BEGIN:VEVENT
DTSTART;VALUE=DATE:20271002
DTEND;VALUE=DATE:20271003
DTSTAMP:20260422T150449
CREATED:20260306T102504Z
LAST-MODIFIED:20260306T103426Z
UID:10008122-1822435200-1822521599@peranfood.com
SUMMARY:9
DESCRIPTION:Сніданок:Валійський пиріг з індичкою\, грибами та томатами. \nПерекус 1:Наполеон з печеною сливою. \nОбід:Куряча печінка з глазурованим яблуком та кус-кусом. \nПерекус 2:Смузі вишня\, манго\, ананас. \nВечеря:Салат з лососем Гравлакс та цитрусовим дресінгом.
URL:https://peranfood.com/event/9/2027-10-02/
CATEGORIES:950 ккал
END:VEVENT
BEGIN:VEVENT
DTSTART;VALUE=DATE:20271024
DTEND;VALUE=DATE:20271025
DTSTAMP:20260422T150449
CREATED:20260306T102504Z
LAST-MODIFIED:20260306T103426Z
UID:10008123-1824336000-1824422399@peranfood.com
SUMMARY:9
DESCRIPTION:Сніданок:Валійський пиріг з індичкою\, грибами та томатами. \nПерекус 1:Наполеон з печеною сливою. \nОбід:Куряча печінка з глазурованим яблуком та кус-кусом. \nПерекус 2:Смузі вишня\, манго\, ананас. \nВечеря:Салат з лососем Гравлакс та цитрусовим дресінгом.
URL:https://peranfood.com/event/9/2027-10-24/
CATEGORIES:950 ккал
END:VEVENT
BEGIN:VEVENT
DTSTART;VALUE=DATE:20271115
DTEND;VALUE=DATE:20271116
DTSTAMP:20260422T150449
CREATED:20260306T102504Z
LAST-MODIFIED:20260306T103426Z
UID:10008124-1826236800-1826323199@peranfood.com
SUMMARY:9
DESCRIPTION:Сніданок:Валійський пиріг з індичкою\, грибами та томатами. \nПерекус 1:Наполеон з печеною сливою. \nОбід:Куряча печінка з глазурованим яблуком та кус-кусом. \nПерекус 2:Смузі вишня\, манго\, ананас. \nВечеря:Салат з лососем Гравлакс та цитрусовим дресінгом.
URL:https://peranfood.com/event/9/2027-11-15/
CATEGORIES:950 ккал
END:VEVENT
BEGIN:VEVENT
DTSTART;VALUE=DATE:20271207
DTEND;VALUE=DATE:20271208
DTSTAMP:20260422T150449
CREATED:20260306T102504Z
LAST-MODIFIED:20260306T103426Z
UID:10008125-1828137600-1828223999@peranfood.com
SUMMARY:9
DESCRIPTION:Сніданок:Валійський пиріг з індичкою\, грибами та томатами. \nПерекус 1:Наполеон з печеною сливою. \nОбід:Куряча печінка з глазурованим яблуком та кус-кусом. \nПерекус 2:Смузі вишня\, манго\, ананас. \nВечеря:Салат з лососем Гравлакс та цитрусовим дресінгом.
URL:https://peranfood.com/event/9/2027-12-07/
CATEGORIES:950 ккал
END:VEVENT
BEGIN:VEVENT
DTSTART;VALUE=DATE:20271229
DTEND;VALUE=DATE:20271230
DTSTAMP:20260422T150449
CREATED:20260306T102504Z
LAST-MODIFIED:20260306T103426Z
UID:10008126-1830038400-1830124799@peranfood.com
SUMMARY:9
DESCRIPTION:Сніданок:Валійський пиріг з індичкою\, грибами та томатами. \nПерекус 1:Наполеон з печеною сливою. \nОбід:Куряча печінка з глазурованим яблуком та кус-кусом. \nПерекус 2:Смузі вишня\, манго\, ананас. \nВечеря:Салат з лососем Гравлакс та цитрусовим дресінгом.
URL:https://peranfood.com/event/9/2027-12-29/
CATEGORIES:950 ккал
END:VEVENT
BEGIN:VEVENT
DTSTART;VALUE=DATE:20280120
DTEND;VALUE=DATE:20280121
DTSTAMP:20260422T150449
CREATED:20260306T102504Z
LAST-MODIFIED:20260306T103426Z
UID:10008127-1831939200-1832025599@peranfood.com
SUMMARY:9
DESCRIPTION:Сніданок:Валійський пиріг з індичкою\, грибами та томатами. \nПерекус 1:Наполеон з печеною сливою. \nОбід:Куряча печінка з глазурованим яблуком та кус-кусом. \nПерекус 2:Смузі вишня\, манго\, ананас. \nВечеря:Салат з лососем Гравлакс та цитрусовим дресінгом.
URL:https://peranfood.com/event/9/2028-01-20/
CATEGORIES:950 ккал
END:VEVENT
END:VCALENDAR