BEGIN:VCALENDAR
VERSION:2.0
PRODID:-//Peranfood - доставка здорового харчування - ECPv6.15.18//NONSGML v1.0//EN
CALSCALE:GREGORIAN
METHOD:PUBLISH
X-WR-CALNAME:Peranfood - доставка здорового харчування
X-ORIGINAL-URL:https://peranfood.com
X-WR-CALDESC:Події за Peranfood - доставка здорового харчування
REFRESH-INTERVAL;VALUE=DURATION:PT1H
X-Robots-Tag:noindex
X-PUBLISHED-TTL:PT1H
BEGIN:VTIMEZONE
TZID:Europe/Kiev
BEGIN:DAYLIGHT
TZOFFSETFROM:+0200
TZOFFSETTO:+0300
TZNAME:EEST
DTSTART:20250330T010000
END:DAYLIGHT
BEGIN:STANDARD
TZOFFSETFROM:+0300
TZOFFSETTO:+0200
TZNAME:EET
DTSTART:20251026T010000
END:STANDARD
BEGIN:DAYLIGHT
TZOFFSETFROM:+0200
TZOFFSETTO:+0300
TZNAME:EEST
DTSTART:20260329T010000
END:DAYLIGHT
BEGIN:STANDARD
TZOFFSETFROM:+0300
TZOFFSETTO:+0200
TZNAME:EET
DTSTART:20261025T010000
END:STANDARD
BEGIN:DAYLIGHT
TZOFFSETFROM:+0200
TZOFFSETTO:+0300
TZNAME:EEST
DTSTART:20270328T010000
END:DAYLIGHT
BEGIN:STANDARD
TZOFFSETFROM:+0300
TZOFFSETTO:+0200
TZNAME:EET
DTSTART:20271031T010000
END:STANDARD
END:VTIMEZONE
BEGIN:VEVENT
DTSTART;VALUE=DATE:20260422
DTEND;VALUE=DATE:20260423
DTSTAMP:20260422T150349
CREATED:20260306T102517Z
LAST-MODIFIED:20260306T104414Z
UID:10006943-1776816000-1776902399@peranfood.com
SUMMARY:2s
DESCRIPTION:Сніданок:\nГречка з яйцем та маринованим огірком. \nОбід:\nЛінгвіні з курячим філе.\nСалат овочевий. \nВечеря:\nОвочі на пару з яловичиною су-від та кус-кусом.
URL:https://peranfood.com/event/2s/2026-04-22/
CATEGORIES:Sport
END:VEVENT
BEGIN:VEVENT
DTSTART;VALUE=DATE:20260430
DTEND;VALUE=DATE:20260501
DTSTAMP:20260422T150349
CREATED:20260306T102517Z
LAST-MODIFIED:20260306T104414Z
UID:10006944-1777507200-1777593599@peranfood.com
SUMMARY:2s
DESCRIPTION:Сніданок:\nГречка з яйцем та маринованим огірком. \nОбід:\nЛінгвіні з курячим філе.\nСалат овочевий. \nВечеря:\nОвочі на пару з яловичиною су-від та кус-кусом.
URL:https://peranfood.com/event/2s/2026-04-30/
CATEGORIES:Sport
END:VEVENT
BEGIN:VEVENT
DTSTART;VALUE=DATE:20260508
DTEND;VALUE=DATE:20260509
DTSTAMP:20260422T150349
CREATED:20260306T102517Z
LAST-MODIFIED:20260306T104414Z
UID:10006945-1778198400-1778284799@peranfood.com
SUMMARY:2s
DESCRIPTION:Сніданок:\nГречка з яйцем та маринованим огірком. \nОбід:\nЛінгвіні з курячим філе.\nСалат овочевий. \nВечеря:\nОвочі на пару з яловичиною су-від та кус-кусом.
URL:https://peranfood.com/event/2s/2026-05-08/
CATEGORIES:Sport
END:VEVENT
BEGIN:VEVENT
DTSTART;VALUE=DATE:20260516
DTEND;VALUE=DATE:20260517
DTSTAMP:20260422T150349
CREATED:20260306T102517Z
LAST-MODIFIED:20260306T104414Z
UID:10006946-1778889600-1778975999@peranfood.com
SUMMARY:2s
DESCRIPTION:Сніданок:\nГречка з яйцем та маринованим огірком. \nОбід:\nЛінгвіні з курячим філе.\nСалат овочевий. \nВечеря:\nОвочі на пару з яловичиною су-від та кус-кусом.
URL:https://peranfood.com/event/2s/2026-05-16/
CATEGORIES:Sport
END:VEVENT
BEGIN:VEVENT
DTSTART;VALUE=DATE:20260524
DTEND;VALUE=DATE:20260525
DTSTAMP:20260422T150349
CREATED:20260306T102517Z
LAST-MODIFIED:20260306T104414Z
UID:10006947-1779580800-1779667199@peranfood.com
SUMMARY:2s
DESCRIPTION:Сніданок:\nГречка з яйцем та маринованим огірком. \nОбід:\nЛінгвіні з курячим філе.\nСалат овочевий. \nВечеря:\nОвочі на пару з яловичиною су-від та кус-кусом.
URL:https://peranfood.com/event/2s/2026-05-24/
CATEGORIES:Sport
END:VEVENT
BEGIN:VEVENT
DTSTART;VALUE=DATE:20260601
DTEND;VALUE=DATE:20260602
DTSTAMP:20260422T150349
CREATED:20260306T102517Z
LAST-MODIFIED:20260306T104414Z
UID:10006948-1780272000-1780358399@peranfood.com
SUMMARY:2s
DESCRIPTION:Сніданок:\nГречка з яйцем та маринованим огірком. \nОбід:\nЛінгвіні з курячим філе.\nСалат овочевий. \nВечеря:\nОвочі на пару з яловичиною су-від та кус-кусом.
URL:https://peranfood.com/event/2s/2026-06-01/
CATEGORIES:Sport
END:VEVENT
BEGIN:VEVENT
DTSTART;VALUE=DATE:20260609
DTEND;VALUE=DATE:20260610
DTSTAMP:20260422T150349
CREATED:20260306T102517Z
LAST-MODIFIED:20260306T104414Z
UID:10006949-1780963200-1781049599@peranfood.com
SUMMARY:2s
DESCRIPTION:Сніданок:\nГречка з яйцем та маринованим огірком. \nОбід:\nЛінгвіні з курячим філе.\nСалат овочевий. \nВечеря:\nОвочі на пару з яловичиною су-від та кус-кусом.
URL:https://peranfood.com/event/2s/2026-06-09/
CATEGORIES:Sport
END:VEVENT
BEGIN:VEVENT
DTSTART;VALUE=DATE:20260617
DTEND;VALUE=DATE:20260618
DTSTAMP:20260422T150349
CREATED:20260306T102517Z
LAST-MODIFIED:20260306T104414Z
UID:10006950-1781654400-1781740799@peranfood.com
SUMMARY:2s
DESCRIPTION:Сніданок:\nГречка з яйцем та маринованим огірком. \nОбід:\nЛінгвіні з курячим філе.\nСалат овочевий. \nВечеря:\nОвочі на пару з яловичиною су-від та кус-кусом.
URL:https://peranfood.com/event/2s/2026-06-17/
CATEGORIES:Sport
END:VEVENT
BEGIN:VEVENT
DTSTART;VALUE=DATE:20260625
DTEND;VALUE=DATE:20260626
DTSTAMP:20260422T150349
CREATED:20260306T102517Z
LAST-MODIFIED:20260306T104414Z
UID:10006951-1782345600-1782431999@peranfood.com
SUMMARY:2s
DESCRIPTION:Сніданок:\nГречка з яйцем та маринованим огірком. \nОбід:\nЛінгвіні з курячим філе.\nСалат овочевий. \nВечеря:\nОвочі на пару з яловичиною су-від та кус-кусом.
URL:https://peranfood.com/event/2s/2026-06-25/
CATEGORIES:Sport
END:VEVENT
BEGIN:VEVENT
DTSTART;VALUE=DATE:20260703
DTEND;VALUE=DATE:20260704
DTSTAMP:20260422T150349
CREATED:20260306T102517Z
LAST-MODIFIED:20260306T104414Z
UID:10006952-1783036800-1783123199@peranfood.com
SUMMARY:2s
DESCRIPTION:Сніданок:\nГречка з яйцем та маринованим огірком. \nОбід:\nЛінгвіні з курячим філе.\nСалат овочевий. \nВечеря:\nОвочі на пару з яловичиною су-від та кус-кусом.
URL:https://peranfood.com/event/2s/2026-07-03/
CATEGORIES:Sport
END:VEVENT
BEGIN:VEVENT
DTSTART;VALUE=DATE:20260711
DTEND;VALUE=DATE:20260712
DTSTAMP:20260422T150349
CREATED:20260306T102517Z
LAST-MODIFIED:20260306T104414Z
UID:10006953-1783728000-1783814399@peranfood.com
SUMMARY:2s
DESCRIPTION:Сніданок:\nГречка з яйцем та маринованим огірком. \nОбід:\nЛінгвіні з курячим філе.\nСалат овочевий. \nВечеря:\nОвочі на пару з яловичиною су-від та кус-кусом.
URL:https://peranfood.com/event/2s/2026-07-11/
CATEGORIES:Sport
END:VEVENT
BEGIN:VEVENT
DTSTART;VALUE=DATE:20260719
DTEND;VALUE=DATE:20260720
DTSTAMP:20260422T150349
CREATED:20260306T102517Z
LAST-MODIFIED:20260306T104414Z
UID:10006954-1784419200-1784505599@peranfood.com
SUMMARY:2s
DESCRIPTION:Сніданок:\nГречка з яйцем та маринованим огірком. \nОбід:\nЛінгвіні з курячим філе.\nСалат овочевий. \nВечеря:\nОвочі на пару з яловичиною су-від та кус-кусом.
URL:https://peranfood.com/event/2s/2026-07-19/
CATEGORIES:Sport
END:VEVENT
BEGIN:VEVENT
DTSTART;VALUE=DATE:20260727
DTEND;VALUE=DATE:20260728
DTSTAMP:20260422T150349
CREATED:20260306T102517Z
LAST-MODIFIED:20260306T104414Z
UID:10006955-1785110400-1785196799@peranfood.com
SUMMARY:2s
DESCRIPTION:Сніданок:\nГречка з яйцем та маринованим огірком. \nОбід:\nЛінгвіні з курячим філе.\nСалат овочевий. \nВечеря:\nОвочі на пару з яловичиною су-від та кус-кусом.
URL:https://peranfood.com/event/2s/2026-07-27/
CATEGORIES:Sport
END:VEVENT
BEGIN:VEVENT
DTSTART;VALUE=DATE:20260804
DTEND;VALUE=DATE:20260805
DTSTAMP:20260422T150349
CREATED:20260306T102517Z
LAST-MODIFIED:20260306T104414Z
UID:10006956-1785801600-1785887999@peranfood.com
SUMMARY:2s
DESCRIPTION:Сніданок:\nГречка з яйцем та маринованим огірком. \nОбід:\nЛінгвіні з курячим філе.\nСалат овочевий. \nВечеря:\nОвочі на пару з яловичиною су-від та кус-кусом.
URL:https://peranfood.com/event/2s/2026-08-04/
CATEGORIES:Sport
END:VEVENT
BEGIN:VEVENT
DTSTART;VALUE=DATE:20260812
DTEND;VALUE=DATE:20260813
DTSTAMP:20260422T150349
CREATED:20260306T102517Z
LAST-MODIFIED:20260306T104414Z
UID:10006957-1786492800-1786579199@peranfood.com
SUMMARY:2s
DESCRIPTION:Сніданок:\nГречка з яйцем та маринованим огірком. \nОбід:\nЛінгвіні з курячим філе.\nСалат овочевий. \nВечеря:\nОвочі на пару з яловичиною су-від та кус-кусом.
URL:https://peranfood.com/event/2s/2026-08-12/
CATEGORIES:Sport
END:VEVENT
BEGIN:VEVENT
DTSTART;VALUE=DATE:20260820
DTEND;VALUE=DATE:20260821
DTSTAMP:20260422T150349
CREATED:20260306T102517Z
LAST-MODIFIED:20260306T104414Z
UID:10006958-1787184000-1787270399@peranfood.com
SUMMARY:2s
DESCRIPTION:Сніданок:\nГречка з яйцем та маринованим огірком. \nОбід:\nЛінгвіні з курячим філе.\nСалат овочевий. \nВечеря:\nОвочі на пару з яловичиною су-від та кус-кусом.
URL:https://peranfood.com/event/2s/2026-08-20/
CATEGORIES:Sport
END:VEVENT
BEGIN:VEVENT
DTSTART;VALUE=DATE:20260828
DTEND;VALUE=DATE:20260829
DTSTAMP:20260422T150349
CREATED:20260306T102517Z
LAST-MODIFIED:20260306T104414Z
UID:10006959-1787875200-1787961599@peranfood.com
SUMMARY:2s
DESCRIPTION:Сніданок:\nГречка з яйцем та маринованим огірком. \nОбід:\nЛінгвіні з курячим філе.\nСалат овочевий. \nВечеря:\nОвочі на пару з яловичиною су-від та кус-кусом.
URL:https://peranfood.com/event/2s/2026-08-28/
CATEGORIES:Sport
END:VEVENT
BEGIN:VEVENT
DTSTART;VALUE=DATE:20260905
DTEND;VALUE=DATE:20260906
DTSTAMP:20260422T150349
CREATED:20260306T102517Z
LAST-MODIFIED:20260306T104414Z
UID:10006960-1788566400-1788652799@peranfood.com
SUMMARY:2s
DESCRIPTION:Сніданок:\nГречка з яйцем та маринованим огірком. \nОбід:\nЛінгвіні з курячим філе.\nСалат овочевий. \nВечеря:\nОвочі на пару з яловичиною су-від та кус-кусом.
URL:https://peranfood.com/event/2s/2026-09-05/
CATEGORIES:Sport
END:VEVENT
BEGIN:VEVENT
DTSTART;VALUE=DATE:20260913
DTEND;VALUE=DATE:20260914
DTSTAMP:20260422T150349
CREATED:20260306T102517Z
LAST-MODIFIED:20260306T104414Z
UID:10006961-1789257600-1789343999@peranfood.com
SUMMARY:2s
DESCRIPTION:Сніданок:\nГречка з яйцем та маринованим огірком. \nОбід:\nЛінгвіні з курячим філе.\nСалат овочевий. \nВечеря:\nОвочі на пару з яловичиною су-від та кус-кусом.
URL:https://peranfood.com/event/2s/2026-09-13/
CATEGORIES:Sport
END:VEVENT
BEGIN:VEVENT
DTSTART;VALUE=DATE:20260921
DTEND;VALUE=DATE:20260922
DTSTAMP:20260422T150349
CREATED:20260306T102517Z
LAST-MODIFIED:20260306T104414Z
UID:10006962-1789948800-1790035199@peranfood.com
SUMMARY:2s
DESCRIPTION:Сніданок:\nГречка з яйцем та маринованим огірком. \nОбід:\nЛінгвіні з курячим філе.\nСалат овочевий. \nВечеря:\nОвочі на пару з яловичиною су-від та кус-кусом.
URL:https://peranfood.com/event/2s/2026-09-21/
CATEGORIES:Sport
END:VEVENT
BEGIN:VEVENT
DTSTART;VALUE=DATE:20260929
DTEND;VALUE=DATE:20260930
DTSTAMP:20260422T150349
CREATED:20260306T102517Z
LAST-MODIFIED:20260306T104414Z
UID:10006963-1790640000-1790726399@peranfood.com
SUMMARY:2s
DESCRIPTION:Сніданок:\nГречка з яйцем та маринованим огірком. \nОбід:\nЛінгвіні з курячим філе.\nСалат овочевий. \nВечеря:\nОвочі на пару з яловичиною су-від та кус-кусом.
URL:https://peranfood.com/event/2s/2026-09-29/
CATEGORIES:Sport
END:VEVENT
BEGIN:VEVENT
DTSTART;VALUE=DATE:20261007
DTEND;VALUE=DATE:20261008
DTSTAMP:20260422T150349
CREATED:20260306T102517Z
LAST-MODIFIED:20260306T104414Z
UID:10006964-1791331200-1791417599@peranfood.com
SUMMARY:2s
DESCRIPTION:Сніданок:\nГречка з яйцем та маринованим огірком. \nОбід:\nЛінгвіні з курячим філе.\nСалат овочевий. \nВечеря:\nОвочі на пару з яловичиною су-від та кус-кусом.
URL:https://peranfood.com/event/2s/2026-10-07/
CATEGORIES:Sport
END:VEVENT
BEGIN:VEVENT
DTSTART;VALUE=DATE:20261015
DTEND;VALUE=DATE:20261016
DTSTAMP:20260422T150349
CREATED:20260306T102517Z
LAST-MODIFIED:20260306T104414Z
UID:10006965-1792022400-1792108799@peranfood.com
SUMMARY:2s
DESCRIPTION:Сніданок:\nГречка з яйцем та маринованим огірком. \nОбід:\nЛінгвіні з курячим філе.\nСалат овочевий. \nВечеря:\nОвочі на пару з яловичиною су-від та кус-кусом.
URL:https://peranfood.com/event/2s/2026-10-15/
CATEGORIES:Sport
END:VEVENT
BEGIN:VEVENT
DTSTART;VALUE=DATE:20261023
DTEND;VALUE=DATE:20261024
DTSTAMP:20260422T150349
CREATED:20260306T102517Z
LAST-MODIFIED:20260306T104414Z
UID:10006966-1792713600-1792799999@peranfood.com
SUMMARY:2s
DESCRIPTION:Сніданок:\nГречка з яйцем та маринованим огірком. \nОбід:\nЛінгвіні з курячим філе.\nСалат овочевий. \nВечеря:\nОвочі на пару з яловичиною су-від та кус-кусом.
URL:https://peranfood.com/event/2s/2026-10-23/
CATEGORIES:Sport
END:VEVENT
BEGIN:VEVENT
DTSTART;VALUE=DATE:20261031
DTEND;VALUE=DATE:20261101
DTSTAMP:20260422T150349
CREATED:20260306T102517Z
LAST-MODIFIED:20260306T104414Z
UID:10006967-1793404800-1793491199@peranfood.com
SUMMARY:2s
DESCRIPTION:Сніданок:\nГречка з яйцем та маринованим огірком. \nОбід:\nЛінгвіні з курячим філе.\nСалат овочевий. \nВечеря:\nОвочі на пару з яловичиною су-від та кус-кусом.
URL:https://peranfood.com/event/2s/2026-10-31/
CATEGORIES:Sport
END:VEVENT
BEGIN:VEVENT
DTSTART;VALUE=DATE:20261108
DTEND;VALUE=DATE:20261109
DTSTAMP:20260422T150349
CREATED:20260306T102517Z
LAST-MODIFIED:20260306T104414Z
UID:10006968-1794096000-1794182399@peranfood.com
SUMMARY:2s
DESCRIPTION:Сніданок:\nГречка з яйцем та маринованим огірком. \nОбід:\nЛінгвіні з курячим філе.\nСалат овочевий. \nВечеря:\nОвочі на пару з яловичиною су-від та кус-кусом.
URL:https://peranfood.com/event/2s/2026-11-08/
CATEGORIES:Sport
END:VEVENT
BEGIN:VEVENT
DTSTART;VALUE=DATE:20261116
DTEND;VALUE=DATE:20261117
DTSTAMP:20260422T150349
CREATED:20260306T102517Z
LAST-MODIFIED:20260306T104414Z
UID:10006969-1794787200-1794873599@peranfood.com
SUMMARY:2s
DESCRIPTION:Сніданок:\nГречка з яйцем та маринованим огірком. \nОбід:\nЛінгвіні з курячим філе.\nСалат овочевий. \nВечеря:\nОвочі на пару з яловичиною су-від та кус-кусом.
URL:https://peranfood.com/event/2s/2026-11-16/
CATEGORIES:Sport
END:VEVENT
BEGIN:VEVENT
DTSTART;VALUE=DATE:20261124
DTEND;VALUE=DATE:20261125
DTSTAMP:20260422T150349
CREATED:20260306T102517Z
LAST-MODIFIED:20260306T104414Z
UID:10006970-1795478400-1795564799@peranfood.com
SUMMARY:2s
DESCRIPTION:Сніданок:\nГречка з яйцем та маринованим огірком. \nОбід:\nЛінгвіні з курячим філе.\nСалат овочевий. \nВечеря:\nОвочі на пару з яловичиною су-від та кус-кусом.
URL:https://peranfood.com/event/2s/2026-11-24/
CATEGORIES:Sport
END:VEVENT
BEGIN:VEVENT
DTSTART;VALUE=DATE:20261202
DTEND;VALUE=DATE:20261203
DTSTAMP:20260422T150349
CREATED:20260306T102517Z
LAST-MODIFIED:20260306T104414Z
UID:10006971-1796169600-1796255999@peranfood.com
SUMMARY:2s
DESCRIPTION:Сніданок:\nГречка з яйцем та маринованим огірком. \nОбід:\nЛінгвіні з курячим філе.\nСалат овочевий. \nВечеря:\nОвочі на пару з яловичиною су-від та кус-кусом.
URL:https://peranfood.com/event/2s/2026-12-02/
CATEGORIES:Sport
END:VEVENT
BEGIN:VEVENT
DTSTART;VALUE=DATE:20261210
DTEND;VALUE=DATE:20261211
DTSTAMP:20260422T150349
CREATED:20260306T102517Z
LAST-MODIFIED:20260306T104414Z
UID:10006972-1796860800-1796947199@peranfood.com
SUMMARY:2s
DESCRIPTION:Сніданок:\nГречка з яйцем та маринованим огірком. \nОбід:\nЛінгвіні з курячим філе.\nСалат овочевий. \nВечеря:\nОвочі на пару з яловичиною су-від та кус-кусом.
URL:https://peranfood.com/event/2s/2026-12-10/
CATEGORIES:Sport
END:VEVENT
END:VCALENDAR