BEGIN:VCALENDAR
VERSION:2.0
PRODID:-//Peranfood - доставка здорового харчування - ECPv6.15.18//NONSGML v1.0//EN
CALSCALE:GREGORIAN
METHOD:PUBLISH
X-WR-CALNAME:Peranfood - доставка здорового харчування
X-ORIGINAL-URL:https://peranfood.com
X-WR-CALDESC:Події за Peranfood - доставка здорового харчування
REFRESH-INTERVAL;VALUE=DURATION:PT1H
X-Robots-Tag:noindex
X-PUBLISHED-TTL:PT1H
BEGIN:VTIMEZONE
TZID:Europe/Kiev
BEGIN:DAYLIGHT
TZOFFSETFROM:+0200
TZOFFSETTO:+0300
TZNAME:EEST
DTSTART:20250330T010000
END:DAYLIGHT
BEGIN:STANDARD
TZOFFSETFROM:+0300
TZOFFSETTO:+0200
TZNAME:EET
DTSTART:20251026T010000
END:STANDARD
BEGIN:DAYLIGHT
TZOFFSETFROM:+0200
TZOFFSETTO:+0300
TZNAME:EEST
DTSTART:20260329T010000
END:DAYLIGHT
BEGIN:STANDARD
TZOFFSETFROM:+0300
TZOFFSETTO:+0200
TZNAME:EET
DTSTART:20261025T010000
END:STANDARD
BEGIN:DAYLIGHT
TZOFFSETFROM:+0200
TZOFFSETTO:+0300
TZNAME:EEST
DTSTART:20270328T010000
END:DAYLIGHT
BEGIN:STANDARD
TZOFFSETFROM:+0300
TZOFFSETTO:+0200
TZNAME:EET
DTSTART:20271031T010000
END:STANDARD
BEGIN:DAYLIGHT
TZOFFSETFROM:+0200
TZOFFSETTO:+0300
TZNAME:EEST
DTSTART:20280326T010000
END:DAYLIGHT
BEGIN:STANDARD
TZOFFSETFROM:+0300
TZOFFSETTO:+0200
TZNAME:EET
DTSTART:20281029T010000
END:STANDARD
BEGIN:DAYLIGHT
TZOFFSETFROM:+0200
TZOFFSETTO:+0300
TZNAME:EEST
DTSTART:20290325T010000
END:DAYLIGHT
BEGIN:STANDARD
TZOFFSETFROM:+0300
TZOFFSETTO:+0200
TZNAME:EET
DTSTART:20291028T010000
END:STANDARD
END:VTIMEZONE
BEGIN:VEVENT
DTSTART;VALUE=DATE:20260508
DTEND;VALUE=DATE:20260509
DTSTAMP:20260422T150337
CREATED:20260306T102502Z
LAST-MODIFIED:20260306T103054Z
UID:10006691-1778198400-1778284799@peranfood.com
SUMMARY:3
DESCRIPTION:Сніданок:Хешбраун з мусом із птиці та яйцем. \nПерекус 1:Чіа на банановому молоці з манго та маракуйя. \nОбід:Чкмерулі з кус-кусом. \nПерекус 2:Місо-суп з тофу та ламінаріями. \nВечеря:Салат Нісуаз з тунцем.
URL:https://peranfood.com/event/3/2026-05-08/
CATEGORIES:950 ккал
END:VEVENT
BEGIN:VEVENT
DTSTART;VALUE=DATE:20260530
DTEND;VALUE=DATE:20260531
DTSTAMP:20260422T150337
CREATED:20260306T102502Z
LAST-MODIFIED:20260306T103054Z
UID:10006692-1780099200-1780185599@peranfood.com
SUMMARY:3
DESCRIPTION:Сніданок:Хешбраун з мусом із птиці та яйцем. \nПерекус 1:Чіа на банановому молоці з манго та маракуйя. \nОбід:Чкмерулі з кус-кусом. \nПерекус 2:Місо-суп з тофу та ламінаріями. \nВечеря:Салат Нісуаз з тунцем.
URL:https://peranfood.com/event/3/2026-05-30/
CATEGORIES:950 ккал
END:VEVENT
BEGIN:VEVENT
DTSTART;VALUE=DATE:20260621
DTEND;VALUE=DATE:20260622
DTSTAMP:20260422T150337
CREATED:20260306T102502Z
LAST-MODIFIED:20260306T103054Z
UID:10006693-1782000000-1782086399@peranfood.com
SUMMARY:3
DESCRIPTION:Сніданок:Хешбраун з мусом із птиці та яйцем. \nПерекус 1:Чіа на банановому молоці з манго та маракуйя. \nОбід:Чкмерулі з кус-кусом. \nПерекус 2:Місо-суп з тофу та ламінаріями. \nВечеря:Салат Нісуаз з тунцем.
URL:https://peranfood.com/event/3/2026-06-21/
CATEGORIES:950 ккал
END:VEVENT
BEGIN:VEVENT
DTSTART;VALUE=DATE:20260713
DTEND;VALUE=DATE:20260714
DTSTAMP:20260422T150337
CREATED:20260306T102502Z
LAST-MODIFIED:20260306T103054Z
UID:10006694-1783900800-1783987199@peranfood.com
SUMMARY:3
DESCRIPTION:Сніданок:Хешбраун з мусом із птиці та яйцем. \nПерекус 1:Чіа на банановому молоці з манго та маракуйя. \nОбід:Чкмерулі з кус-кусом. \nПерекус 2:Місо-суп з тофу та ламінаріями. \nВечеря:Салат Нісуаз з тунцем.
URL:https://peranfood.com/event/3/2026-07-13/
CATEGORIES:950 ккал
END:VEVENT
BEGIN:VEVENT
DTSTART;VALUE=DATE:20260804
DTEND;VALUE=DATE:20260805
DTSTAMP:20260422T150337
CREATED:20260306T102502Z
LAST-MODIFIED:20260306T103054Z
UID:10006695-1785801600-1785887999@peranfood.com
SUMMARY:3
DESCRIPTION:Сніданок:Хешбраун з мусом із птиці та яйцем. \nПерекус 1:Чіа на банановому молоці з манго та маракуйя. \nОбід:Чкмерулі з кус-кусом. \nПерекус 2:Місо-суп з тофу та ламінаріями. \nВечеря:Салат Нісуаз з тунцем.
URL:https://peranfood.com/event/3/2026-08-04/
CATEGORIES:950 ккал
END:VEVENT
BEGIN:VEVENT
DTSTART;VALUE=DATE:20260826
DTEND;VALUE=DATE:20260827
DTSTAMP:20260422T150337
CREATED:20260306T102502Z
LAST-MODIFIED:20260306T103054Z
UID:10006696-1787702400-1787788799@peranfood.com
SUMMARY:3
DESCRIPTION:Сніданок:Хешбраун з мусом із птиці та яйцем. \nПерекус 1:Чіа на банановому молоці з манго та маракуйя. \nОбід:Чкмерулі з кус-кусом. \nПерекус 2:Місо-суп з тофу та ламінаріями. \nВечеря:Салат Нісуаз з тунцем.
URL:https://peranfood.com/event/3/2026-08-26/
CATEGORIES:950 ккал
END:VEVENT
BEGIN:VEVENT
DTSTART;VALUE=DATE:20260917
DTEND;VALUE=DATE:20260918
DTSTAMP:20260422T150337
CREATED:20260306T102502Z
LAST-MODIFIED:20260306T103054Z
UID:10006697-1789603200-1789689599@peranfood.com
SUMMARY:3
DESCRIPTION:Сніданок:Хешбраун з мусом із птиці та яйцем. \nПерекус 1:Чіа на банановому молоці з манго та маракуйя. \nОбід:Чкмерулі з кус-кусом. \nПерекус 2:Місо-суп з тофу та ламінаріями. \nВечеря:Салат Нісуаз з тунцем.
URL:https://peranfood.com/event/3/2026-09-17/
CATEGORIES:950 ккал
END:VEVENT
BEGIN:VEVENT
DTSTART;VALUE=DATE:20261009
DTEND;VALUE=DATE:20261010
DTSTAMP:20260422T150337
CREATED:20260306T102502Z
LAST-MODIFIED:20260306T103054Z
UID:10006698-1791504000-1791590399@peranfood.com
SUMMARY:3
DESCRIPTION:Сніданок:Хешбраун з мусом із птиці та яйцем. \nПерекус 1:Чіа на банановому молоці з манго та маракуйя. \nОбід:Чкмерулі з кус-кусом. \nПерекус 2:Місо-суп з тофу та ламінаріями. \nВечеря:Салат Нісуаз з тунцем.
URL:https://peranfood.com/event/3/2026-10-09/
CATEGORIES:950 ккал
END:VEVENT
BEGIN:VEVENT
DTSTART;VALUE=DATE:20261031
DTEND;VALUE=DATE:20261101
DTSTAMP:20260422T150337
CREATED:20260306T102502Z
LAST-MODIFIED:20260306T103054Z
UID:10006699-1793404800-1793491199@peranfood.com
SUMMARY:3
DESCRIPTION:Сніданок:Хешбраун з мусом із птиці та яйцем. \nПерекус 1:Чіа на банановому молоці з манго та маракуйя. \nОбід:Чкмерулі з кус-кусом. \nПерекус 2:Місо-суп з тофу та ламінаріями. \nВечеря:Салат Нісуаз з тунцем.
URL:https://peranfood.com/event/3/2026-10-31/
CATEGORIES:950 ккал
END:VEVENT
BEGIN:VEVENT
DTSTART;VALUE=DATE:20261122
DTEND;VALUE=DATE:20261123
DTSTAMP:20260422T150337
CREATED:20260306T102502Z
LAST-MODIFIED:20260306T103054Z
UID:10006700-1795305600-1795391999@peranfood.com
SUMMARY:3
DESCRIPTION:Сніданок:Хешбраун з мусом із птиці та яйцем. \nПерекус 1:Чіа на банановому молоці з манго та маракуйя. \nОбід:Чкмерулі з кус-кусом. \nПерекус 2:Місо-суп з тофу та ламінаріями. \nВечеря:Салат Нісуаз з тунцем.
URL:https://peranfood.com/event/3/2026-11-22/
CATEGORIES:950 ккал
END:VEVENT
BEGIN:VEVENT
DTSTART;VALUE=DATE:20261214
DTEND;VALUE=DATE:20261215
DTSTAMP:20260422T150337
CREATED:20260306T102502Z
LAST-MODIFIED:20260306T103054Z
UID:10006701-1797206400-1797292799@peranfood.com
SUMMARY:3
DESCRIPTION:Сніданок:Хешбраун з мусом із птиці та яйцем. \nПерекус 1:Чіа на банановому молоці з манго та маракуйя. \nОбід:Чкмерулі з кус-кусом. \nПерекус 2:Місо-суп з тофу та ламінаріями. \nВечеря:Салат Нісуаз з тунцем.
URL:https://peranfood.com/event/3/2026-12-14/
CATEGORIES:950 ккал
END:VEVENT
BEGIN:VEVENT
DTSTART;VALUE=DATE:20270105
DTEND;VALUE=DATE:20270106
DTSTAMP:20260422T150337
CREATED:20260306T102502Z
LAST-MODIFIED:20260306T103054Z
UID:10006702-1799107200-1799193599@peranfood.com
SUMMARY:3
DESCRIPTION:Сніданок:Хешбраун з мусом із птиці та яйцем. \nПерекус 1:Чіа на банановому молоці з манго та маракуйя. \nОбід:Чкмерулі з кус-кусом. \nПерекус 2:Місо-суп з тофу та ламінаріями. \nВечеря:Салат Нісуаз з тунцем.
URL:https://peranfood.com/event/3/2027-01-05/
CATEGORIES:950 ккал
END:VEVENT
BEGIN:VEVENT
DTSTART;VALUE=DATE:20270127
DTEND;VALUE=DATE:20270128
DTSTAMP:20260422T150337
CREATED:20260306T102502Z
LAST-MODIFIED:20260306T103054Z
UID:10006703-1801008000-1801094399@peranfood.com
SUMMARY:3
DESCRIPTION:Сніданок:Хешбраун з мусом із птиці та яйцем. \nПерекус 1:Чіа на банановому молоці з манго та маракуйя. \nОбід:Чкмерулі з кус-кусом. \nПерекус 2:Місо-суп з тофу та ламінаріями. \nВечеря:Салат Нісуаз з тунцем.
URL:https://peranfood.com/event/3/2027-01-27/
CATEGORIES:950 ккал
END:VEVENT
BEGIN:VEVENT
DTSTART;VALUE=DATE:20270218
DTEND;VALUE=DATE:20270219
DTSTAMP:20260422T150337
CREATED:20260306T102502Z
LAST-MODIFIED:20260306T103054Z
UID:10006704-1802908800-1802995199@peranfood.com
SUMMARY:3
DESCRIPTION:Сніданок:Хешбраун з мусом із птиці та яйцем. \nПерекус 1:Чіа на банановому молоці з манго та маракуйя. \nОбід:Чкмерулі з кус-кусом. \nПерекус 2:Місо-суп з тофу та ламінаріями. \nВечеря:Салат Нісуаз з тунцем.
URL:https://peranfood.com/event/3/2027-02-18/
CATEGORIES:950 ккал
END:VEVENT
BEGIN:VEVENT
DTSTART;VALUE=DATE:20270312
DTEND;VALUE=DATE:20270313
DTSTAMP:20260422T150337
CREATED:20260306T102502Z
LAST-MODIFIED:20260306T103054Z
UID:10006705-1804809600-1804895999@peranfood.com
SUMMARY:3
DESCRIPTION:Сніданок:Хешбраун з мусом із птиці та яйцем. \nПерекус 1:Чіа на банановому молоці з манго та маракуйя. \nОбід:Чкмерулі з кус-кусом. \nПерекус 2:Місо-суп з тофу та ламінаріями. \nВечеря:Салат Нісуаз з тунцем.
URL:https://peranfood.com/event/3/2027-03-12/
CATEGORIES:950 ккал
END:VEVENT
BEGIN:VEVENT
DTSTART;VALUE=DATE:20270403
DTEND;VALUE=DATE:20270404
DTSTAMP:20260422T150337
CREATED:20260306T102502Z
LAST-MODIFIED:20260306T103054Z
UID:10006706-1806710400-1806796799@peranfood.com
SUMMARY:3
DESCRIPTION:Сніданок:Хешбраун з мусом із птиці та яйцем. \nПерекус 1:Чіа на банановому молоці з манго та маракуйя. \nОбід:Чкмерулі з кус-кусом. \nПерекус 2:Місо-суп з тофу та ламінаріями. \nВечеря:Салат Нісуаз з тунцем.
URL:https://peranfood.com/event/3/2027-04-03/
CATEGORIES:950 ккал
END:VEVENT
BEGIN:VEVENT
DTSTART;VALUE=DATE:20270425
DTEND;VALUE=DATE:20270426
DTSTAMP:20260422T150337
CREATED:20260306T102502Z
LAST-MODIFIED:20260306T103054Z
UID:10006707-1808611200-1808697599@peranfood.com
SUMMARY:3
DESCRIPTION:Сніданок:Хешбраун з мусом із птиці та яйцем. \nПерекус 1:Чіа на банановому молоці з манго та маракуйя. \nОбід:Чкмерулі з кус-кусом. \nПерекус 2:Місо-суп з тофу та ламінаріями. \nВечеря:Салат Нісуаз з тунцем.
URL:https://peranfood.com/event/3/2027-04-25/
CATEGORIES:950 ккал
END:VEVENT
BEGIN:VEVENT
DTSTART;VALUE=DATE:20270517
DTEND;VALUE=DATE:20270518
DTSTAMP:20260422T150337
CREATED:20260306T102502Z
LAST-MODIFIED:20260306T103054Z
UID:10006708-1810512000-1810598399@peranfood.com
SUMMARY:3
DESCRIPTION:Сніданок:Хешбраун з мусом із птиці та яйцем. \nПерекус 1:Чіа на банановому молоці з манго та маракуйя. \nОбід:Чкмерулі з кус-кусом. \nПерекус 2:Місо-суп з тофу та ламінаріями. \nВечеря:Салат Нісуаз з тунцем.
URL:https://peranfood.com/event/3/2027-05-17/
CATEGORIES:950 ккал
END:VEVENT
BEGIN:VEVENT
DTSTART;VALUE=DATE:20270608
DTEND;VALUE=DATE:20270609
DTSTAMP:20260422T150337
CREATED:20260306T102502Z
LAST-MODIFIED:20260306T103054Z
UID:10006709-1812412800-1812499199@peranfood.com
SUMMARY:3
DESCRIPTION:Сніданок:Хешбраун з мусом із птиці та яйцем. \nПерекус 1:Чіа на банановому молоці з манго та маракуйя. \nОбід:Чкмерулі з кус-кусом. \nПерекус 2:Місо-суп з тофу та ламінаріями. \nВечеря:Салат Нісуаз з тунцем.
URL:https://peranfood.com/event/3/2027-06-08/
CATEGORIES:950 ккал
END:VEVENT
BEGIN:VEVENT
DTSTART;VALUE=DATE:20270630
DTEND;VALUE=DATE:20270701
DTSTAMP:20260422T150337
CREATED:20260306T102502Z
LAST-MODIFIED:20260306T103054Z
UID:10006710-1814313600-1814399999@peranfood.com
SUMMARY:3
DESCRIPTION:Сніданок:Хешбраун з мусом із птиці та яйцем. \nПерекус 1:Чіа на банановому молоці з манго та маракуйя. \nОбід:Чкмерулі з кус-кусом. \nПерекус 2:Місо-суп з тофу та ламінаріями. \nВечеря:Салат Нісуаз з тунцем.
URL:https://peranfood.com/event/3/2027-06-30/
CATEGORIES:950 ккал
END:VEVENT
BEGIN:VEVENT
DTSTART;VALUE=DATE:20270722
DTEND;VALUE=DATE:20270723
DTSTAMP:20260422T150337
CREATED:20260306T102502Z
LAST-MODIFIED:20260306T103054Z
UID:10006711-1816214400-1816300799@peranfood.com
SUMMARY:3
DESCRIPTION:Сніданок:Хешбраун з мусом із птиці та яйцем. \nПерекус 1:Чіа на банановому молоці з манго та маракуйя. \nОбід:Чкмерулі з кус-кусом. \nПерекус 2:Місо-суп з тофу та ламінаріями. \nВечеря:Салат Нісуаз з тунцем.
URL:https://peranfood.com/event/3/2027-07-22/
CATEGORIES:950 ккал
END:VEVENT
BEGIN:VEVENT
DTSTART;VALUE=DATE:20270813
DTEND;VALUE=DATE:20270814
DTSTAMP:20260422T150337
CREATED:20260306T102502Z
LAST-MODIFIED:20260306T103054Z
UID:10006712-1818115200-1818201599@peranfood.com
SUMMARY:3
DESCRIPTION:Сніданок:Хешбраун з мусом із птиці та яйцем. \nПерекус 1:Чіа на банановому молоці з манго та маракуйя. \nОбід:Чкмерулі з кус-кусом. \nПерекус 2:Місо-суп з тофу та ламінаріями. \nВечеря:Салат Нісуаз з тунцем.
URL:https://peranfood.com/event/3/2027-08-13/
CATEGORIES:950 ккал
END:VEVENT
BEGIN:VEVENT
DTSTART;VALUE=DATE:20270904
DTEND;VALUE=DATE:20270905
DTSTAMP:20260422T150337
CREATED:20260306T102502Z
LAST-MODIFIED:20260306T103054Z
UID:10006713-1820016000-1820102399@peranfood.com
SUMMARY:3
DESCRIPTION:Сніданок:Хешбраун з мусом із птиці та яйцем. \nПерекус 1:Чіа на банановому молоці з манго та маракуйя. \nОбід:Чкмерулі з кус-кусом. \nПерекус 2:Місо-суп з тофу та ламінаріями. \nВечеря:Салат Нісуаз з тунцем.
URL:https://peranfood.com/event/3/2027-09-04/
CATEGORIES:950 ккал
END:VEVENT
BEGIN:VEVENT
DTSTART;VALUE=DATE:20270926
DTEND;VALUE=DATE:20270927
DTSTAMP:20260422T150337
CREATED:20260306T102502Z
LAST-MODIFIED:20260306T103054Z
UID:10006714-1821916800-1822003199@peranfood.com
SUMMARY:3
DESCRIPTION:Сніданок:Хешбраун з мусом із птиці та яйцем. \nПерекус 1:Чіа на банановому молоці з манго та маракуйя. \nОбід:Чкмерулі з кус-кусом. \nПерекус 2:Місо-суп з тофу та ламінаріями. \nВечеря:Салат Нісуаз з тунцем.
URL:https://peranfood.com/event/3/2027-09-26/
CATEGORIES:950 ккал
END:VEVENT
BEGIN:VEVENT
DTSTART;VALUE=DATE:20271018
DTEND;VALUE=DATE:20271019
DTSTAMP:20260422T150337
CREATED:20260306T102502Z
LAST-MODIFIED:20260306T103054Z
UID:10006715-1823817600-1823903999@peranfood.com
SUMMARY:3
DESCRIPTION:Сніданок:Хешбраун з мусом із птиці та яйцем. \nПерекус 1:Чіа на банановому молоці з манго та маракуйя. \nОбід:Чкмерулі з кус-кусом. \nПерекус 2:Місо-суп з тофу та ламінаріями. \nВечеря:Салат Нісуаз з тунцем.
URL:https://peranfood.com/event/3/2027-10-18/
CATEGORIES:950 ккал
END:VEVENT
BEGIN:VEVENT
DTSTART;VALUE=DATE:20271109
DTEND;VALUE=DATE:20271110
DTSTAMP:20260422T150337
CREATED:20260306T102502Z
LAST-MODIFIED:20260306T103054Z
UID:10006716-1825718400-1825804799@peranfood.com
SUMMARY:3
DESCRIPTION:Сніданок:Хешбраун з мусом із птиці та яйцем. \nПерекус 1:Чіа на банановому молоці з манго та маракуйя. \nОбід:Чкмерулі з кус-кусом. \nПерекус 2:Місо-суп з тофу та ламінаріями. \nВечеря:Салат Нісуаз з тунцем.
URL:https://peranfood.com/event/3/2027-11-09/
CATEGORIES:950 ккал
END:VEVENT
BEGIN:VEVENT
DTSTART;VALUE=DATE:20271201
DTEND;VALUE=DATE:20271202
DTSTAMP:20260422T150337
CREATED:20260306T102502Z
LAST-MODIFIED:20260306T103054Z
UID:10006717-1827619200-1827705599@peranfood.com
SUMMARY:3
DESCRIPTION:Сніданок:Хешбраун з мусом із птиці та яйцем. \nПерекус 1:Чіа на банановому молоці з манго та маракуйя. \nОбід:Чкмерулі з кус-кусом. \nПерекус 2:Місо-суп з тофу та ламінаріями. \nВечеря:Салат Нісуаз з тунцем.
URL:https://peranfood.com/event/3/2027-12-01/
CATEGORIES:950 ккал
END:VEVENT
BEGIN:VEVENT
DTSTART;VALUE=DATE:20271223
DTEND;VALUE=DATE:20271224
DTSTAMP:20260422T150337
CREATED:20260306T102502Z
LAST-MODIFIED:20260306T103054Z
UID:10006718-1829520000-1829606399@peranfood.com
SUMMARY:3
DESCRIPTION:Сніданок:Хешбраун з мусом із птиці та яйцем. \nПерекус 1:Чіа на банановому молоці з манго та маракуйя. \nОбід:Чкмерулі з кус-кусом. \nПерекус 2:Місо-суп з тофу та ламінаріями. \nВечеря:Салат Нісуаз з тунцем.
URL:https://peranfood.com/event/3/2027-12-23/
CATEGORIES:950 ккал
END:VEVENT
BEGIN:VEVENT
DTSTART;VALUE=DATE:20280114
DTEND;VALUE=DATE:20280115
DTSTAMP:20260422T150337
CREATED:20260306T102502Z
LAST-MODIFIED:20260306T103054Z
UID:10006719-1831420800-1831507199@peranfood.com
SUMMARY:3
DESCRIPTION:Сніданок:Хешбраун з мусом із птиці та яйцем. \nПерекус 1:Чіа на банановому молоці з манго та маракуйя. \nОбід:Чкмерулі з кус-кусом. \nПерекус 2:Місо-суп з тофу та ламінаріями. \nВечеря:Салат Нісуаз з тунцем.
URL:https://peranfood.com/event/3/2028-01-14/
CATEGORIES:950 ккал
END:VEVENT
BEGIN:VEVENT
DTSTART;VALUE=DATE:20280205
DTEND;VALUE=DATE:20280206
DTSTAMP:20260422T150337
CREATED:20260306T102502Z
LAST-MODIFIED:20260306T103054Z
UID:10006720-1833321600-1833407999@peranfood.com
SUMMARY:3
DESCRIPTION:Сніданок:Хешбраун з мусом із птиці та яйцем. \nПерекус 1:Чіа на банановому молоці з манго та маракуйя. \nОбід:Чкмерулі з кус-кусом. \nПерекус 2:Місо-суп з тофу та ламінаріями. \nВечеря:Салат Нісуаз з тунцем.
URL:https://peranfood.com/event/3/2028-02-05/
CATEGORIES:950 ккал
END:VEVENT
END:VCALENDAR