BEGIN:VCALENDAR
VERSION:2.0
PRODID:-//Peranfood - доставка здорового харчування - ECPv6.15.18//NONSGML v1.0//EN
CALSCALE:GREGORIAN
METHOD:PUBLISH
X-WR-CALNAME:Peranfood - доставка здорового харчування
X-ORIGINAL-URL:https://peranfood.com
X-WR-CALDESC:Події за Peranfood - доставка здорового харчування
REFRESH-INTERVAL;VALUE=DURATION:PT1H
X-Robots-Tag:noindex
X-PUBLISHED-TTL:PT1H
BEGIN:VTIMEZONE
TZID:Europe/Kiev
BEGIN:DAYLIGHT
TZOFFSETFROM:+0200
TZOFFSETTO:+0300
TZNAME:EEST
DTSTART:20250330T010000
END:DAYLIGHT
BEGIN:STANDARD
TZOFFSETFROM:+0300
TZOFFSETTO:+0200
TZNAME:EET
DTSTART:20251026T010000
END:STANDARD
BEGIN:DAYLIGHT
TZOFFSETFROM:+0200
TZOFFSETTO:+0300
TZNAME:EEST
DTSTART:20260329T010000
END:DAYLIGHT
BEGIN:STANDARD
TZOFFSETFROM:+0300
TZOFFSETTO:+0200
TZNAME:EET
DTSTART:20261025T010000
END:STANDARD
BEGIN:DAYLIGHT
TZOFFSETFROM:+0200
TZOFFSETTO:+0300
TZNAME:EEST
DTSTART:20270328T010000
END:DAYLIGHT
BEGIN:STANDARD
TZOFFSETFROM:+0300
TZOFFSETTO:+0200
TZNAME:EET
DTSTART:20271031T010000
END:STANDARD
BEGIN:DAYLIGHT
TZOFFSETFROM:+0200
TZOFFSETTO:+0300
TZNAME:EEST
DTSTART:20280326T010000
END:DAYLIGHT
BEGIN:STANDARD
TZOFFSETFROM:+0300
TZOFFSETTO:+0200
TZNAME:EET
DTSTART:20281029T010000
END:STANDARD
BEGIN:DAYLIGHT
TZOFFSETFROM:+0200
TZOFFSETTO:+0300
TZNAME:EEST
DTSTART:20290325T010000
END:DAYLIGHT
BEGIN:STANDARD
TZOFFSETFROM:+0300
TZOFFSETTO:+0200
TZNAME:EET
DTSTART:20291028T010000
END:STANDARD
END:VTIMEZONE
BEGIN:VEVENT
DTSTART;VALUE=DATE:20260507
DTEND;VALUE=DATE:20260508
DTSTAMP:20260422T151047
CREATED:20260306T102502Z
LAST-MODIFIED:20260306T103032Z
UID:10006608-1778112000-1778198399@peranfood.com
SUMMARY:2
DESCRIPTION:Сніданок:Запечені сирники з лісовою ягодою. \nПерекус 1:Салат зі свіжих овочів з сиром Брі. \nОбід:Лазанья з індичкою та грибами. \nПерекус 2:Чай мате з фруктами та печивом Кантучіні. \nВечеря:Запечені ковбаски з тушкованою капустою.
URL:https://peranfood.com/event/2/2026-05-07/
CATEGORIES:950 ккал
END:VEVENT
BEGIN:VEVENT
DTSTART;VALUE=DATE:20260529
DTEND;VALUE=DATE:20260530
DTSTAMP:20260422T151047
CREATED:20260306T102502Z
LAST-MODIFIED:20260306T103032Z
UID:10006609-1780012800-1780099199@peranfood.com
SUMMARY:2
DESCRIPTION:Сніданок:Запечені сирники з лісовою ягодою. \nПерекус 1:Салат зі свіжих овочів з сиром Брі. \nОбід:Лазанья з індичкою та грибами. \nПерекус 2:Чай мате з фруктами та печивом Кантучіні. \nВечеря:Запечені ковбаски з тушкованою капустою.
URL:https://peranfood.com/event/2/2026-05-29/
CATEGORIES:950 ккал
END:VEVENT
BEGIN:VEVENT
DTSTART;VALUE=DATE:20260620
DTEND;VALUE=DATE:20260621
DTSTAMP:20260422T151047
CREATED:20260306T102502Z
LAST-MODIFIED:20260306T103032Z
UID:10006610-1781913600-1781999999@peranfood.com
SUMMARY:2
DESCRIPTION:Сніданок:Запечені сирники з лісовою ягодою. \nПерекус 1:Салат зі свіжих овочів з сиром Брі. \nОбід:Лазанья з індичкою та грибами. \nПерекус 2:Чай мате з фруктами та печивом Кантучіні. \nВечеря:Запечені ковбаски з тушкованою капустою.
URL:https://peranfood.com/event/2/2026-06-20/
CATEGORIES:950 ккал
END:VEVENT
BEGIN:VEVENT
DTSTART;VALUE=DATE:20260712
DTEND;VALUE=DATE:20260713
DTSTAMP:20260422T151047
CREATED:20260306T102502Z
LAST-MODIFIED:20260306T103032Z
UID:10006611-1783814400-1783900799@peranfood.com
SUMMARY:2
DESCRIPTION:Сніданок:Запечені сирники з лісовою ягодою. \nПерекус 1:Салат зі свіжих овочів з сиром Брі. \nОбід:Лазанья з індичкою та грибами. \nПерекус 2:Чай мате з фруктами та печивом Кантучіні. \nВечеря:Запечені ковбаски з тушкованою капустою.
URL:https://peranfood.com/event/2/2026-07-12/
CATEGORIES:950 ккал
END:VEVENT
BEGIN:VEVENT
DTSTART;VALUE=DATE:20260803
DTEND;VALUE=DATE:20260804
DTSTAMP:20260422T151047
CREATED:20260306T102502Z
LAST-MODIFIED:20260306T103032Z
UID:10006612-1785715200-1785801599@peranfood.com
SUMMARY:2
DESCRIPTION:Сніданок:Запечені сирники з лісовою ягодою. \nПерекус 1:Салат зі свіжих овочів з сиром Брі. \nОбід:Лазанья з індичкою та грибами. \nПерекус 2:Чай мате з фруктами та печивом Кантучіні. \nВечеря:Запечені ковбаски з тушкованою капустою.
URL:https://peranfood.com/event/2/2026-08-03/
CATEGORIES:950 ккал
END:VEVENT
BEGIN:VEVENT
DTSTART;VALUE=DATE:20260825
DTEND;VALUE=DATE:20260826
DTSTAMP:20260422T151047
CREATED:20260306T102502Z
LAST-MODIFIED:20260306T103032Z
UID:10006613-1787616000-1787702399@peranfood.com
SUMMARY:2
DESCRIPTION:Сніданок:Запечені сирники з лісовою ягодою. \nПерекус 1:Салат зі свіжих овочів з сиром Брі. \nОбід:Лазанья з індичкою та грибами. \nПерекус 2:Чай мате з фруктами та печивом Кантучіні. \nВечеря:Запечені ковбаски з тушкованою капустою.
URL:https://peranfood.com/event/2/2026-08-25/
CATEGORIES:950 ккал
END:VEVENT
BEGIN:VEVENT
DTSTART;VALUE=DATE:20260916
DTEND;VALUE=DATE:20260917
DTSTAMP:20260422T151047
CREATED:20260306T102502Z
LAST-MODIFIED:20260306T103032Z
UID:10006614-1789516800-1789603199@peranfood.com
SUMMARY:2
DESCRIPTION:Сніданок:Запечені сирники з лісовою ягодою. \nПерекус 1:Салат зі свіжих овочів з сиром Брі. \nОбід:Лазанья з індичкою та грибами. \nПерекус 2:Чай мате з фруктами та печивом Кантучіні. \nВечеря:Запечені ковбаски з тушкованою капустою.
URL:https://peranfood.com/event/2/2026-09-16/
CATEGORIES:950 ккал
END:VEVENT
BEGIN:VEVENT
DTSTART;VALUE=DATE:20261008
DTEND;VALUE=DATE:20261009
DTSTAMP:20260422T151047
CREATED:20260306T102502Z
LAST-MODIFIED:20260306T103032Z
UID:10006615-1791417600-1791503999@peranfood.com
SUMMARY:2
DESCRIPTION:Сніданок:Запечені сирники з лісовою ягодою. \nПерекус 1:Салат зі свіжих овочів з сиром Брі. \nОбід:Лазанья з індичкою та грибами. \nПерекус 2:Чай мате з фруктами та печивом Кантучіні. \nВечеря:Запечені ковбаски з тушкованою капустою.
URL:https://peranfood.com/event/2/2026-10-08/
CATEGORIES:950 ккал
END:VEVENT
BEGIN:VEVENT
DTSTART;VALUE=DATE:20261030
DTEND;VALUE=DATE:20261031
DTSTAMP:20260422T151047
CREATED:20260306T102502Z
LAST-MODIFIED:20260306T103032Z
UID:10006616-1793318400-1793404799@peranfood.com
SUMMARY:2
DESCRIPTION:Сніданок:Запечені сирники з лісовою ягодою. \nПерекус 1:Салат зі свіжих овочів з сиром Брі. \nОбід:Лазанья з індичкою та грибами. \nПерекус 2:Чай мате з фруктами та печивом Кантучіні. \nВечеря:Запечені ковбаски з тушкованою капустою.
URL:https://peranfood.com/event/2/2026-10-30/
CATEGORIES:950 ккал
END:VEVENT
BEGIN:VEVENT
DTSTART;VALUE=DATE:20261121
DTEND;VALUE=DATE:20261122
DTSTAMP:20260422T151047
CREATED:20260306T102502Z
LAST-MODIFIED:20260306T103032Z
UID:10006617-1795219200-1795305599@peranfood.com
SUMMARY:2
DESCRIPTION:Сніданок:Запечені сирники з лісовою ягодою. \nПерекус 1:Салат зі свіжих овочів з сиром Брі. \nОбід:Лазанья з індичкою та грибами. \nПерекус 2:Чай мате з фруктами та печивом Кантучіні. \nВечеря:Запечені ковбаски з тушкованою капустою.
URL:https://peranfood.com/event/2/2026-11-21/
CATEGORIES:950 ккал
END:VEVENT
BEGIN:VEVENT
DTSTART;VALUE=DATE:20261213
DTEND;VALUE=DATE:20261214
DTSTAMP:20260422T151047
CREATED:20260306T102502Z
LAST-MODIFIED:20260306T103032Z
UID:10006618-1797120000-1797206399@peranfood.com
SUMMARY:2
DESCRIPTION:Сніданок:Запечені сирники з лісовою ягодою. \nПерекус 1:Салат зі свіжих овочів з сиром Брі. \nОбід:Лазанья з індичкою та грибами. \nПерекус 2:Чай мате з фруктами та печивом Кантучіні. \nВечеря:Запечені ковбаски з тушкованою капустою.
URL:https://peranfood.com/event/2/2026-12-13/
CATEGORIES:950 ккал
END:VEVENT
BEGIN:VEVENT
DTSTART;VALUE=DATE:20270104
DTEND;VALUE=DATE:20270105
DTSTAMP:20260422T151047
CREATED:20260306T102502Z
LAST-MODIFIED:20260306T103032Z
UID:10006619-1799020800-1799107199@peranfood.com
SUMMARY:2
DESCRIPTION:Сніданок:Запечені сирники з лісовою ягодою. \nПерекус 1:Салат зі свіжих овочів з сиром Брі. \nОбід:Лазанья з індичкою та грибами. \nПерекус 2:Чай мате з фруктами та печивом Кантучіні. \nВечеря:Запечені ковбаски з тушкованою капустою.
URL:https://peranfood.com/event/2/2027-01-04/
CATEGORIES:950 ккал
END:VEVENT
BEGIN:VEVENT
DTSTART;VALUE=DATE:20270126
DTEND;VALUE=DATE:20270127
DTSTAMP:20260422T151047
CREATED:20260306T102502Z
LAST-MODIFIED:20260306T103032Z
UID:10006620-1800921600-1801007999@peranfood.com
SUMMARY:2
DESCRIPTION:Сніданок:Запечені сирники з лісовою ягодою. \nПерекус 1:Салат зі свіжих овочів з сиром Брі. \nОбід:Лазанья з індичкою та грибами. \nПерекус 2:Чай мате з фруктами та печивом Кантучіні. \nВечеря:Запечені ковбаски з тушкованою капустою.
URL:https://peranfood.com/event/2/2027-01-26/
CATEGORIES:950 ккал
END:VEVENT
BEGIN:VEVENT
DTSTART;VALUE=DATE:20270217
DTEND;VALUE=DATE:20270218
DTSTAMP:20260422T151047
CREATED:20260306T102502Z
LAST-MODIFIED:20260306T103032Z
UID:10006621-1802822400-1802908799@peranfood.com
SUMMARY:2
DESCRIPTION:Сніданок:Запечені сирники з лісовою ягодою. \nПерекус 1:Салат зі свіжих овочів з сиром Брі. \nОбід:Лазанья з індичкою та грибами. \nПерекус 2:Чай мате з фруктами та печивом Кантучіні. \nВечеря:Запечені ковбаски з тушкованою капустою.
URL:https://peranfood.com/event/2/2027-02-17/
CATEGORIES:950 ккал
END:VEVENT
BEGIN:VEVENT
DTSTART;VALUE=DATE:20270311
DTEND;VALUE=DATE:20270312
DTSTAMP:20260422T151047
CREATED:20260306T102502Z
LAST-MODIFIED:20260306T103032Z
UID:10006622-1804723200-1804809599@peranfood.com
SUMMARY:2
DESCRIPTION:Сніданок:Запечені сирники з лісовою ягодою. \nПерекус 1:Салат зі свіжих овочів з сиром Брі. \nОбід:Лазанья з індичкою та грибами. \nПерекус 2:Чай мате з фруктами та печивом Кантучіні. \nВечеря:Запечені ковбаски з тушкованою капустою.
URL:https://peranfood.com/event/2/2027-03-11/
CATEGORIES:950 ккал
END:VEVENT
BEGIN:VEVENT
DTSTART;VALUE=DATE:20270402
DTEND;VALUE=DATE:20270403
DTSTAMP:20260422T151047
CREATED:20260306T102502Z
LAST-MODIFIED:20260306T103032Z
UID:10006623-1806624000-1806710399@peranfood.com
SUMMARY:2
DESCRIPTION:Сніданок:Запечені сирники з лісовою ягодою. \nПерекус 1:Салат зі свіжих овочів з сиром Брі. \nОбід:Лазанья з індичкою та грибами. \nПерекус 2:Чай мате з фруктами та печивом Кантучіні. \nВечеря:Запечені ковбаски з тушкованою капустою.
URL:https://peranfood.com/event/2/2027-04-02/
CATEGORIES:950 ккал
END:VEVENT
BEGIN:VEVENT
DTSTART;VALUE=DATE:20270424
DTEND;VALUE=DATE:20270425
DTSTAMP:20260422T151047
CREATED:20260306T102502Z
LAST-MODIFIED:20260306T103032Z
UID:10006624-1808524800-1808611199@peranfood.com
SUMMARY:2
DESCRIPTION:Сніданок:Запечені сирники з лісовою ягодою. \nПерекус 1:Салат зі свіжих овочів з сиром Брі. \nОбід:Лазанья з індичкою та грибами. \nПерекус 2:Чай мате з фруктами та печивом Кантучіні. \nВечеря:Запечені ковбаски з тушкованою капустою.
URL:https://peranfood.com/event/2/2027-04-24/
CATEGORIES:950 ккал
END:VEVENT
BEGIN:VEVENT
DTSTART;VALUE=DATE:20270516
DTEND;VALUE=DATE:20270517
DTSTAMP:20260422T151047
CREATED:20260306T102502Z
LAST-MODIFIED:20260306T103032Z
UID:10006625-1810425600-1810511999@peranfood.com
SUMMARY:2
DESCRIPTION:Сніданок:Запечені сирники з лісовою ягодою. \nПерекус 1:Салат зі свіжих овочів з сиром Брі. \nОбід:Лазанья з індичкою та грибами. \nПерекус 2:Чай мате з фруктами та печивом Кантучіні. \nВечеря:Запечені ковбаски з тушкованою капустою.
URL:https://peranfood.com/event/2/2027-05-16/
CATEGORIES:950 ккал
END:VEVENT
BEGIN:VEVENT
DTSTART;VALUE=DATE:20270607
DTEND;VALUE=DATE:20270608
DTSTAMP:20260422T151047
CREATED:20260306T102502Z
LAST-MODIFIED:20260306T103032Z
UID:10006626-1812326400-1812412799@peranfood.com
SUMMARY:2
DESCRIPTION:Сніданок:Запечені сирники з лісовою ягодою. \nПерекус 1:Салат зі свіжих овочів з сиром Брі. \nОбід:Лазанья з індичкою та грибами. \nПерекус 2:Чай мате з фруктами та печивом Кантучіні. \nВечеря:Запечені ковбаски з тушкованою капустою.
URL:https://peranfood.com/event/2/2027-06-07/
CATEGORIES:950 ккал
END:VEVENT
BEGIN:VEVENT
DTSTART;VALUE=DATE:20270629
DTEND;VALUE=DATE:20270630
DTSTAMP:20260422T151047
CREATED:20260306T102502Z
LAST-MODIFIED:20260306T103032Z
UID:10006627-1814227200-1814313599@peranfood.com
SUMMARY:2
DESCRIPTION:Сніданок:Запечені сирники з лісовою ягодою. \nПерекус 1:Салат зі свіжих овочів з сиром Брі. \nОбід:Лазанья з індичкою та грибами. \nПерекус 2:Чай мате з фруктами та печивом Кантучіні. \nВечеря:Запечені ковбаски з тушкованою капустою.
URL:https://peranfood.com/event/2/2027-06-29/
CATEGORIES:950 ккал
END:VEVENT
BEGIN:VEVENT
DTSTART;VALUE=DATE:20270721
DTEND;VALUE=DATE:20270722
DTSTAMP:20260422T151047
CREATED:20260306T102502Z
LAST-MODIFIED:20260306T103032Z
UID:10006628-1816128000-1816214399@peranfood.com
SUMMARY:2
DESCRIPTION:Сніданок:Запечені сирники з лісовою ягодою. \nПерекус 1:Салат зі свіжих овочів з сиром Брі. \nОбід:Лазанья з індичкою та грибами. \nПерекус 2:Чай мате з фруктами та печивом Кантучіні. \nВечеря:Запечені ковбаски з тушкованою капустою.
URL:https://peranfood.com/event/2/2027-07-21/
CATEGORIES:950 ккал
END:VEVENT
BEGIN:VEVENT
DTSTART;VALUE=DATE:20270812
DTEND;VALUE=DATE:20270813
DTSTAMP:20260422T151048
CREATED:20260306T102502Z
LAST-MODIFIED:20260306T103032Z
UID:10006629-1818028800-1818115199@peranfood.com
SUMMARY:2
DESCRIPTION:Сніданок:Запечені сирники з лісовою ягодою. \nПерекус 1:Салат зі свіжих овочів з сиром Брі. \nОбід:Лазанья з індичкою та грибами. \nПерекус 2:Чай мате з фруктами та печивом Кантучіні. \nВечеря:Запечені ковбаски з тушкованою капустою.
URL:https://peranfood.com/event/2/2027-08-12/
CATEGORIES:950 ккал
END:VEVENT
BEGIN:VEVENT
DTSTART;VALUE=DATE:20270903
DTEND;VALUE=DATE:20270904
DTSTAMP:20260422T151048
CREATED:20260306T102502Z
LAST-MODIFIED:20260306T103032Z
UID:10006630-1819929600-1820015999@peranfood.com
SUMMARY:2
DESCRIPTION:Сніданок:Запечені сирники з лісовою ягодою. \nПерекус 1:Салат зі свіжих овочів з сиром Брі. \nОбід:Лазанья з індичкою та грибами. \nПерекус 2:Чай мате з фруктами та печивом Кантучіні. \nВечеря:Запечені ковбаски з тушкованою капустою.
URL:https://peranfood.com/event/2/2027-09-03/
CATEGORIES:950 ккал
END:VEVENT
BEGIN:VEVENT
DTSTART;VALUE=DATE:20270925
DTEND;VALUE=DATE:20270926
DTSTAMP:20260422T151048
CREATED:20260306T102502Z
LAST-MODIFIED:20260306T103032Z
UID:10006631-1821830400-1821916799@peranfood.com
SUMMARY:2
DESCRIPTION:Сніданок:Запечені сирники з лісовою ягодою. \nПерекус 1:Салат зі свіжих овочів з сиром Брі. \nОбід:Лазанья з індичкою та грибами. \nПерекус 2:Чай мате з фруктами та печивом Кантучіні. \nВечеря:Запечені ковбаски з тушкованою капустою.
URL:https://peranfood.com/event/2/2027-09-25/
CATEGORIES:950 ккал
END:VEVENT
BEGIN:VEVENT
DTSTART;VALUE=DATE:20271017
DTEND;VALUE=DATE:20271018
DTSTAMP:20260422T151048
CREATED:20260306T102502Z
LAST-MODIFIED:20260306T103032Z
UID:10006632-1823731200-1823817599@peranfood.com
SUMMARY:2
DESCRIPTION:Сніданок:Запечені сирники з лісовою ягодою. \nПерекус 1:Салат зі свіжих овочів з сиром Брі. \nОбід:Лазанья з індичкою та грибами. \nПерекус 2:Чай мате з фруктами та печивом Кантучіні. \nВечеря:Запечені ковбаски з тушкованою капустою.
URL:https://peranfood.com/event/2/2027-10-17/
CATEGORIES:950 ккал
END:VEVENT
BEGIN:VEVENT
DTSTART;VALUE=DATE:20271108
DTEND;VALUE=DATE:20271109
DTSTAMP:20260422T151048
CREATED:20260306T102502Z
LAST-MODIFIED:20260306T103032Z
UID:10006633-1825632000-1825718399@peranfood.com
SUMMARY:2
DESCRIPTION:Сніданок:Запечені сирники з лісовою ягодою. \nПерекус 1:Салат зі свіжих овочів з сиром Брі. \nОбід:Лазанья з індичкою та грибами. \nПерекус 2:Чай мате з фруктами та печивом Кантучіні. \nВечеря:Запечені ковбаски з тушкованою капустою.
URL:https://peranfood.com/event/2/2027-11-08/
CATEGORIES:950 ккал
END:VEVENT
BEGIN:VEVENT
DTSTART;VALUE=DATE:20271130
DTEND;VALUE=DATE:20271201
DTSTAMP:20260422T151048
CREATED:20260306T102502Z
LAST-MODIFIED:20260306T103032Z
UID:10006634-1827532800-1827619199@peranfood.com
SUMMARY:2
DESCRIPTION:Сніданок:Запечені сирники з лісовою ягодою. \nПерекус 1:Салат зі свіжих овочів з сиром Брі. \nОбід:Лазанья з індичкою та грибами. \nПерекус 2:Чай мате з фруктами та печивом Кантучіні. \nВечеря:Запечені ковбаски з тушкованою капустою.
URL:https://peranfood.com/event/2/2027-11-30/
CATEGORIES:950 ккал
END:VEVENT
BEGIN:VEVENT
DTSTART;VALUE=DATE:20271222
DTEND;VALUE=DATE:20271223
DTSTAMP:20260422T151048
CREATED:20260306T102502Z
LAST-MODIFIED:20260306T103032Z
UID:10006635-1829433600-1829519999@peranfood.com
SUMMARY:2
DESCRIPTION:Сніданок:Запечені сирники з лісовою ягодою. \nПерекус 1:Салат зі свіжих овочів з сиром Брі. \nОбід:Лазанья з індичкою та грибами. \nПерекус 2:Чай мате з фруктами та печивом Кантучіні. \nВечеря:Запечені ковбаски з тушкованою капустою.
URL:https://peranfood.com/event/2/2027-12-22/
CATEGORIES:950 ккал
END:VEVENT
BEGIN:VEVENT
DTSTART;VALUE=DATE:20280113
DTEND;VALUE=DATE:20280114
DTSTAMP:20260422T151048
CREATED:20260306T102502Z
LAST-MODIFIED:20260306T103032Z
UID:10006636-1831334400-1831420799@peranfood.com
SUMMARY:2
DESCRIPTION:Сніданок:Запечені сирники з лісовою ягодою. \nПерекус 1:Салат зі свіжих овочів з сиром Брі. \nОбід:Лазанья з індичкою та грибами. \nПерекус 2:Чай мате з фруктами та печивом Кантучіні. \nВечеря:Запечені ковбаски з тушкованою капустою.
URL:https://peranfood.com/event/2/2028-01-13/
CATEGORIES:950 ккал
END:VEVENT
BEGIN:VEVENT
DTSTART;VALUE=DATE:20280204
DTEND;VALUE=DATE:20280205
DTSTAMP:20260422T151048
CREATED:20260306T102502Z
LAST-MODIFIED:20260306T103032Z
UID:10006637-1833235200-1833321599@peranfood.com
SUMMARY:2
DESCRIPTION:Сніданок:Запечені сирники з лісовою ягодою. \nПерекус 1:Салат зі свіжих овочів з сиром Брі. \nОбід:Лазанья з індичкою та грибами. \nПерекус 2:Чай мате з фруктами та печивом Кантучіні. \nВечеря:Запечені ковбаски з тушкованою капустою.
URL:https://peranfood.com/event/2/2028-02-04/
CATEGORIES:950 ккал
END:VEVENT
END:VCALENDAR