BEGIN:VCALENDAR
VERSION:2.0
PRODID:-//Peranfood - доставка здорового харчування - ECPv6.15.20//NONSGML v1.0//EN
CALSCALE:GREGORIAN
METHOD:PUBLISH
X-WR-CALNAME:Peranfood - доставка здорового харчування
X-ORIGINAL-URL:https://peranfood.com
X-WR-CALDESC:Події за Peranfood - доставка здорового харчування
REFRESH-INTERVAL;VALUE=DURATION:PT1H
X-Robots-Tag:noindex
X-PUBLISHED-TTL:PT1H
BEGIN:VTIMEZONE
TZID:Europe/Kiev
BEGIN:DAYLIGHT
TZOFFSETFROM:+0200
TZOFFSETTO:+0300
TZNAME:EEST
DTSTART:20250330T010000
END:DAYLIGHT
BEGIN:STANDARD
TZOFFSETFROM:+0300
TZOFFSETTO:+0200
TZNAME:EET
DTSTART:20251026T010000
END:STANDARD
BEGIN:DAYLIGHT
TZOFFSETFROM:+0200
TZOFFSETTO:+0300
TZNAME:EEST
DTSTART:20260329T010000
END:DAYLIGHT
BEGIN:STANDARD
TZOFFSETFROM:+0300
TZOFFSETTO:+0200
TZNAME:EET
DTSTART:20261025T010000
END:STANDARD
BEGIN:DAYLIGHT
TZOFFSETFROM:+0200
TZOFFSETTO:+0300
TZNAME:EEST
DTSTART:20270328T010000
END:DAYLIGHT
BEGIN:STANDARD
TZOFFSETFROM:+0300
TZOFFSETTO:+0200
TZNAME:EET
DTSTART:20271031T010000
END:STANDARD
END:VTIMEZONE
BEGIN:VEVENT
DTSTART;VALUE=DATE:20260408
DTEND;VALUE=DATE:20260409
DTSTAMP:20260423T010130
CREATED:20260306T102514Z
LAST-MODIFIED:20260306T103752Z
UID:10009434-1775606400-1775692799@peranfood.com
SUMMARY:17
DESCRIPTION:Сніданок:Сирна тортилья з індичкою та омлетом. \nПерекус 1:Зефір полуничний з сублімованою ягодою. \nОбід:Курячі серця в тайському соусі з картопляним пюре. \nПерекус 2:Смузі ягода\, груша та слива. \nВечеря:Котлети із морепродуктів з рисом том-ям.
URL:https://peranfood.com/event/17/2026-04-08/
CATEGORIES:950 ккал
END:VEVENT
BEGIN:VEVENT
DTSTART;VALUE=DATE:20260408
DTEND;VALUE=DATE:20260409
DTSTAMP:20260423T010130
CREATED:20260306T102519Z
LAST-MODIFIED:20260306T103319Z
UID:10007562-1775606400-1775692799@peranfood.com
SUMMARY:4s
DESCRIPTION:Сніданок:\nСкрембл з лососем та гуакамоле. \nОбід:\nПерлова крупа з томленою яловичиною. \nВечеря:\nКурячий шашличок з картоплею Айдахо.\nСалат овочевий.
URL:https://peranfood.com/event/4s/2026-04-08/
CATEGORIES:Sport
END:VEVENT
BEGIN:VEVENT
DTSTART;VALUE=DATE:20260409
DTEND;VALUE=DATE:20260410
DTSTAMP:20260423T010130
CREATED:20260306T102514Z
LAST-MODIFIED:20260306T103806Z
UID:10009516-1775692800-1775779199@peranfood.com
SUMMARY:18
DESCRIPTION:Сніданок:Яйце По-Шотландськи. \nПерекус 1:Панакота з каркаде. \nОбід:Картопляний граніт з Болоньєзе. \nПерекус 2:Суп Том-ям з креветками та грибами Шиїтаке. \nВечеря:Котлети із качки з рисовою локшиною та грибами.
URL:https://peranfood.com/event/18/2026-04-09/
CATEGORIES:950 ккал
END:VEVENT
BEGIN:VEVENT
DTSTART;VALUE=DATE:20260409
DTEND;VALUE=DATE:20260410
DTSTAMP:20260423T010130
CREATED:20260306T102519Z
LAST-MODIFIED:20260306T103403Z
UID:10007872-1775692800-1775779199@peranfood.com
SUMMARY:5s
DESCRIPTION:Сніданок:\nСирно-кокосова запіканка з малиновим конфітюром.\nЯйце мариноване. \nОбід:\nКебаб із телятини з салатом та кус-кусом. \nВечеря:\nЗапечена курочка з птітімом та овочами.
URL:https://peranfood.com/event/5s/2026-04-09/
CATEGORIES:Sport
END:VEVENT
BEGIN:VEVENT
DTSTART;VALUE=DATE:20260410
DTEND;VALUE=DATE:20260411
DTSTAMP:20260423T010130
CREATED:20260306T102514Z
LAST-MODIFIED:20260306T103821Z
UID:10009598-1775779200-1775865599@peranfood.com
SUMMARY:19
DESCRIPTION:Сніданок:Шпинатні вафлі зі свіжим сиром та тунцем. \nПерекус 1:Батончик Баунті. \nОбід:Картопляні зрази з курячим рієтом. \nПерекус 2:Смузі ананас\, чорниця та м’ята. \nВечеря:Гречка по-Купецьки з грибами та курячими ковбасками з гірчицею.
URL:https://peranfood.com/event/19/2026-04-10/
CATEGORIES:950 ккал
END:VEVENT
BEGIN:VEVENT
DTSTART;VALUE=DATE:20260410
DTEND;VALUE=DATE:20260411
DTSTAMP:20260423T010130
CREATED:20260306T102519Z
LAST-MODIFIED:20260306T103457Z
UID:10008182-1775779200-1775865599@peranfood.com
SUMMARY:6s
DESCRIPTION:Сніданок:\nБургер з куркою та салатом. \nОбід:\nІндичка з зеленими овочами та бататом. \nВечеря:\nФіле сома з кіноа та свіжим салатом.
URL:https://peranfood.com/event/6s/2026-04-10/
CATEGORIES:Sport
END:VEVENT
BEGIN:VEVENT
DTSTART;VALUE=DATE:20260411
DTEND;VALUE=DATE:20260412
DTSTAMP:20260423T010130
CREATED:20260306T102514Z
LAST-MODIFIED:20260306T103835Z
UID:10009680-1775865600-1775951999@peranfood.com
SUMMARY:20
DESCRIPTION:Сніданок:Творожна піца з куркою. \nПерекус 1:Груша в глінтвейні з пармезановим кранчем та ванільним соусом. \nОбід:Біфштекс з сиром чедер та цукіні. \nПерекус 2:Зелений салат з соєвою спаржею\, броколі та ківі. \nВечеря:Бритонська шинка із індички з гірчичним соусом.
URL:https://peranfood.com/event/20/2026-04-11/
CATEGORIES:950 ккал
END:VEVENT
BEGIN:VEVENT
DTSTART;VALUE=DATE:20260411
DTEND;VALUE=DATE:20260412
DTSTAMP:20260423T010130
CREATED:20260306T102519Z
LAST-MODIFIED:20260306T103525Z
UID:10008491-1775865600-1775951999@peranfood.com
SUMMARY:7s
DESCRIPTION:Сніданок:\nОмлет з лососем та броколі. \nОбід:\nВітелло тоннато з амарантом та печеним перцем. \nВечеря:\nПюре з сочевиці з мітболами.\nСалат овочевий.
URL:https://peranfood.com/event/7s/2026-04-11/
CATEGORIES:Sport
END:VEVENT
BEGIN:VEVENT
DTSTART;VALUE=DATE:20260412
DTEND;VALUE=DATE:20260413
DTSTAMP:20260423T010130
CREATED:20260306T102517Z
LAST-MODIFIED:20260306T103853Z
UID:10009762-1775952000-1776038399@peranfood.com
SUMMARY:21
DESCRIPTION:Сніданок:Віденські вафлі із цукіні з пастрамі та яйцем. \nПерекус 1:Тирамісу. \nОбід:Вітелло тоннато з кіноа та печеним перцем. \nПерекус 2:Смузі гарбуз\, апельсин та кокосове молоко. \nВечеря:Курочка з овочами в томатному соусі та картопляним пюре.
URL:https://peranfood.com/event/21/2026-04-12/
CATEGORIES:950 ккал
END:VEVENT
BEGIN:VEVENT
DTSTART;VALUE=DATE:20260412
DTEND;VALUE=DATE:20260413
DTSTAMP:20260423T010130
CREATED:20260306T102519Z
LAST-MODIFIED:20260306T103609Z
UID:10008800-1775952000-1776038399@peranfood.com
SUMMARY:8s
DESCRIPTION:Сніданок:\nЗлаковий мафін з хумусом та овочами. \nОбід:\nКачині мітболи з полентою. \nВечеря:\nКреветки з японським рисом.
URL:https://peranfood.com/event/8s/2026-04-12/
CATEGORIES:Sport
END:VEVENT
BEGIN:VEVENT
DTSTART;VALUE=DATE:20260413
DTEND;VALUE=DATE:20260414
DTSTAMP:20260423T010130
CREATED:20260306T102517Z
LAST-MODIFIED:20260306T103909Z
UID:10009844-1776038400-1776124799@peranfood.com
SUMMARY:22
DESCRIPTION:Сніданок:Вівсяна каша з горіхами\, насінням та полуничним соусом. \nПерекус 1:Мімоза з тунцем. \nОбід:Пене з Білими грибами. \nПерекус 2:Смузі банан\, полуниця та ягоди. \nВечеря:Салат Цезар з куркою.
URL:https://peranfood.com/event/22/2026-04-13/
CATEGORIES:950 ккал
END:VEVENT
BEGIN:VEVENT
DTSTART;VALUE=DATE:20260413
DTEND;VALUE=DATE:20260414
DTSTAMP:20260423T010130
CREATED:20260306T102517Z
LAST-MODIFIED:20260306T104439Z
UID:10006382-1776038400-1776124799@peranfood.com
SUMMARY:1s
DESCRIPTION:Сніданок:\nВівсяна каша з горіхами\, насінням та полуничним соусом.\nОмлет з пармезаном. \nОбід:\nСтейк із лосося з рисом.\nСалат овочевий. \nВечеря:\nІндичка су-від з картопляним пюре.
URL:https://peranfood.com/event/1s/2026-04-13/
CATEGORIES:Sport
END:VEVENT
BEGIN:VEVENT
DTSTART;VALUE=DATE:20260414
DTEND;VALUE=DATE:20260415
DTSTAMP:20260423T010130
CREATED:20260306T102502Z
LAST-MODIFIED:20260306T103922Z
UID:10004590-1776124800-1776211199@peranfood.com
SUMMARY:1
DESCRIPTION:Сніданок:Бао з качкою та ферментованим салатом. \nПерекус 1:Тістечко Мурашник з цукатами. \nОбід:Мексиканські курячі котлети з гречкою. \nПерекус 2:Рибна юшка з лососем та сомом. \nВечеря:Салат з креветками\, дайконом та сиром Дор блю.
URL:https://peranfood.com/event/1/2026-04-14/
CATEGORIES:950 ккал
END:VEVENT
BEGIN:VEVENT
DTSTART;VALUE=DATE:20260414
DTEND;VALUE=DATE:20260415
DTSTAMP:20260423T010130
CREATED:20260306T102517Z
LAST-MODIFIED:20260306T104414Z
UID:10006942-1776124800-1776211199@peranfood.com
SUMMARY:2s
DESCRIPTION:Сніданок:\nГречка з яйцем та маринованим огірком. \nОбід:\nЛінгвіні з курячим філе.\nСалат овочевий. \nВечеря:\nОвочі на пару з яловичиною су-від та кус-кусом.
URL:https://peranfood.com/event/2s/2026-04-14/
CATEGORIES:Sport
END:VEVENT
BEGIN:VEVENT
DTSTART;VALUE=DATE:20260415
DTEND;VALUE=DATE:20260416
DTSTAMP:20260423T010130
CREATED:20260306T102502Z
LAST-MODIFIED:20260306T103032Z
UID:10006607-1776211200-1776297599@peranfood.com
SUMMARY:2
DESCRIPTION:Сніданок:Запечені сирники з лісовою ягодою. \nПерекус 1:Салат зі свіжих овочів з сиром Брі. \nОбід:Лазанья з індичкою та грибами. \nПерекус 2:Чай мате з фруктами та печивом Кантучіні. \nВечеря:Запечені ковбаски з тушкованою капустою.
URL:https://peranfood.com/event/2/2026-04-15/
CATEGORIES:950 ккал
END:VEVENT
BEGIN:VEVENT
DTSTART;VALUE=DATE:20260415
DTEND;VALUE=DATE:20260416
DTSTAMP:20260423T010130
CREATED:20260306T102517Z
LAST-MODIFIED:20260306T103248Z
UID:10007253-1776211200-1776297599@peranfood.com
SUMMARY:3s
DESCRIPTION:Сніданок:\nЗапечені сирники з лісовою ягодою. \nОбід:\nБулгур з куркою в томатному соусі.\nСалат овочевий. \nВечеря:\nКачина ніжка з бататом.
URL:https://peranfood.com/event/3s/2026-04-15/
CATEGORIES:Sport
END:VEVENT
BEGIN:VEVENT
DTSTART;VALUE=DATE:20260416
DTEND;VALUE=DATE:20260417
DTSTAMP:20260423T010130
CREATED:20260306T102502Z
LAST-MODIFIED:20260306T103054Z
UID:10006690-1776297600-1776383999@peranfood.com
SUMMARY:3
DESCRIPTION:Сніданок:Хешбраун з мусом із птиці та яйцем. \nПерекус 1:Чіа на банановому молоці з манго та маракуйя. \nОбід:Чкмерулі з кус-кусом. \nПерекус 2:Місо-суп з тофу та ламінаріями. \nВечеря:Салат Нісуаз з тунцем.
URL:https://peranfood.com/event/3/2026-04-16/
CATEGORIES:950 ккал
END:VEVENT
BEGIN:VEVENT
DTSTART;VALUE=DATE:20260416
DTEND;VALUE=DATE:20260417
DTSTAMP:20260423T010130
CREATED:20260306T102519Z
LAST-MODIFIED:20260306T103319Z
UID:10007563-1776297600-1776383999@peranfood.com
SUMMARY:4s
DESCRIPTION:Сніданок:\nСкрембл з лососем та гуакамоле. \nОбід:\nПерлова крупа з томленою яловичиною. \nВечеря:\nКурячий шашличок з картоплею Айдахо.\nСалат овочевий.
URL:https://peranfood.com/event/4s/2026-04-16/
CATEGORIES:Sport
END:VEVENT
BEGIN:VEVENT
DTSTART;VALUE=DATE:20260417
DTEND;VALUE=DATE:20260418
DTSTAMP:20260423T010130
CREATED:20260306T102502Z
LAST-MODIFIED:20260306T103111Z
UID:10006773-1776384000-1776470399@peranfood.com
SUMMARY:4
DESCRIPTION:Сніданок:Вівсянка з курячим філе су-від та яйцем. \nПерекус 1:Червоний борщ з копченою сметаною. \nОбід:Качині мітболи з пастою птітім та грибами. \nПерекус 2:Смузі Ананас\, малина\, апельсин. \nВечеря:Оселедець маринований з картоплею та домашнім салатом.
URL:https://peranfood.com/event/4/2026-04-17/
CATEGORIES:950 ккал
END:VEVENT
BEGIN:VEVENT
DTSTART;VALUE=DATE:20260417
DTEND;VALUE=DATE:20260418
DTSTAMP:20260423T010130
CREATED:20260306T102519Z
LAST-MODIFIED:20260306T103403Z
UID:10007873-1776384000-1776470399@peranfood.com
SUMMARY:5s
DESCRIPTION:Сніданок:\nСирно-кокосова запіканка з малиновим конфітюром.\nЯйце мариноване. \nОбід:\nКебаб із телятини з салатом та кус-кусом. \nВечеря:\nЗапечена курочка з птітімом та овочами.
URL:https://peranfood.com/event/5s/2026-04-17/
CATEGORIES:Sport
END:VEVENT
BEGIN:VEVENT
DTSTART;VALUE=DATE:20260418
DTEND;VALUE=DATE:20260419
DTSTAMP:20260423T010130
CREATED:20260306T102502Z
LAST-MODIFIED:20260306T103128Z
UID:10006856-1776470400-1776556799@peranfood.com
SUMMARY:5
DESCRIPTION:Сніданок:Крок мадам. \nПерекус 1:Пиріг з яблуком та корицею. \nОбід:Узбецький плов. \nПерекус 2:Суп з сочевиці з броколі та підкопченою куркою. \nВечеря:Салат з морепродуктами та кунжутно-трюфельним соусом.
URL:https://peranfood.com/event/5/2026-04-18/
CATEGORIES:950 ккал
END:VEVENT
BEGIN:VEVENT
DTSTART;VALUE=DATE:20260418
DTEND;VALUE=DATE:20260419
DTSTAMP:20260423T010130
CREATED:20260306T102519Z
LAST-MODIFIED:20260306T103457Z
UID:10008183-1776470400-1776556799@peranfood.com
SUMMARY:6s
DESCRIPTION:Сніданок:\nБургер з куркою та салатом. \nОбід:\nІндичка з зеленими овочами та бататом. \nВечеря:\nФіле сома з кіноа та свіжим салатом.
URL:https://peranfood.com/event/6s/2026-04-18/
CATEGORIES:Sport
END:VEVENT
BEGIN:VEVENT
DTSTART;VALUE=DATE:20260419
DTEND;VALUE=DATE:20260420
DTSTAMP:20260423T010130
CREATED:20260306T102504Z
LAST-MODIFIED:20260306T103232Z
UID:10007167-1776556800-1776643199@peranfood.com
SUMMARY:6
DESCRIPTION:Сніданок:Сирно-кокосова запіканка з малиновим конфітюром. \nПерекус 1:Салат овочевий. \nОбід:Тефтелі із риби з гречкою та соусом місо. \nПерекус 2:Морс ягідний. \nВечеря:Кесаділья з куркою та овочами.
URL:https://peranfood.com/event/6/2026-04-19/
CATEGORIES:950 ккал
END:VEVENT
BEGIN:VEVENT
DTSTART;VALUE=DATE:20260419
DTEND;VALUE=DATE:20260420
DTSTAMP:20260423T010130
CREATED:20260306T102519Z
LAST-MODIFIED:20260306T103525Z
UID:10008492-1776556800-1776643199@peranfood.com
SUMMARY:7s
DESCRIPTION:Сніданок:\nОмлет з лососем та броколі. \nОбід:\nВітелло тоннато з амарантом та печеним перцем. \nВечеря:\nПюре з сочевиці з мітболами.\nСалат овочевий.
URL:https://peranfood.com/event/7s/2026-04-19/
CATEGORIES:Sport
END:VEVENT
BEGIN:VEVENT
DTSTART;VALUE=DATE:20260420
DTEND;VALUE=DATE:20260421
DTSTAMP:20260423T010130
CREATED:20260306T102504Z
LAST-MODIFIED:20260306T103304Z
UID:10007478-1776643200-1776729599@peranfood.com
SUMMARY:7
DESCRIPTION:Сніданок:Пате з курячої печінки з ялинковими шишками. \nПерекус 1:Сінабон з маком. \nОбід:Куряче стегно з печеними овочами. \nПерекус 2:Солянка. \nВечеря:Салат Марс з тунцем.
URL:https://peranfood.com/event/7/2026-04-20/
CATEGORIES:950 ккал
END:VEVENT
BEGIN:VEVENT
DTSTART;VALUE=DATE:20260420
DTEND;VALUE=DATE:20260421
DTSTAMP:20260423T010130
CREATED:20260306T102519Z
LAST-MODIFIED:20260306T103609Z
UID:10008801-1776643200-1776729599@peranfood.com
SUMMARY:8s
DESCRIPTION:Сніданок:\nЗлаковий мафін з хумусом та овочами. \nОбід:\nКачині мітболи з полентою. \nВечеря:\nКреветки з японським рисом.
URL:https://peranfood.com/event/8s/2026-04-20/
CATEGORIES:Sport
END:VEVENT
BEGIN:VEVENT
DTSTART;VALUE=DATE:20260421
DTEND;VALUE=DATE:20260422
DTSTAMP:20260423T010130
CREATED:20260306T102504Z
LAST-MODIFIED:20260306T103334Z
UID:10007788-1776729600-1776815999@peranfood.com
SUMMARY:8
DESCRIPTION:Сніданок:Англійський сніданок. \nПерекус 1:Онігірі з лососем та крем-сиром. \nОбід:Бограч з копченою сметаною. \nПерекус 2:Смузі ягода\, груша та м’ята. \nВечеря:Качка з гречаною локшиною та шіїтаке.
URL:https://peranfood.com/event/8/2026-04-21/
CATEGORIES:950 ккал
END:VEVENT
BEGIN:VEVENT
DTSTART;VALUE=DATE:20260421
DTEND;VALUE=DATE:20260422
DTSTAMP:20260423T010130
CREATED:20260306T102517Z
LAST-MODIFIED:20260306T104439Z
UID:10006383-1776729600-1776815999@peranfood.com
SUMMARY:1s
DESCRIPTION:Сніданок:\nВівсяна каша з горіхами\, насінням та полуничним соусом.\nОмлет з пармезаном. \nОбід:\nСтейк із лосося з рисом.\nСалат овочевий. \nВечеря:\nІндичка су-від з картопляним пюре.
URL:https://peranfood.com/event/1s/2026-04-21/
CATEGORIES:Sport
END:VEVENT
BEGIN:VEVENT
DTSTART;VALUE=DATE:20260422
DTEND;VALUE=DATE:20260423
DTSTAMP:20260423T010130
CREATED:20260306T102504Z
LAST-MODIFIED:20260306T103426Z
UID:10008098-1776816000-1776902399@peranfood.com
SUMMARY:9
DESCRIPTION:Сніданок:Валійський пиріг з індичкою\, грибами та томатами. \nПерекус 1:Наполеон з печеною сливою. \nОбід:Куряча печінка з глазурованим яблуком та кус-кусом. \nПерекус 2:Смузі вишня\, манго\, ананас. \nВечеря:Салат з лососем Гравлакс та цитрусовим дресінгом.
URL:https://peranfood.com/event/9/2026-04-22/
CATEGORIES:950 ккал
END:VEVENT
BEGIN:VEVENT
DTSTART;VALUE=DATE:20260422
DTEND;VALUE=DATE:20260423
DTSTAMP:20260423T010130
CREATED:20260306T102517Z
LAST-MODIFIED:20260306T104414Z
UID:10006943-1776816000-1776902399@peranfood.com
SUMMARY:2s
DESCRIPTION:Сніданок:\nГречка з яйцем та маринованим огірком. \nОбід:\nЛінгвіні з курячим філе.\nСалат овочевий. \nВечеря:\nОвочі на пару з яловичиною су-від та кус-кусом.
URL:https://peranfood.com/event/2s/2026-04-22/
CATEGORIES:Sport
END:VEVENT
END:VCALENDAR