BEGIN:VCALENDAR
VERSION:2.0
PRODID:-//Peranfood - доставка здорового харчування - ECPv6.15.20//NONSGML v1.0//EN
CALSCALE:GREGORIAN
METHOD:PUBLISH
X-ORIGINAL-URL:https://peranfood.com
X-WR-CALDESC:Події за Peranfood - доставка здорового харчування
REFRESH-INTERVAL;VALUE=DURATION:PT1H
X-Robots-Tag:noindex
X-PUBLISHED-TTL:PT1H
BEGIN:VTIMEZONE
TZID:Europe/Kiev
BEGIN:DAYLIGHT
TZOFFSETFROM:+0200
TZOFFSETTO:+0300
TZNAME:EEST
DTSTART:20250330T010000
END:DAYLIGHT
BEGIN:STANDARD
TZOFFSETFROM:+0300
TZOFFSETTO:+0200
TZNAME:EET
DTSTART:20251026T010000
END:STANDARD
BEGIN:DAYLIGHT
TZOFFSETFROM:+0200
TZOFFSETTO:+0300
TZNAME:EEST
DTSTART:20260329T010000
END:DAYLIGHT
BEGIN:STANDARD
TZOFFSETFROM:+0300
TZOFFSETTO:+0200
TZNAME:EET
DTSTART:20261025T010000
END:STANDARD
BEGIN:DAYLIGHT
TZOFFSETFROM:+0200
TZOFFSETTO:+0300
TZNAME:EEST
DTSTART:20270328T010000
END:DAYLIGHT
BEGIN:STANDARD
TZOFFSETFROM:+0300
TZOFFSETTO:+0200
TZNAME:EET
DTSTART:20271031T010000
END:STANDARD
END:VTIMEZONE
BEGIN:VEVENT
DTSTART;VALUE=DATE:20260618
DTEND;VALUE=DATE:20260619
DTSTAMP:20260423T121307
CREATED:20260306T102517Z
LAST-MODIFIED:20260306T103248Z
UID:10007261-1781740800-1781827199@peranfood.com
SUMMARY:3s
DESCRIPTION:Сніданок:\nЗапечені сирники з лісовою ягодою. \nОбід:\nБулгур з куркою в томатному соусі.\nСалат овочевий. \nВечеря:\nКачина ніжка з бататом.
URL:https://peranfood.com/event/3s/2026-06-18/
CATEGORIES:Sport
END:VEVENT
BEGIN:VEVENT
DTSTART;VALUE=DATE:20260618
DTEND;VALUE=DATE:20260619
DTSTAMP:20260423T121307
CREATED:20260306T102517Z
LAST-MODIFIED:20260306T103909Z
UID:10009847-1781740800-1781827199@peranfood.com
SUMMARY:22
DESCRIPTION:Сніданок:Вівсяна каша з горіхами\, насінням та полуничним соусом. \nПерекус 1:Мімоза з тунцем. \nОбід:Пене з Білими грибами. \nПерекус 2:Смузі банан\, полуниця та ягоди. \nВечеря:Салат Цезар з куркою.
URL:https://peranfood.com/event/22/2026-06-18/
CATEGORIES:950 ккал
END:VEVENT
BEGIN:VEVENT
DTSTART;VALUE=DATE:20260619
DTEND;VALUE=DATE:20260620
DTSTAMP:20260423T121307
CREATED:20260306T102502Z
LAST-MODIFIED:20260306T103922Z
UID:10004656-1781827200-1781913599@peranfood.com
SUMMARY:1
DESCRIPTION:Сніданок:Бао з качкою та ферментованим салатом. \nПерекус 1:Тістечко Мурашник з цукатами. \nОбід:Мексиканські курячі котлети з гречкою. \nПерекус 2:Рибна юшка з лососем та сомом. \nВечеря:Салат з креветками\, дайконом та сиром Дор блю.
URL:https://peranfood.com/event/1/2026-06-19/
CATEGORIES:950 ккал
END:VEVENT
BEGIN:VEVENT
DTSTART;VALUE=DATE:20260619
DTEND;VALUE=DATE:20260620
DTSTAMP:20260423T121307
CREATED:20260306T102519Z
LAST-MODIFIED:20260306T103319Z
UID:10007571-1781827200-1781913599@peranfood.com
SUMMARY:4s
DESCRIPTION:Сніданок:\nСкрембл з лососем та гуакамоле. \nОбід:\nПерлова крупа з томленою яловичиною. \nВечеря:\nКурячий шашличок з картоплею Айдахо.\nСалат овочевий.
URL:https://peranfood.com/event/4s/2026-06-19/
CATEGORIES:Sport
END:VEVENT
BEGIN:VEVENT
DTSTART;VALUE=DATE:20260620
DTEND;VALUE=DATE:20260621
DTSTAMP:20260423T121307
CREATED:20260306T102502Z
LAST-MODIFIED:20260306T103032Z
UID:10006610-1781913600-1781999999@peranfood.com
SUMMARY:2
DESCRIPTION:Сніданок:Запечені сирники з лісовою ягодою. \nПерекус 1:Салат зі свіжих овочів з сиром Брі. \nОбід:Лазанья з індичкою та грибами. \nПерекус 2:Чай мате з фруктами та печивом Кантучіні. \nВечеря:Запечені ковбаски з тушкованою капустою.
URL:https://peranfood.com/event/2/2026-06-20/
CATEGORIES:950 ккал
END:VEVENT
BEGIN:VEVENT
DTSTART;VALUE=DATE:20260620
DTEND;VALUE=DATE:20260621
DTSTAMP:20260423T121307
CREATED:20260306T102519Z
LAST-MODIFIED:20260306T103403Z
UID:10007881-1781913600-1781999999@peranfood.com
SUMMARY:5s
DESCRIPTION:Сніданок:\nСирно-кокосова запіканка з малиновим конфітюром.\nЯйце мариноване. \nОбід:\nКебаб із телятини з салатом та кус-кусом. \nВечеря:\nЗапечена курочка з птітімом та овочами.
URL:https://peranfood.com/event/5s/2026-06-20/
CATEGORIES:Sport
END:VEVENT
BEGIN:VEVENT
DTSTART;VALUE=DATE:20260621
DTEND;VALUE=DATE:20260622
DTSTAMP:20260423T121307
CREATED:20260306T102502Z
LAST-MODIFIED:20260306T103054Z
UID:10006693-1782000000-1782086399@peranfood.com
SUMMARY:3
DESCRIPTION:Сніданок:Хешбраун з мусом із птиці та яйцем. \nПерекус 1:Чіа на банановому молоці з манго та маракуйя. \nОбід:Чкмерулі з кус-кусом. \nПерекус 2:Місо-суп з тофу та ламінаріями. \nВечеря:Салат Нісуаз з тунцем.
URL:https://peranfood.com/event/3/2026-06-21/
CATEGORIES:950 ккал
END:VEVENT
BEGIN:VEVENT
DTSTART;VALUE=DATE:20260621
DTEND;VALUE=DATE:20260622
DTSTAMP:20260423T121307
CREATED:20260306T102519Z
LAST-MODIFIED:20260306T103457Z
UID:10008191-1782000000-1782086399@peranfood.com
SUMMARY:6s
DESCRIPTION:Сніданок:\nБургер з куркою та салатом. \nОбід:\nІндичка з зеленими овочами та бататом. \nВечеря:\nФіле сома з кіноа та свіжим салатом.
URL:https://peranfood.com/event/6s/2026-06-21/
CATEGORIES:Sport
END:VEVENT
BEGIN:VEVENT
DTSTART;VALUE=DATE:20260622
DTEND;VALUE=DATE:20260623
DTSTAMP:20260423T121307
CREATED:20260306T102502Z
LAST-MODIFIED:20260306T103111Z
UID:10006776-1782086400-1782172799@peranfood.com
SUMMARY:4
DESCRIPTION:Сніданок:Вівсянка з курячим філе су-від та яйцем. \nПерекус 1:Червоний борщ з копченою сметаною. \nОбід:Качині мітболи з пастою птітім та грибами. \nПерекус 2:Смузі Ананас\, малина\, апельсин. \nВечеря:Оселедець маринований з картоплею та домашнім салатом.
URL:https://peranfood.com/event/4/2026-06-22/
CATEGORIES:950 ккал
END:VEVENT
BEGIN:VEVENT
DTSTART;VALUE=DATE:20260622
DTEND;VALUE=DATE:20260623
DTSTAMP:20260423T121307
CREATED:20260306T102519Z
LAST-MODIFIED:20260306T103525Z
UID:10008500-1782086400-1782172799@peranfood.com
SUMMARY:7s
DESCRIPTION:Сніданок:\nОмлет з лососем та броколі. \nОбід:\nВітелло тоннато з амарантом та печеним перцем. \nВечеря:\nПюре з сочевиці з мітболами.\nСалат овочевий.
URL:https://peranfood.com/event/7s/2026-06-22/
CATEGORIES:Sport
END:VEVENT
BEGIN:VEVENT
DTSTART;VALUE=DATE:20260623
DTEND;VALUE=DATE:20260624
DTSTAMP:20260423T121307
CREATED:20260306T102502Z
LAST-MODIFIED:20260306T103128Z
UID:10006859-1782172800-1782259199@peranfood.com
SUMMARY:5
DESCRIPTION:Сніданок:Крок мадам. \nПерекус 1:Пиріг з яблуком та корицею. \nОбід:Узбецький плов. \nПерекус 2:Суп з сочевиці з броколі та підкопченою куркою. \nВечеря:Салат з морепродуктами та кунжутно-трюфельним соусом.
URL:https://peranfood.com/event/5/2026-06-23/
CATEGORIES:950 ккал
END:VEVENT
BEGIN:VEVENT
DTSTART;VALUE=DATE:20260623
DTEND;VALUE=DATE:20260624
DTSTAMP:20260423T121307
CREATED:20260306T102519Z
LAST-MODIFIED:20260306T103609Z
UID:10008809-1782172800-1782259199@peranfood.com
SUMMARY:8s
DESCRIPTION:Сніданок:\nЗлаковий мафін з хумусом та овочами. \nОбід:\nКачині мітболи з полентою. \nВечеря:\nКреветки з японським рисом.
URL:https://peranfood.com/event/8s/2026-06-23/
CATEGORIES:Sport
END:VEVENT
BEGIN:VEVENT
DTSTART;VALUE=DATE:20260624
DTEND;VALUE=DATE:20260625
DTSTAMP:20260423T121307
CREATED:20260306T102504Z
LAST-MODIFIED:20260306T103232Z
UID:10007170-1782259200-1782345599@peranfood.com
SUMMARY:6
DESCRIPTION:Сніданок:Сирно-кокосова запіканка з малиновим конфітюром. \nПерекус 1:Салат овочевий. \nОбід:Тефтелі із риби з гречкою та соусом місо. \nПерекус 2:Морс ягідний. \nВечеря:Кесаділья з куркою та овочами.
URL:https://peranfood.com/event/6/2026-06-24/
CATEGORIES:950 ккал
END:VEVENT
BEGIN:VEVENT
DTSTART;VALUE=DATE:20260624
DTEND;VALUE=DATE:20260625
DTSTAMP:20260423T121307
CREATED:20260306T102517Z
LAST-MODIFIED:20260306T104439Z
UID:10006391-1782259200-1782345599@peranfood.com
SUMMARY:1s
DESCRIPTION:Сніданок:\nВівсяна каша з горіхами\, насінням та полуничним соусом.\nОмлет з пармезаном. \nОбід:\nСтейк із лосося з рисом.\nСалат овочевий. \nВечеря:\nІндичка су-від з картопляним пюре.
URL:https://peranfood.com/event/1s/2026-06-24/
CATEGORIES:Sport
END:VEVENT
BEGIN:VEVENT
DTSTART;VALUE=DATE:20260625
DTEND;VALUE=DATE:20260626
DTSTAMP:20260423T121307
CREATED:20260306T102504Z
LAST-MODIFIED:20260306T103304Z
UID:10007481-1782345600-1782431999@peranfood.com
SUMMARY:7
DESCRIPTION:Сніданок:Пате з курячої печінки з ялинковими шишками. \nПерекус 1:Сінабон з маком. \nОбід:Куряче стегно з печеними овочами. \nПерекус 2:Солянка. \nВечеря:Салат Марс з тунцем.
URL:https://peranfood.com/event/7/2026-06-25/
CATEGORIES:950 ккал
END:VEVENT
BEGIN:VEVENT
DTSTART;VALUE=DATE:20260625
DTEND;VALUE=DATE:20260626
DTSTAMP:20260423T121307
CREATED:20260306T102517Z
LAST-MODIFIED:20260306T104414Z
UID:10006951-1782345600-1782431999@peranfood.com
SUMMARY:2s
DESCRIPTION:Сніданок:\nГречка з яйцем та маринованим огірком. \nОбід:\nЛінгвіні з курячим філе.\nСалат овочевий. \nВечеря:\nОвочі на пару з яловичиною су-від та кус-кусом.
URL:https://peranfood.com/event/2s/2026-06-25/
CATEGORIES:Sport
END:VEVENT
BEGIN:VEVENT
DTSTART;VALUE=DATE:20260626
DTEND;VALUE=DATE:20260627
DTSTAMP:20260423T121307
CREATED:20260306T102504Z
LAST-MODIFIED:20260306T103334Z
UID:10007791-1782432000-1782518399@peranfood.com
SUMMARY:8
DESCRIPTION:Сніданок:Англійський сніданок. \nПерекус 1:Онігірі з лососем та крем-сиром. \nОбід:Бограч з копченою сметаною. \nПерекус 2:Смузі ягода\, груша та м’ята. \nВечеря:Качка з гречаною локшиною та шіїтаке.
URL:https://peranfood.com/event/8/2026-06-26/
CATEGORIES:950 ккал
END:VEVENT
BEGIN:VEVENT
DTSTART;VALUE=DATE:20260626
DTEND;VALUE=DATE:20260627
DTSTAMP:20260423T121307
CREATED:20260306T102517Z
LAST-MODIFIED:20260306T103248Z
UID:10007262-1782432000-1782518399@peranfood.com
SUMMARY:3s
DESCRIPTION:Сніданок:\nЗапечені сирники з лісовою ягодою. \nОбід:\nБулгур з куркою в томатному соусі.\nСалат овочевий. \nВечеря:\nКачина ніжка з бататом.
URL:https://peranfood.com/event/3s/2026-06-26/
CATEGORIES:Sport
END:VEVENT
BEGIN:VEVENT
DTSTART;VALUE=DATE:20260627
DTEND;VALUE=DATE:20260628
DTSTAMP:20260423T121307
CREATED:20260306T102504Z
LAST-MODIFIED:20260306T103426Z
UID:10008101-1782518400-1782604799@peranfood.com
SUMMARY:9
DESCRIPTION:Сніданок:Валійський пиріг з індичкою\, грибами та томатами. \nПерекус 1:Наполеон з печеною сливою. \nОбід:Куряча печінка з глазурованим яблуком та кус-кусом. \nПерекус 2:Смузі вишня\, манго\, ананас. \nВечеря:Салат з лососем Гравлакс та цитрусовим дресінгом.
URL:https://peranfood.com/event/9/2026-06-27/
CATEGORIES:950 ккал
END:VEVENT
BEGIN:VEVENT
DTSTART;VALUE=DATE:20260627
DTEND;VALUE=DATE:20260628
DTSTAMP:20260423T121307
CREATED:20260306T102519Z
LAST-MODIFIED:20260306T103319Z
UID:10007572-1782518400-1782604799@peranfood.com
SUMMARY:4s
DESCRIPTION:Сніданок:\nСкрембл з лососем та гуакамоле. \nОбід:\nПерлова крупа з томленою яловичиною. \nВечеря:\nКурячий шашличок з картоплею Айдахо.\nСалат овочевий.
URL:https://peranfood.com/event/4s/2026-06-27/
CATEGORIES:Sport
END:VEVENT
BEGIN:VEVENT
DTSTART;VALUE=DATE:20260628
DTEND;VALUE=DATE:20260629
DTSTAMP:20260423T121307
CREATED:20260306T102504Z
LAST-MODIFIED:20260306T103512Z
UID:10008410-1782604800-1782691199@peranfood.com
SUMMARY:10
DESCRIPTION:Сніданок:Рієт з індички з маринованою морквою та гірчичним соусом. \nПерекус 1:Гарбузовий мафін. \nОбід:Куряче м’ясо в мацоні з соусом тікка масала та рисом. \nПерекус 2:Курячий бульйон з куркою і відвареним яйцем. \nВечеря:Боул вечірній.
URL:https://peranfood.com/event/10/2026-06-28/
CATEGORIES:950 ккал
END:VEVENT
BEGIN:VEVENT
DTSTART;VALUE=DATE:20260628
DTEND;VALUE=DATE:20260629
DTSTAMP:20260423T121307
CREATED:20260306T102519Z
LAST-MODIFIED:20260306T103403Z
UID:10007882-1782604800-1782691199@peranfood.com
SUMMARY:5s
DESCRIPTION:Сніданок:\nСирно-кокосова запіканка з малиновим конфітюром.\nЯйце мариноване. \nОбід:\nКебаб із телятини з салатом та кус-кусом. \nВечеря:\nЗапечена курочка з птітімом та овочами.
URL:https://peranfood.com/event/5s/2026-06-28/
CATEGORIES:Sport
END:VEVENT
BEGIN:VEVENT
DTSTART;VALUE=DATE:20260629
DTEND;VALUE=DATE:20260630
DTSTAMP:20260423T121307
CREATED:20260306T102504Z
LAST-MODIFIED:20260306T103552Z
UID:10008719-1782691200-1782777599@peranfood.com
SUMMARY:11
DESCRIPTION:Сніданок:Млинці з куркою та соусом айолі. \nПерекус 1:Гарбузовий чизкейк. \nОбід:Яловичі мітболи з томатним соусом та картопляним пюре. \nПерекус 2:Смузі малина\, апельсин\, груша. \nВечеря:Ліниві голубці в сметанному соусі.
URL:https://peranfood.com/event/11/2026-06-29/
CATEGORIES:950 ккал
END:VEVENT
BEGIN:VEVENT
DTSTART;VALUE=DATE:20260629
DTEND;VALUE=DATE:20260630
DTSTAMP:20260423T121307
CREATED:20260306T102519Z
LAST-MODIFIED:20260306T103457Z
UID:10008192-1782691200-1782777599@peranfood.com
SUMMARY:6s
DESCRIPTION:Сніданок:\nБургер з куркою та салатом. \nОбід:\nІндичка з зеленими овочами та бататом. \nВечеря:\nФіле сома з кіноа та свіжим салатом.
URL:https://peranfood.com/event/6s/2026-06-29/
CATEGORIES:Sport
END:VEVENT
BEGIN:VEVENT
DTSTART;VALUE=DATE:20260630
DTEND;VALUE=DATE:20260701
DTSTAMP:20260423T121307
CREATED:20260306T102505Z
LAST-MODIFIED:20260306T103631Z
UID:10009028-1782777600-1782863999@peranfood.com
SUMMARY:12
DESCRIPTION:Сніданок:Рисовий чебурек з куркою та сиром. \nПерекус 1:Салат овочевий. \nОбід:Канелоне з морепродуктами з соусом Горгонзола. \nПерекус 2:Суп гречаний з качкою та овочами. \nВечеря:Паргіт з орзотто в соусі вермут.
URL:https://peranfood.com/event/12/2026-06-30/
CATEGORIES:950 ккал
END:VEVENT
BEGIN:VEVENT
DTSTART;VALUE=DATE:20260630
DTEND;VALUE=DATE:20260701
DTSTAMP:20260423T121307
CREATED:20260306T102519Z
LAST-MODIFIED:20260306T103525Z
UID:10008501-1782777600-1782863999@peranfood.com
SUMMARY:7s
DESCRIPTION:Сніданок:\nОмлет з лососем та броколі. \nОбід:\nВітелло тоннато з амарантом та печеним перцем. \nВечеря:\nПюре з сочевиці з мітболами.\nСалат овочевий.
URL:https://peranfood.com/event/7s/2026-06-30/
CATEGORIES:Sport
END:VEVENT
BEGIN:VEVENT
DTSTART;VALUE=DATE:20260701
DTEND;VALUE=DATE:20260702
DTSTAMP:20260423T121307
CREATED:20260306T102505Z
LAST-MODIFIED:20260306T103651Z
UID:10009110-1782864000-1782950399@peranfood.com
SUMMARY:13
DESCRIPTION:Сніданок:Омлет з чівапчічі з курки та салатом. \nПерекус 1:Салат вінегрет. \nОбід:Лінгвіні з курячим м’ясом в соусі карбонара. \nПерекус 2:Какао рулет з вишнею. \nВечеря:Онігірі з лососем та крем-сиром.
URL:https://peranfood.com/event/13/2026-07-01/
CATEGORIES:950 ккал
END:VEVENT
BEGIN:VEVENT
DTSTART;VALUE=DATE:20260701
DTEND;VALUE=DATE:20260702
DTSTAMP:20260423T121307
CREATED:20260306T102519Z
LAST-MODIFIED:20260306T103609Z
UID:10008810-1782864000-1782950399@peranfood.com
SUMMARY:8s
DESCRIPTION:Сніданок:\nЗлаковий мафін з хумусом та овочами. \nОбід:\nКачині мітболи з полентою. \nВечеря:\nКреветки з японським рисом.
URL:https://peranfood.com/event/8s/2026-07-01/
CATEGORIES:Sport
END:VEVENT
BEGIN:VEVENT
DTSTART;VALUE=DATE:20260702
DTEND;VALUE=DATE:20260703
DTSTAMP:20260423T121307
CREATED:20260306T102505Z
LAST-MODIFIED:20260306T103709Z
UID:10009192-1782950400-1783036799@peranfood.com
SUMMARY:14
DESCRIPTION:Сніданок:Бургер з куркою та салатом Коул Слоу. \nПерекус 1:Брауні з вишнею. \nОбід:Курячий шніцель з картоплею. \nПерекус 2:Форшмак. \nВечеря:Салат з в’яленою куркою та фенхелем.
URL:https://peranfood.com/event/14/2026-07-02/
CATEGORIES:950 ккал
END:VEVENT
BEGIN:VEVENT
DTSTART;VALUE=DATE:20260702
DTEND;VALUE=DATE:20260703
DTSTAMP:20260423T121307
CREATED:20260306T102517Z
LAST-MODIFIED:20260306T104439Z
UID:10006392-1782950400-1783036799@peranfood.com
SUMMARY:1s
DESCRIPTION:Сніданок:\nВівсяна каша з горіхами\, насінням та полуничним соусом.\nОмлет з пармезаном. \nОбід:\nСтейк із лосося з рисом.\nСалат овочевий. \nВечеря:\nІндичка су-від з картопляним пюре.
URL:https://peranfood.com/event/1s/2026-07-02/
CATEGORIES:Sport
END:VEVENT
END:VCALENDAR