BEGIN:VCALENDAR
VERSION:2.0
PRODID:-//Peranfood - доставка здорового харчування - ECPv6.15.20//NONSGML v1.0//EN
CALSCALE:GREGORIAN
METHOD:PUBLISH
X-ORIGINAL-URL:https://peranfood.com
X-WR-CALDESC:Події за Peranfood - доставка здорового харчування
REFRESH-INTERVAL;VALUE=DURATION:PT1H
X-Robots-Tag:noindex
X-PUBLISHED-TTL:PT1H
BEGIN:VTIMEZONE
TZID:Europe/Kiev
BEGIN:DAYLIGHT
TZOFFSETFROM:+0200
TZOFFSETTO:+0300
TZNAME:EEST
DTSTART:20250330T010000
END:DAYLIGHT
BEGIN:STANDARD
TZOFFSETFROM:+0300
TZOFFSETTO:+0200
TZNAME:EET
DTSTART:20251026T010000
END:STANDARD
BEGIN:DAYLIGHT
TZOFFSETFROM:+0200
TZOFFSETTO:+0300
TZNAME:EEST
DTSTART:20260329T010000
END:DAYLIGHT
BEGIN:STANDARD
TZOFFSETFROM:+0300
TZOFFSETTO:+0200
TZNAME:EET
DTSTART:20261025T010000
END:STANDARD
BEGIN:DAYLIGHT
TZOFFSETFROM:+0200
TZOFFSETTO:+0300
TZNAME:EEST
DTSTART:20270328T010000
END:DAYLIGHT
BEGIN:STANDARD
TZOFFSETFROM:+0300
TZOFFSETTO:+0200
TZNAME:EET
DTSTART:20271031T010000
END:STANDARD
END:VTIMEZONE
BEGIN:VEVENT
DTSTART;VALUE=DATE:20260429
DTEND;VALUE=DATE:20260430
DTSTAMP:20260422T182606
CREATED:20260306T102514Z
LAST-MODIFIED:20260306T103739Z
UID:10009353-1777420800-1777507199@peranfood.com
SUMMARY:16
DESCRIPTION:Сніданок:Скрембл з лососем та гуакамоле. \nПерекус 1:Запечений гарбуз з ванільним кранчем. \nОбід:Кебаб із телятини з салатом та сливовим соусом. \nПерекус 2:Суп Рамен з качкою та локшиною. \nВечеря:Паприка фарширована куркою та булгуром з сирним соусом.
URL:https://peranfood.com/event/16/2026-04-29/
CATEGORIES:950 ккал
END:VEVENT
BEGIN:VEVENT
DTSTART;VALUE=DATE:20260429
DTEND;VALUE=DATE:20260430
DTSTAMP:20260422T182606
CREATED:20260306T102517Z
LAST-MODIFIED:20260306T104439Z
UID:10006384-1777420800-1777507199@peranfood.com
SUMMARY:1s
DESCRIPTION:Сніданок:\nВівсяна каша з горіхами\, насінням та полуничним соусом.\nОмлет з пармезаном. \nОбід:\nСтейк із лосося з рисом.\nСалат овочевий. \nВечеря:\nІндичка су-від з картопляним пюре.
URL:https://peranfood.com/event/1s/2026-04-29/
CATEGORIES:Sport
END:VEVENT
END:VCALENDAR