BEGIN:VCALENDAR
VERSION:2.0
PRODID:-//Peranfood - доставка здорового харчування - ECPv6.15.20//NONSGML v1.0//EN
CALSCALE:GREGORIAN
METHOD:PUBLISH
X-WR-CALNAME:Peranfood - доставка здорового харчування
X-ORIGINAL-URL:https://peranfood.com
X-WR-CALDESC:Події за Peranfood - доставка здорового харчування
REFRESH-INTERVAL;VALUE=DURATION:PT1H
X-Robots-Tag:noindex
X-PUBLISHED-TTL:PT1H
BEGIN:VTIMEZONE
TZID:Europe/Kiev
BEGIN:DAYLIGHT
TZOFFSETFROM:+0200
TZOFFSETTO:+0300
TZNAME:EEST
DTSTART:20250330T010000
END:DAYLIGHT
BEGIN:STANDARD
TZOFFSETFROM:+0300
TZOFFSETTO:+0200
TZNAME:EET
DTSTART:20251026T010000
END:STANDARD
BEGIN:DAYLIGHT
TZOFFSETFROM:+0200
TZOFFSETTO:+0300
TZNAME:EEST
DTSTART:20260329T010000
END:DAYLIGHT
BEGIN:STANDARD
TZOFFSETFROM:+0300
TZOFFSETTO:+0200
TZNAME:EET
DTSTART:20261025T010000
END:STANDARD
BEGIN:DAYLIGHT
TZOFFSETFROM:+0200
TZOFFSETTO:+0300
TZNAME:EEST
DTSTART:20270328T010000
END:DAYLIGHT
BEGIN:STANDARD
TZOFFSETFROM:+0300
TZOFFSETTO:+0200
TZNAME:EET
DTSTART:20271031T010000
END:STANDARD
END:VTIMEZONE
BEGIN:VEVENT
DTSTART;VALUE=DATE:20260331
DTEND;VALUE=DATE:20260401
DTSTAMP:20260422T184850
CREATED:20260306T102504Z
LAST-MODIFIED:20260306T103426Z
UID:10008097-1774915200-1775001599@peranfood.com
SUMMARY:9
DESCRIPTION:Сніданок:Валійський пиріг з індичкою\, грибами та томатами. \nПерекус 1:Наполеон з печеною сливою. \nОбід:Куряча печінка з глазурованим яблуком та кус-кусом. \nПерекус 2:Смузі вишня\, манго\, ананас. \nВечеря:Салат з лососем Гравлакс та цитрусовим дресінгом.
URL:https://peranfood.com/event/9/2026-03-31/
CATEGORIES:950 ккал
END:VEVENT
BEGIN:VEVENT
DTSTART;VALUE=DATE:20260331
DTEND;VALUE=DATE:20260401
DTSTAMP:20260422T184850
CREATED:20260306T102519Z
LAST-MODIFIED:20260306T103319Z
UID:10007561-1774915200-1775001599@peranfood.com
SUMMARY:4s
DESCRIPTION:Сніданок:\nСкрембл з лососем та гуакамоле. \nОбід:\nПерлова крупа з томленою яловичиною. \nВечеря:\nКурячий шашличок з картоплею Айдахо.\nСалат овочевий.
URL:https://peranfood.com/event/4s/2026-03-31/
CATEGORIES:Sport
END:VEVENT
END:VCALENDAR