BEGIN:VCALENDAR
VERSION:2.0
PRODID:-//Peranfood - доставка здорового харчування - ECPv6.15.20//NONSGML v1.0//EN
CALSCALE:GREGORIAN
METHOD:PUBLISH
X-WR-CALNAME:Peranfood - доставка здорового харчування
X-ORIGINAL-URL:https://peranfood.com
X-WR-CALDESC:Події за Peranfood - доставка здорового харчування
REFRESH-INTERVAL;VALUE=DURATION:PT1H
X-Robots-Tag:noindex
X-PUBLISHED-TTL:PT1H
BEGIN:VTIMEZONE
TZID:Europe/Kiev
BEGIN:DAYLIGHT
TZOFFSETFROM:+0200
TZOFFSETTO:+0300
TZNAME:EEST
DTSTART:20250330T010000
END:DAYLIGHT
BEGIN:STANDARD
TZOFFSETFROM:+0300
TZOFFSETTO:+0200
TZNAME:EET
DTSTART:20251026T010000
END:STANDARD
BEGIN:DAYLIGHT
TZOFFSETFROM:+0200
TZOFFSETTO:+0300
TZNAME:EEST
DTSTART:20260329T010000
END:DAYLIGHT
BEGIN:STANDARD
TZOFFSETFROM:+0300
TZOFFSETTO:+0200
TZNAME:EET
DTSTART:20261025T010000
END:STANDARD
BEGIN:DAYLIGHT
TZOFFSETFROM:+0200
TZOFFSETTO:+0300
TZNAME:EEST
DTSTART:20270328T010000
END:DAYLIGHT
BEGIN:STANDARD
TZOFFSETFROM:+0300
TZOFFSETTO:+0200
TZNAME:EET
DTSTART:20271031T010000
END:STANDARD
END:VTIMEZONE
BEGIN:VEVENT
DTSTART;VALUE=DATE:20260329
DTEND;VALUE=DATE:20260331
DTSTAMP:20260422T200658
CREATED:20260306T102504Z
LAST-MODIFIED:20260306T103304Z
UID:10007477-1774742400-1774832399@peranfood.com
SUMMARY:7
DESCRIPTION:Сніданок:Пате з курячої печінки з ялинковими шишками. \nПерекус 1:Сінабон з маком. \nОбід:Куряче стегно з печеними овочами. \nПерекус 2:Солянка. \nВечеря:Салат Марс з тунцем.
URL:https://peranfood.com/event/7/2026-03-29/
CATEGORIES:950 ккал
END:VEVENT
BEGIN:VEVENT
DTSTART;VALUE=DATE:20260329
DTEND;VALUE=DATE:20260331
DTSTAMP:20260422T200658
CREATED:20260306T102517Z
LAST-MODIFIED:20260306T104414Z
UID:10006940-1774742400-1774832399@peranfood.com
SUMMARY:2s
DESCRIPTION:Сніданок:\nГречка з яйцем та маринованим огірком. \nОбід:\nЛінгвіні з курячим філе.\nСалат овочевий. \nВечеря:\nОвочі на пару з яловичиною су-від та кус-кусом.
URL:https://peranfood.com/event/2s/2026-03-29/
CATEGORIES:Sport
END:VEVENT
END:VCALENDAR